{"text_format":"1","workbook":"xlsx","n_sheets":6,"sheets":["登録名簿","①4.12(35回春季大会) ","②７．5（17回会長杯）","③9.6ふれあい交流会","④１０．１1（１2回スポレク杯）","⑤１１．２2（３6回秋季大会）"],"not_rendered":{"charts":0,"images":0,"macros":0,"external_links":0,"defined_names":7,"comments":0,"pivot_tables":0},"unopened":[],"bounds":{"document_bytes":16777216,"sheet_cells":100000,"rows_first":2000,"rows_last":500,"rows_between":2000,"halvings":0,"cell_chars":16384,"cell_head_chars":4096},"cells_cut":0,"cells_raw":0,"read":"whole","date_system":"1900"}

{"sheet":"登録名簿","index":0,"n_rows":120,"n_cols":35,"rows_kept":120,"cut":false,"hidden":false,"merged":[[54,8,54,10],[55,8,55,10],[17,8,17,10],[11,8,11,10],[12,8,12,10],[13,8,13,10],[14,8,14,10],[15,8,15,10],[16,8,16,10],[29,8,29,10],[18,8,18,10],[19,8,19,10],[20,8,20,10],[32,8,32,10],[33,8,33,10],[21,8,21,10],[22,8,22,10],[23,8,23,10],[24,8,24,10],[25,8,25,10],[26,8,26,10],[27,8,27,10],[28,8,28,10],[30,8,30,10],[0,11,0,12],[5,31,5,34],[6,26,6,29],[6,31,6,34],[5,26,5,29],[5,19,5,22],[6,19,6,22],[7,21,9,21],[7,22,9,22],[7,24,9,24],[7,16,9,16],[5,14,5,17],[6,14,6,17],[6,9,6,12],[5,9,5,12],[7,33,9,33],[7,34,9,34],[4,19,4,22],[4,26,4,29],[4,31,4,34],[5,3,5,7],[6,3,6,7],[7,3,7,7],[1,1,1,3],[1,4,1,11],[3,1,3,2],[3,3,3,7],[7,14,9,14],[3,9,3,12],[9,2,9,3],[9,8,9,9],[4,14,4,17],[10,8,10,10],[7,26,9,26],[7,27,9,27],[7,28,9,28],[7,29,9,29],[7,31,9,31],[7,32,9,32],[7,17,9,17],[7,19,9,19],[7,20,9,20],[7,9,7,12],[7,15,9,15],[31,8,31,10],[59,8,59,10],[34,8,34,10],[35,8,35,10],[36,8,36,10],[37,8,37,10],[38,8,38,10],[39,8,39,10],[40,8,40,10],[41,8,41,10],[42,8,42,10],[43,8,43,10],[45,8,45,10],[46,8,46,10],[47,8,47,10],[48,8,48,10],[49,8,49,10],[44,8,44,10],[50,8,50,10],[56,8,56,10],[57,8,57,10],[58,8,58,10],[51,8,51,10],[52,8,52,10],[53,8,53,10],[15,2,15,3],[16,2,16,3],[17,2,17,3],[18,2,18,3],[19,2,19,3],[10,2,10,3],[11,2,11,3],[12,2,12,3],[13,2,13,3],[14,2,14,3],[25,2,25,3],[26,2,26,3],[27,2,27,3],[28,2,28,3],[29,2,29,3],[20,2,20,3],[21,2,21,3],[22,2,22,3],[23,2,23,3],[24,2,24,3],[35,2,35,3],[36,2,36,3],[37,2,37,3],[38,2,38,3],[39,2,39,3],[30,2,30,3],[31,2,31,3],[32,2,32,3],[33,2,33,3],[34,2,34,3],[45,2,45,3],[46,2,46,3],[47,2,47,3],[48,2,48,3],[49,2,49,3],[40,2,40,3],[41,2,41,3],[42,2,42,3],[43,2,43,3],[44,2,44,3],[55,2,55,3],[56,2,56,3],[57,2,57,3],[58,2,58,3],[59,2,59,3],[50,2,50,3],[51,2,51,3],[52,2,52,3],[53,2,53,3],[54,2,54,3]]}
[]
[null,"【令和8年度】",null,null,"金沢市中高年トリムバレ-ボ-ル連盟クラブ登録名簿"]
[]
[null,"クラブ名",null,null,null,null,null,null,"代表者"]
[null,null,null,null,null,null,null,null,null,null,null,null,null,null,"第３5回",null,null,null,null,"第１7回",null,null,null,null,"ふれあい",null,"第１2回",null,null,null,null,"第３6回"]
[null,null,"練習場所：",null,null,null,null,null,"代表者住所 ：　",null,null,null,null,null,"春季大会出場選手",null,null,null,null,"会長杯出場選手",null,null,null,null,"交流会",null,"スポレク大会出場選手",null,null,null,null,"秋季大会出場選手"]
[null,null,"練習曜日：",null,null,null,null,null,"TEL：",null,null,null,null,null,"2026-04-12",null,null,null,null,"2026-07-05",null,null,null,null,"2026-09-06",null,"2026-10-11",null,null,null,null,"2026-11-22"]
[null,null,"練習時間：",null,null,null,null,null,"mail：",null,null,null,null,null,"シルバー","ゴールドA","ゴールドB","ゴールドC",null,"シルバー","ゴールドA","ゴールドB","ゴールドC",null,"シルバー以上",null,"シルバー","ゴールドA","ゴールドB","ゴールドC",null,"シルバー","ゴールドA","ゴールドB","ゴールドC"]
[null,null,null,null,null,null,null,null,null,"2026-04-01","現在"]
["No","役員","氏　　　名",null,"性","生年月日","年齢","郵便番号","住　　　　　所",null,null,"電　　話","保険"]
[1,null,null,null,null,null,{"$f":"IF(F11=\"\",\"\",DATEDIF(F11,$J$9,\"Y\"))","v":""}]
[2,null,null,null,null,null,{"$f":"IF(F12=\"\",\"\",DATEDIF(F12,$J$9,\"Y\"))","v":""}]
[3,null,null,null,null,null,""]
[4,null,null,null,null,null,""]
[5,null,null,null,null,null,""]
[6,null,null,null,null,null,""]
[7,null,null,null,null,null,{"$f":"IF(F17=\"\",\"\",DATEDIF(F17,$J$9,\"Y\"))","v":""}]
[8,null,null,null,null,null,{"$f":"IF(F18=\"\",\"\",DATEDIF(F18,$J$9,\"Y\"))","v":""}]
[9,null,null,null,null,null,""]
[10,null,null,null,null,null,""]
[11,null,null,null,null,null,""]
[12,null,null,null,null,null,""]
[13,null,null,null,null,null,{"$f":"IF(F23=\"\",\"\",DATEDIF(F23,$J$9,\"Y\"))","v":""}]
[14,null,null,null,null,null,{"$f":"IF(F24=\"\",\"\",DATEDIF(F24,$J$9,\"Y\"))","v":""}]
[15,null,null,null,null,null,""]
[16,null,null,null,null,null,""]
[17,null,null,null,null,null,""]
[18,null,null,null,null,null,""]
[19,null,null,null,null,null,{"$f":"IF(F29=\"\",\"\",DATEDIF(F29,$J$9,\"Y\"))","v":""}]
[20,null,null,null,null,null,{"$f":"IF(F30=\"\",\"\",DATEDIF(F30,$J$9,\"Y\"))","v":""}]
[21,null,null,null,null,null,""]
[22,null,null,null,null,null,""]
[23,null,null,null,null,null,""]
[24,null,null,null,null,null,""]
[25,null,null,null,null,null,""]
[26,null,null,null,null,null,""]
[27,null,null,null,null,null,""]
[28,null,null,null,null,null,""]
[29,null,null,null,null,null,""]
[30,null,null,null,null,null,""]
[31,null,null,null,null,null,""]
[32,null,null,null,null,null,""]
[33,null,null,null,null,null,""]
[34,null,null,null,null,null,""]
[35,null,null,null,null,null,""]
[36,null,null,null,null,null,""]
[37,null,null,null,null,null,""]
[38,null,null,null,null,null,""]
[39,null,null,null,null,null,""]
[40,null,null,null,null,null,""]
[41,null,null,null,null,null,""]
[42,null,null,null,null,null,""]
[43,null,null,null,null,null,""]
[44,null,null,null,null,null,""]
[45,null,null,null,null,null,""]
[46,null,null,null,null,null,""]
[47,null,null,null,null,null,""]
[48,null,null,null,null,null,""]
[49,null,null,null,null,null,""]
[50,null,null,null,null,null,""]
["注1：",null,"年齢は生年月日を入れると自動で入ります。表の上２０２６/4/1現在の満年齢になります。"]
["注2：",null,"代表理事、理事、委員会委員は役員欄にそれぞれ代、理、委と記入ください。"]
["注3：",null,"スポーツ安全保険に加入する人は保険欄に○を記入してください。年齢により金額合計が下記表に計算されます。"]
[null,null,null,null,null,null,null,null,null,"保険料","人数","合計金額"]
[null,null,null,null,null,null,null,null,"６５歳以上",1200,{"$f":"P69","v":0},{"$f":"Q69","v":0}]
[null,null,null,null,null,null,null,null,"６４歳以下",2000,{"$f":"P70","v":0},{"$f":"Q70","v":0}]
[null,null,null,null,null,null,null,null,"合計",null,{"$f":"SUM(K65:K66)","v":0},{"$f":"SUM(L65:L66)","v":0}]
[null,"選択リスト用〇と空欄",null,null,null,null,null,null,null,null,null,null,null,"タイトル","第３５回春季大会出場選手"]
[null,"〇",null,null,null,null,null,null,null,null,null,null,null,"65歳以上",{"$f":"J65","v":1200},{"$f":"COUNTIF(R71:R120, \">=65\")","v":0},{"$f":"O69*P69","v":0}]
[null,null,null,null,null,null,null,null,null,null,null,null,null,"64歳以下",{"$f":"J66","v":2000},{"$f":"COUNTIFS(R71:R120, \"<=64\", R71:R120,  \"<>0\")","v":0},{"$f":"O70*P70","v":0}]
[null,null,null,null,null,null,null,null,null,null,null,null,null,null,null,null,null,{"$f":"IFERROR(IF(AND(M11=\"〇\",G11>=1),G11,0), \"\")","v":0}]
[null,null,null,null,null,null,null,null,null,null,null,null,null,null,null,null,null,{"$f":"IFERROR(IF(AND(M12=\"〇\",G12>=1),G12,0), \"\")","v":0}]
[null,null,null,null,null,null,null,null,null,null,null,null,null,null,null,null,null,0]
[null,null,null,null,null,null,null,null,null,null,null,null,null,null,null,null,null,0]
[null,null,null,null,null,null,null,null,null,null,null,null,null,null,null,null,null,0]
[null,null,null,null,null,null,null,null,null,null,null,null,null,null,null,null,null,0]
[null,null,null,null,null,null,null,null,null,null,null,null,null,null,null,null,null,0]
[null,null,null,null,null,null,null,null,null,null,null,null,null,null,null,null,null,0]
[null,null,null,null,null,null,null,null,null,null,null,null,null,null,null,null,null,0]
[null,null,null,null,null,null,null,null,null,null,null,null,null,null,null,null,null,0]
[null,null,null,null,null,null,null,null,null,null,null,null,null,null,null,null,null,0]
[null,null,null,null,null,null,null,null,null,null,null,null,null,null,null,null,null,0]
[null,null,null,null,null,null,null,null,null,null,null,null,null,null,null,null,null,0]
[null,null,null,null,null,null,null,null,null,null,null,null,null,null,null,null,null,0]
[null,null,null,null,null,null,null,null,null,null,null,null,null,null,null,null,null,0]
[null,null,null,null,null,null,null,null,null,null,null,null,null,null,null,null,null,0]
[null,null,null,null,null,null,null,null,null,null,null,null,null,null,null,null,null,0]
[null,null,null,null,null,null,null,null,null,null,null,null,null,null,null,null,null,0]
[null,null,null,null,null,null,null,null,null,null,null,null,null,null,null,null,null,0]
[null,null,null,null,null,null,null,null,null,null,null,null,null,null,null,null,null,0]
[null,null,null,null,null,null,null,null,null,null,null,null,null,null,null,null,null,0]
[null,null,null,null,null,null,null,null,null,null,null,null,null,null,null,null,null,0]
[null,null,null,null,null,null,null,null,null,null,null,null,null,null,null,null,null,0]
[null,null,null,null,null,null,null,null,null,null,null,null,null,null,null,null,null,0]
[null,null,null,null,null,null,null,null,null,null,null,null,null,null,null,null,null,0]
[null,null,null,null,null,null,null,null,null,null,null,null,null,null,null,null,null,0]
[null,null,null,null,null,null,null,null,null,null,null,null,null,null,null,null,null,0]
[null,null,null,null,null,null,null,null,null,null,null,null,null,null,null,null,null,0]
[null,null,null,null,null,null,null,null,null,null,null,null,null,null,null,null,null,0]
[null,null,null,null,null,null,null,null,null,null,null,null,null,null,null,null,null,0]
[null,null,null,null,null,null,null,null,null,null,null,null,null,null,null,null,null,0]
[null,null,null,null,null,null,null,null,null,null,null,null,null,null,null,null,null,0]
[null,null,null,null,null,null,null,null,null,null,null,null,null,null,null,null,null,0]
[null,null,null,null,null,null,null,null,null,null,null,null,null,null,null,null,null,0]
[null,null,null,null,null,null,null,null,null,null,null,null,null,null,null,null,null,0]
[null,null,null,null,null,null,null,null,null,null,null,null,null,null,null,null,null,0]
[null,null,null,null,null,null,null,null,null,null,null,null,null,null,null,null,null,0]
[null,null,null,null,null,null,null,null,null,null,null,null,null,null,null,null,null,0]
[null,null,null,null,null,null,null,null,null,null,null,null,null,null,null,null,null,0]
[null,null,null,null,null,null,null,null,null,null,null,null,null,null,null,null,null,0]
[null,null,null,null,null,null,null,null,null,null,null,null,null,null,null,null,null,0]
[null,null,null,null,null,null,null,null,null,null,null,null,null,null,null,null,null,0]
[null,null,null,null,null,null,null,null,null,null,null,null,null,null,null,null,null,0]
[null,null,null,null,null,null,null,null,null,null,null,null,null,null,null,null,null,0]
[null,null,null,null,null,null,null,null,null,null,null,null,null,null,null,null,null,0]
[null,null,null,null,null,null,null,null,null,null,null,null,null,null,null,null,null,0]
[null,null,null,null,null,null,null,null,null,null,null,null,null,null,null,null,null,0]
[null,null,null,null,null,null,null,null,null,null,null,null,null,null,null,null,null,0]
[null,null,null,null,null,null,null,null,null,null,null,null,null,null,null,null,null,0]
[null,null,null,null,null,null,null,null,null,null,null,null,null,null,null,null,null,0]

{"sheet":"①4.12(35回春季大会) ","index":1,"n_rows":93,"n_cols":106,"rows_kept":93,"cut":false,"hidden":false,"merged":[[13,84,13,85],[5,95,5,98],[5,103,5,106],[8,93,8,94],[8,95,8,98],[8,101,8,102],[8,103,8,106],[9,93,9,94],[9,95,9,98],[9,101,9,102],[9,103,9,106],[8,84,8,85],[10,93,10,94],[10,95,10,98],[10,101,10,102],[10,103,10,106],[9,84,9,85],[10,84,10,85],[11,84,11,85],[12,84,12,85],[0,93,0,94],[0,97,0,98],[0,101,0,102],[0,105,0,106],[1,93,1,98],[1,101,1,106],[2,93,2,98],[2,101,2,106],[3,93,3,98],[3,101,3,106],[10,22,10,25],[10,20,10,21],[25,3,25,4],[26,3,26,4],[27,3,27,4],[28,3,28,4],[29,3,29,4],[30,3,30,4],[31,3,31,4],[10,14,10,17],[10,12,10,13],[14,9,14,10],[15,9,15,10],[10,9,10,10],[11,9,11,10],[12,9,12,10],[15,3,15,4],[16,3,16,4],[17,3,17,4],[18,3,18,4],[19,3,19,4],[20,3,20,4],[21,3,21,4],[22,3,22,4],[8,22,8,25],[9,12,9,13],[9,14,9,17],[9,20,9,21],[9,22,9,25],[8,3,8,4],[9,3,9,4],[37,89,37,91],[29,90,29,91],[30,90,30,91],[31,90,31,91],[20,90,20,91],[21,90,21,91],[22,90,22,91],[27,90,27,91],[28,90,28,91],[18,63,18,64],[13,63,13,64],[14,63,14,64],[15,63,15,64],[27,63,27,64],[8,36,8,37],[9,36,9,37],[10,36,10,37],[0,12,0,13],[0,16,0,17],[0,20,0,21],[0,24,0,25],[1,12,1,17],[1,20,1,25],[2,12,2,17],[2,20,2,25],[3,12,3,17],[3,20,3,25],[5,14,5,17],[5,22,5,25],[8,12,8,13],[8,14,8,17],[8,20,8,21],[17,90,17,91],[18,90,18,91],[19,90,19,91],[26,90,26,91],[23,90,23,91],[24,90,24,91],[25,90,25,91],[4,87,5,87],[4,89,4,91],[5,84,5,86],[5,88,5,91],[6,84,6,86],[6,88,6,91],[14,90,14,91],[15,90,15,91],[16,90,16,91],[11,90,11,91],[12,90,12,91],[13,90,13,91],[38,89,38,91],[28,63,28,64],[29,63,29,64],[30,63,30,64],[25,63,25,64],[26,63,26,64],[8,90,8,91],[9,90,9,91],[10,90,10,91],[16,63,16,64],[17,63,17,64],[8,66,8,67],[8,68,8,71],[8,74,8,75],[8,76,8,79],[9,66,9,67],[9,68,9,71],[9,74,9,75],[9,76,9,79],[10,66,10,67],[10,68,10,71],[10,74,10,75],[10,76,10,79],[21,84,21,85],[0,84,0,91],[1,86,1,87],[1,90,1,91],[2,82,2,91],[3,84,3,91],[31,63,31,64],[33,57,33,58],[33,60,33,61],[33,63,33,64],[4,84,4,86],[0,66,0,67],[0,70,0,71],[0,74,0,75],[0,78,0,79],[1,66,1,71],[1,74,1,79],[2,66,2,71],[2,74,2,79],[3,66,3,71],[3,74,3,79],[5,68,5,71],[5,76,5,79],[14,84,14,85],[15,84,15,85],[38,62,38,64],[37,62,37,64],[9,57,9,58],[10,57,10,58],[11,57,11,58],[12,57,12,58],[13,57,13,58],[14,57,14,58],[15,57,15,58],[31,57,31,58],[19,63,19,64],[20,63,20,64],[21,63,21,64],[4,62,4,64],[5,57,5,59],[5,61,5,64],[10,63,10,64],[11,63,11,64],[12,63,12,64],[6,57,6,59],[6,61,6,64],[8,63,8,64],[9,63,9,64],[8,57,8,58],[4,35,4,37],[5,30,5,32],[5,34,5,37],[6,30,6,32],[6,34,6,37],[0,57,0,64],[29,36,29,37],[30,36,30,37],[31,36,31,37],[26,36,26,37],[27,36,27,37],[28,36,28,37],[23,36,23,37],[24,36,24,37],[25,36,25,37],[1,59,1,60],[1,63,1,64],[2,55,2,64],[3,57,3,64],[4,57,4,59],[4,60,5,60],[22,63,22,64],[23,63,23,64],[24,63,24,64],[0,30,0,37],[1,32,1,33],[1,36,1,37],[2,28,2,37],[3,30,3,37],[31,9,31,10],[22,9,22,10],[23,9,23,10],[24,9,24,10],[19,9,19,10],[20,9,20,10],[21,9,21,10],[16,9,16,10],[17,9,17,10],[18,9,18,10],[13,9,13,10],[20,36,20,37],[21,36,21,37],[22,36,22,37],[17,36,17,37],[18,36,18,37],[19,36,19,37],[4,30,4,32],[4,33,5,33],[33,3,33,4],[33,6,33,7],[33,9,33,10],[37,8,37,10],[38,35,38,37],[28,9,28,10],[29,9,29,10],[30,9,30,10],[25,9,25,10],[26,9,26,10],[27,9,27,10],[34,3,34,4],[34,6,34,7],[34,9,34,10],[34,30,34,31],[34,33,34,34],[34,36,34,37],[26,30,26,31],[37,35,37,37],[38,8,38,10],[33,30,33,31],[33,33,33,34],[33,36,33,37],[23,3,23,4],[24,3,24,4],[0,3,0,10],[1,5,1,6],[1,9,1,10],[2,1,2,10],[3,3,3,10],[4,3,4,5],[4,6,5,6],[4,8,4,10],[5,3,5,5],[5,7,5,10],[6,3,6,5],[6,7,6,10],[8,9,8,10],[9,9,9,10],[10,3,10,4],[11,3,11,4],[12,3,12,4],[13,3,13,4],[14,3,14,4],[22,84,22,85],[23,84,23,85],[24,84,24,85],[25,84,25,85],[26,84,26,85],[27,84,27,85],[28,84,28,85],[29,84,29,85],[30,84,30,85],[31,84,31,85],[16,84,16,85],[17,84,17,85],[18,84,18,85],[19,84,19,85],[20,84,20,85],[34,57,34,58],[34,60,34,61],[34,63,34,64],[34,84,34,85],[18,57,18,58],[19,57,19,58],[20,57,20,58],[21,57,21,58],[22,57,22,58],[23,57,23,58],[24,57,24,58],[25,57,25,58],[26,57,26,58],[16,57,16,58],[17,57,17,58],[28,57,28,58],[29,57,29,58],[30,57,30,58],[34,87,34,88],[34,90,34,91],[33,84,33,85],[33,87,33,88],[33,90,33,91],[8,29,8,31],[9,30,9,31],[10,30,10,31],[11,30,11,31],[12,30,12,31],[13,30,13,31],[14,30,14,31],[15,30,15,31],[16,30,16,31],[27,57,27,58],[17,30,17,31],[18,30,18,31],[19,30,19,31],[20,30,20,31],[21,30,21,31],[22,30,22,31],[23,30,23,31],[24,30,24,31],[25,30,25,31],[9,39,9,40],[9,41,9,44],[9,47,9,48],[9,49,9,52],[27,30,27,31],[28,30,28,31],[29,30,29,31],[30,30,30,31],[31,30,31,31],[14,36,14,37],[15,36,15,37],[16,36,16,37],[11,36,11,37],[12,36,12,37],[13,36,13,37],[10,39,10,40],[10,41,10,44],[10,47,10,48],[10,49,10,52],[5,41,5,44],[5,49,5,52],[8,39,8,40],[8,41,8,44],[8,47,8,48],[8,49,8,52],[0,39,0,40],[0,43,0,44],[0,47,0,48],[0,51,0,52],[1,39,1,44],[1,47,1,52],[2,39,2,44],[2,47,2,52],[3,39,3,44],[3,47,3,52]]}
[null,"【R8年度】",null,"第35回春季トリムバレ-ボ-ル大会　　【参加申込書】",null,null,null,null,null,null,null,null,{"$f":"B1","v":"【R8年度】"},null,null,null,"2026-04-12",null,null,null,{"$f":"B1","v":"【R8年度】"},null,null,null,"2026-04-12",null,null,null,{"$f":"B1","v":"【R8年度】"},null,{"$f":"D1","v":"第35回春季トリムバレ-ボ-ル大会　　【参加申込書】"},null,null,null,null,null,null,null,null,"【R7年度】",null,null,null,"2026-04-12",null,null,null,"【R7年度】",null,null,null,"2026-04-12",null,null,null,{"$f":"B1","v":"【R8年度】"},null,{"$f":"D1","v":"第35回春季トリムバレ-ボ-ル大会　　【参加申込書】"},null,null,null,null,null,null,null,null,"【R7年度】",null,null,null,"2026-04-12",null,null,null,"【R7年度】",null,null,null,"2026-04-12",null,null,null,{"$f":"AC1","v":"【R8年度】"},null,{"$f":"AE1","v":"第35回春季トリムバレ-ボ-ル大会　　【参加申込書】"},null,null,null,null,null,null,null,null,"【R7年度】",null,null,null,"2026-04-12",null,null,null,"【R7年度】",null,null,null,"2026-04-12"]
[null,null,null,null,"開催日:","2026-04-12",null,{"$f":"WEEKDAY(F2,1)","v":1},"申込日:",null,null,null,"　　　第３5回",null,null,null,null,null,null,null,"　　　第３5回",null,null,null,null,null,null,null,null,null,null,"開催日:",{"$f":"F2","v":"2026-04-12"},null,{"$f":"WEEKDAY(AG2,1)","v":1},"申込日:",null,null,null,{"$f":"U2","v":"　　　第３5回"},null,null,null,null,null,null,null,{"$f":"U2","v":"　　　第３5回"},null,null,null,null,null,null,null,null,null,null,"開催日:",{"$f":"F2","v":"2026-04-12"},null,{"$f":"WEEKDAY(BH2,1)","v":1},"申込日:",null,null,null,"　　　第３４回",null,null,null,null,null,null,null,"　　　第３４回",null,null,null,null,null,null,null,null,null,null,"開催日:",{"$f":"AG2","v":"2026-04-12"},null,{"$f":"WEEKDAY(CI2,1)","v":1},"申込日:",null,null,null,"　　　第３5回",null,null,null,null,null,null,null,"　　　第３5回"]
[null,"下記メンバーを登録し、表記トリムバレーボール大会の参加を申し込みます。",null,null,null,null,null,null,null,null,null,null,"春季トリムバレーボール大会",null,null,null,null,null,null,null,"春季トリムバレーボール大会",null,null,null,null,null,null,null,"下記メンバーを登録し、表記トリムバレーボール大会の参加を申し込みます。",null,null,null,null,null,null,null,null,null,null,"春季トリムバレーボール大会",null,null,null,null,null,null,null,"春季トリムバレーボール大会",null,null,null,null,null,null,null,"下記メンバーを登録し、表記トリムバレーボール大会の参加を申し込みます。",null,null,null,null,null,null,null,null,null,null,"春季トリムバレーボール大会",null,null,null,null,null,null,null,"春季トリムバレーボール大会",null,null,null,null,null,null,null,"下記メンバーを登録し、表記トリムバレーボール大会の参加を申し込みます。",null,null,null,null,null,null,null,null,null,null,"春季トリムバレーボール大会",null,null,null,null,null,null,null,"春季トリムバレーボール大会"]
[null,"種　　　目",null,"シ　ル　バ　ー　　　　",null,null,null,null,null,null,null,null,"構成メンバー表",null,null,null,null,null,null,null,"構成メンバー表",null,null,null,null,null,null,null,"種　　　目",null,"ゴ　ー　ル　ド　　A　",null,null,null,null,null,null,null,null,"構成メンバー表",null,null,null,null,null,null,null,"構成メンバー表",null,null,null,null,null,null,null,"種　　　目",null,"ゴ　ー　ル　ド　　B　",null,null,null,null,null,null,null,null,"構成メンバー表",null,null,null,null,null,null,null,"構成メンバー表",null,null,null,null,null,null,null,"種　　　目",null,"ゴ　ー　ル　ド　　C",null,null,null,null,null,null,null,null,"構成メンバー表",null,null,null,null,null,null,null,"構成メンバー表"]
[null,"チーム名",null,null,null,null,"住　 所","　〒",null,null,null,null,null,null,null,null,null,null,null,null,null,null,null,null,null,null,null,null,"チーム名",null,null,null,null,"住　 所","　〒",null,null,null,null,null,null,null,null,null,null,null,null,null,null,null,null,null,null,null,null,"チーム名",null,null,null,null,"住　 所","　〒",null,null,null,null,null,null,null,null,null,null,null,null,null,null,null,null,null,null,null,null,"チーム名",null,null,null,null,"住　 所","　〒"]
[null,"代 表 者",null,{"$f":"登録名簿!J4","v":0},null,null,null,{"$f":"登録名簿!J6","v":0},null,null,null,null,"チーム名",null,{"$f":"D5","v":0},null,null,null,null,null,"チーム名",null,{"$f":"D5","v":0},null,null,null,null,null,"代 表 者",null,{"$f":"登録名簿!J4","v":0},null,null,null,{"$f":"登録名簿!J6","v":0},null,null,null,null,"チーム名",null,{"$f":"AE5","v":0},null,null,null,null,null,"チーム名",null,{"$f":"AE5","v":0},null,null,null,null,null,"代 表 者",null,{"$f":"登録名簿!J4","v":0},null,null,null,{"$f":"登録名簿!J6","v":0},null,null,null,null,"チーム名",null,{"$f":"BF5","v":0},null,null,null,null,null,"チーム名",null,{"$f":"BF5","v":0},null,null,null,null,null,"代 表 者",null,{"$f":"登録名簿!J4","v":0},null,null,null,{"$f":"登録名簿!J6","v":0},null,null,null,null,"チーム名",null,{"$f":"CG5","v":0},null,null,null,null,null,"チーム名",null,{"$f":"CG5","v":0}]
[null,"T  E  L",null,{"$f":"登録名簿!J7","v":0},null,null,"mail",{"$f":"登録名簿!J8","v":0},null,null,null,null,null,null,null,null,null,null,null,null,null,null,null,null,null,null,null,null,"T  E  L",null,{"$f":"登録名簿!J7","v":0},null,null,"mail",{"$f":"登録名簿!J8","v":0},null,null,null,null,null,null,null,null,null,null,null,null,null,null,null,null,null,null,null,null,"T  E  L",null,{"$f":"登録名簿!J7","v":0},null,null,"mail",{"$f":"登録名簿!J8","v":0},null,null,null,null,null,null,null,null,null,null,null,null,null,null,null,null,null,null,null,null,"T  E  L",null,{"$f":"登録名簿!J7","v":0},null,null,"mail",{"$f":"登録名簿!J8","v":0}]
[]
["※下記に注釈","No.",null,"氏　　　　名",null,"背番号","性　別","年　齢","申告欄","摘　　　　要",null,null,"監督",null,{"$f":"IFERROR(VLOOKUP(A10, 登録名簿!A11:G60, 3, FALSE), \"\")","v":""},null,null,null,null,null,"監督",null,{"$f":"IFERROR(VLOOKUP(A10, 登録名簿!A11:G60, 3, FALSE), \"\")","v":""},null,null,null,null,"※下記に注釈","No.","氏　　　　名",null,null,"背番号","性　別","年　齢","申告欄","摘　　　　要",null,null,"監督",null,{"$f":"IFERROR(VLOOKUP(AB10, 登録名簿!AB11:AH60, 3, FALSE), \"\")","v":""},null,null,null,null,null,"監督",null,{"$f":"IFERROR(VLOOKUP(AB10, 登録名簿!AB11:AH60, 3, FALSE), \"\")","v":""},null,null,null,null,"※下記に注釈","No.",null,"氏　　　　名",null,"背番号","性　別","年　齢","申告欄","摘　　　　要",null,null,"監督",null,{"$f":"IFERROR(VLOOKUP(BC10, 登録名簿!BC11:BI60, 3, FALSE), \"\")","v":""},null,null,null,null,null,"監督",null,{"$f":"IFERROR(VLOOKUP(BC10, 登録名簿!BC11:BI60, 3, FALSE), \"\")","v":""},null,null,null,null,"※下記に注釈","No.",null,"氏　　　　名",null,"背番号","性　別","年　齢","申告欄","摘　　　　要",null,null,"監督",null,{"$f":"IFERROR(VLOOKUP(CC10, 登録名簿!CC11:CI60, 3, FALSE), \"\")","v":""},null,null,null,null,null,"監督",null,{"$f":"IFERROR(VLOOKUP(CC10, 登録名簿!CC11:CI60, 3, FALSE), \"\")","v":""}]
[null,"監　　　督",{"$f":"F10","v":0},{"$f":"IFERROR(VLOOKUP(A10, 登録名簿!A11:G60, 3, FALSE), \"\")","v":""},null,{"$f":"IFERROR(VLOOKUP(D10, D13:F32, 3, FALSE), \"\")","v":0},{"$f":"IFERROR(VLOOKUP(A10, 登録名簿!A11:G60, 5, FALSE), \"\")","v":""},{"$f":"IFERROR(VLOOKUP(A10, 登録名簿!A11:G60, 7, FALSE), \"\")","v":""},null,null,null,null,"コーチ",null,{"$f":"IFERROR(VLOOKUP(A11, 登録名簿!A11:G60, 3, FALSE), \"\")","v":""},null,null,null,null,null,"コーチ",null,{"$f":"IFERROR(VLOOKUP(A11, 登録名簿!A11:G60, 3, FALSE), \"\")","v":""},null,null,null,null,null,"監　　　督",{"$f":"AG10","v":0},{"$f":"IFERROR(VLOOKUP(AB10, 登録名簿!A11:G60, 3, FALSE), \"\")","v":""},null,{"$f":"IFERROR(VLOOKUP(AE10, AE13:AG32, 3, FALSE), \"\")","v":0},{"$f":"IFERROR(VLOOKUP(AB10, 登録名簿!A11:G60, 5, FALSE), \"\")","v":""},{"$f":"IFERROR(VLOOKUP(AB10, 登録名簿!A11:G60, 7, FALSE), \"\")","v":""},null,null,null,null,"コーチ",null,{"$f":"IFERROR(VLOOKUP(AB11, 登録名簿!AB11:AH60, 3, FALSE), \"\")","v":""},null,null,null,null,null,"コーチ",null,{"$f":"IFERROR(VLOOKUP(AB11, 登録名簿!AB11:AH60, 3, FALSE), \"\")","v":""},null,null,null,null,null,"監　　　督",{"$f":"BH10","v":0},{"$f":"IFERROR(VLOOKUP(BC10, 登録名簿!A11:G60, 3, FALSE), \"\")","v":""},null,{"$f":"IFERROR(VLOOKUP(BF10, BF13:BH32, 3, FALSE), \"\")","v":0},{"$f":"IFERROR(VLOOKUP(BC10, 登録名簿!A11:G60, 5, FALSE), \"\")","v":""},{"$f":"IFERROR(VLOOKUP(BC10, 登録名簿!A11:G60, 7, FALSE), \"\")","v":""},null,null,null,null,"コーチ",null,{"$f":"IFERROR(VLOOKUP(BC11, 登録名簿!BC11:BI60, 3, FALSE), \"\")","v":""},null,null,null,null,null,"コーチ",null,{"$f":"IFERROR(VLOOKUP(BC11, 登録名簿!BC11:BI60, 3, FALSE), \"\")","v":""},null,null,null,null,null,"監　　　督",{"$f":"CI10","v":0},{"$f":"IFERROR(VLOOKUP(CD10, 登録名簿!A11:G60, 3, FALSE), \"\")","v":""},null,{"$f":"IFERROR(VLOOKUP(CG10, CG13:CI32, 3, FALSE), \"\")","v":0},{"$f":"IFERROR(VLOOKUP(CD10, 登録名簿!A11:G60, 5, FALSE), \"\")","v":""},{"$f":"IFERROR(VLOOKUP(CD10, 登録名簿!A11:G60,7, FALSE), \"\")","v":""},null,null,null,null,"コーチ",null,{"$f":"IFERROR(VLOOKUP(CC11, 登録名簿!CC11:CI60, 3, FALSE), \"\")","v":""},null,null,null,null,null,"コーチ",null,{"$f":"IFERROR(VLOOKUP(CC11, 登録名簿!CC11:CI60, 3, FALSE), \"\")","v":""}]
[null,"コ　ー　チ",{"$f":"F11","v":0},{"$f":"IFERROR(VLOOKUP(A11, 登録名簿!A11:G60, 3, FALSE), \"\")","v":""},null,{"$f":"IFERROR(VLOOKUP(D11, D13:F32, 3, FALSE), \"\")","v":0},{"$f":"IFERROR(VLOOKUP(A11, 登録名簿!A11:G60, 5, FALSE), \"\")","v":""},{"$f":"IFERROR(VLOOKUP(A11, 登録名簿!A11:G60, 7, FALSE), \"\")","v":""},null,null,null,null,"マネージャー",null,{"$f":"IFERROR(VLOOKUP(A12, 登録名簿!A11:G60, 3, FALSE), \"\")","v":""},null,null,null,null,null,"マネージャー",null,{"$f":"IFERROR(VLOOKUP(A12, 登録名簿!A11:G60, 3, FALSE), \"\")","v":""},null,null,null,null,null,"コ　ー　チ",{"$f":"AG11","v":0},{"$f":"IFERROR(VLOOKUP(AB11, 登録名簿!A11:G60, 3, FALSE), \"\")","v":""},null,{"$f":"IFERROR(VLOOKUP(AE11, AE13:AG32, 3, FALSE), \"\")","v":0},{"$f":"IFERROR(VLOOKUP(AB11, 登録名簿!A11:G60, 5, FALSE), \"\")","v":""},{"$f":"IFERROR(VLOOKUP(AB11, 登録名簿!A11:G60, 7, FALSE), \"\")","v":""},null,null,null,null,"マネージャー",null,{"$f":"IFERROR(VLOOKUP(AB12, 登録名簿!AB11:AH60, 3, FALSE), \"\")","v":""},null,null,null,null,null,"マネージャー",null,{"$f":"IFERROR(VLOOKUP(AB12, 登録名簿!AB11:AH60, 3, FALSE), \"\")","v":""},null,null,null,null,null,"コ　ー　チ",{"$f":"BH11","v":0},{"$f":"IFERROR(VLOOKUP(BC11, 登録名簿!A11:G60, 3, FALSE), \"\")","v":""},null,{"$f":"IFERROR(VLOOKUP(BF11, BF13:BH32, 3, FALSE), \"\")","v":0},{"$f":"IFERROR(VLOOKUP(BC11, 登録名簿!A11:G60, 5, FALSE), \"\")","v":""},{"$f":"IFERROR(VLOOKUP(BC11, 登録名簿!A11:G60, 7, FALSE), \"\")","v":""},null,null,null,null,"マネージャー",null,{"$f":"IFERROR(VLOOKUP(BC12, 登録名簿!BC11:BI60, 3, FALSE), \"\")","v":""},null,null,null,null,null,"マネージャー",null,{"$f":"IFERROR(VLOOKUP(BC12, 登録名簿!BC11:BI60, 3, FALSE), \"\")","v":""},null,null,null,null,null,"コ　ー　チ",{"$f":"CI11","v":0},{"$f":"IFERROR(VLOOKUP(CD11, 登録名簿!A11:G60, 3, FALSE), \"\")","v":""},null,{"$f":"IFERROR(VLOOKUP(CG11, CG13:CI32, 3, FALSE), \"\")","v":0},{"$f":"IFERROR(VLOOKUP(CD11, 登録名簿!A11:G60, 5, FALSE), \"\")","v":""},{"$f":"IFERROR(VLOOKUP(CD11, 登録名簿!A11:G60, 7, FALSE), \"\")","v":""},null,null,null,null,"マネージャー",null,{"$f":"IFERROR(VLOOKUP(CC12, 登録名簿!CC11:CI60, 3, FALSE), \"\")","v":""},null,null,null,null,null,"マネージャー",null,{"$f":"IFERROR(VLOOKUP(CC12, 登録名簿!CC11:CI60, 3, FALSE), \"\")","v":""}]
[null,"マネージャー",0,{"$f":"IFERROR(VLOOKUP(A12, 登録名簿!A11:G60, 3, FALSE), \"\")","v":""},null,{"$f":"IFERROR(VLOOKUP(D12, D13:F32, 3, FALSE), \"\")","v":0},{"$f":"IFERROR(VLOOKUP(A12, 登録名簿!A11:G60, 5, FALSE), \"\")","v":""},{"$f":"IFERROR(VLOOKUP(A12, 登録名簿!A11:G60, 7, FALSE), \"\")","v":""},null,null,null,null,null,null,null,null,null,null,null,null,null,null,null,null,null,null,null,null,"マネージャー",0,{"$f":"IFERROR(VLOOKUP(AB12, 登録名簿!A11:G60, 3, FALSE), \"\")","v":""},null,{"$f":"IFERROR(VLOOKUP(AE12, AE13:AG32, 3, FALSE), \"\")","v":0},{"$f":"IFERROR(VLOOKUP(AB12, 登録名簿!A11:G60, 5, FALSE), \"\")","v":""},{"$f":"IFERROR(VLOOKUP(AB12, 登録名簿!A11:G60, 7, FALSE), \"\")","v":""},null,null,null,null,null,null,null,null,null,null,null,null,null,null,null,null,null,null,null,null,"マネージャー",0,{"$f":"IFERROR(VLOOKUP(BC12, 登録名簿!A11:G60, 3, FALSE), \"\")","v":""},null,{"$f":"IFERROR(VLOOKUP(BF12, BF13:BH32, 3, FALSE), \"\")","v":0},{"$f":"IFERROR(VLOOKUP(BC12, 登録名簿!A11:G60, 5, FALSE), \"\")","v":""},{"$f":"IFERROR(VLOOKUP(BC12, 登録名簿!A11:G60, 7, FALSE), \"\")","v":""},null,null,null,null,null,null,null,null,null,null,null,null,null,null,null,null,null,null,null,null,"マネージャー",0,{"$f":"IFERROR(VLOOKUP(CD12, 登録名簿!A11:G60, 3, FALSE), \"\")","v":""},null,{"$f":"IFERROR(VLOOKUP(CG12, CG13:CI32, 3, FALSE), \"\")","v":0},{"$f":"IFERROR(VLOOKUP(CD12, 登録名簿!A11:G60, 5, FALSE), \"\")","v":""},{"$f":"IFERROR(VLOOKUP(CD12, 登録名簿!A11:G60, 7, FALSE), \"\")","v":""}]
[null,"選手　1",{"$f":"F13","v":0},{"$f":"IFERROR(INDEX($D$42:$D$91, SMALL(IF($D$42:$D$91<>\"\", ROW($D$42:$D$91)-ROW($D$42)+1), ROW(A1))), \"\")","v":""},null,null,{"$f":"IFERROR(INDEX($E$42:$E$91, SMALL(IF($E$42:$E$91<>\"\", ROW($E$42:$E$91)-ROW($E$42)+1), ROW(E1))), \"\")","v":""},{"$f":"IFERROR(INDEX($F$42:$F$91, SMALL(IF($F$42:$F$91<>\"\", ROW($F$42:$F$91)-ROW($F$42)+1), ROW(B1))), \"\")","v":""},null,null,null,null,"背番号","キ","競技者氏名","性別","年齢",null,null,null,"背番号","キ","競技者氏名","性別","年齢",null,null,null,"選手　1",{"$f":"AG13","v":0},{"$f":"IFERROR(INDEX($AE$42:$AE$91, SMALL(IF($AE$42:$AE$91<>\"\", ROW($AE$42:$AE$91)-ROW($AE$42)+1), ROW(A1))), \"\")","v":""},null,null,{"$f":"IFERROR(INDEX($AF$42:$AF$91, SMALL(IF($AF$42:$AF$91<>\"\", ROW($AF$42:$AF$91)-ROW($AF$42)+1), ROW(A1))), \"\")","v":""},{"$f":"IFERROR(INDEX($AG$42:$AG$91, SMALL(IF($AG$42:$AG$91<>\"\", ROW($AG$42:$AG$91)-ROW($AG$42)+1), ROW(B1))), \"\")","v":""},null,null,null,null,"背番号","キ","競技者氏名","性別","年齢",null,null,null,"背番号","キ","競技者氏名","性別","年齢",null,null,null,"選手　1",{"$f":"BH13","v":0},{"$f":"IFERROR(INDEX($BF$42:$BF$91, SMALL(IF($BF$42:$BF$91<>\"\", ROW($BF$42:$BF$91)-ROW($BF$42)+1), ROW(BC1))), \"\")","v":""},null,null,{"$f":"IFERROR(INDEX($BG$42:$BG$91, SMALL(IF($BG$42:$BG$91<>\"\", ROW($BG$42:$BG$91)-ROW($BG$42)+1), ROW(AB1))), \"\")","v":""},{"$f":"IFERROR(INDEX($BH$42:$BH$91, SMALL(IF($BH$42:$BH$91<>\"\", ROW($BH$42:$BH$91)-ROW($BH$42)+1), ROW(AC1))), \"\")","v":""},null,null,null,null,"背番号","キ","競技者氏名","性別","年齢",null,null,null,"背番号","キ","競技者氏名","性別","年齢",null,null,null,"選手　1",{"$f":"CI13","v":0},{"$f":"IFERROR(INDEX($CG$42:$CG$91, SMALL(IF($CG$42:$CG$91<>\"\", ROW($CG$42:$CG$91)-ROW($CG$42)+1), ROW(CD1))), \"\")","v":""},null,null,{"$f":"IFERROR(INDEX($CH$42:$CH$91, SMALL(IF($CH$42:$CH$91<>\"\", ROW($CH$42:$CH$91)-ROW($CH$42)+1), ROW(BC1))), \"\")","v":""},{"$f":"IFERROR(INDEX($CI$42:$CI$91, SMALL(IF($CI$42:$CI$91<>\"\", ROW($CI$42:$CI$91)-ROW($CI$42)+1), ROW(BD1))), \"\")","v":""},null,null,null,null,"背番号","キ","競技者氏名","性別","年齢",null,null,null,"背番号","キ","競技者氏名","性別","年齢"]
[null,"選手　2",{"$f":"F14","v":0},{"$f":"IFERROR(INDEX($D$42:$D$91, SMALL(IF($D$42:$D$91<>\"\", ROW($D$42:$D$91)-ROW($D$42)+1), ROW(A2))), \"\")","v":""},null,null,{"$f":"IFERROR(INDEX($E$42:$E$91, SMALL(IF($E$42:$E$91<>\"\", ROW($E$42:$E$91)-ROW($E$42)+1), ROW(A2))), \"\")","v":""},{"$f":"IFERROR(INDEX($F$42:$F$91, SMALL(IF($F$42:$F$91<>\"\", ROW($F$42:$F$91)-ROW($F$42)+1), ROW(B2))), \"\")","v":""},null,null,null,null,1,null,{"$f":"IFERROR(VLOOKUP(M14, C13:H32, 2, FALSE), \"\")","v":""},{"$f":"IFERROR(VLOOKUP(M14, C13:H32, 5, FALSE), \"\")","v":""},{"$f":"IFERROR(VLOOKUP(M14, C13:H32, 6, FALSE), \"\")","v":""},null,null,null,1,{"$f":"IF(N14>0,N14,\"\")","v":""},{"$f":"IF(O14>0,O14,\"\")","v":""},"","",null,null,null,"選手　2",{"$f":"AG14","v":0},{"$f":"IFERROR(INDEX($AE$42:$AE$91, SMALL(IF($AE$42:$AE$91<>\"\", ROW($AE$42:$AE$91)-ROW($AE$42)+1), ROW(A2))), \"\")","v":""},null,null,{"$f":"IFERROR(INDEX($AF$42:$AF$91, SMALL(IF($AF$42:$AF$91<>\"\", ROW($AF$42:$AF$91)-ROW($AF$42)+1), ROW(A2))), \"\")","v":""},{"$f":"IFERROR(INDEX($AG$42:$AG$91, SMALL(IF($AG$42:$AG$91<>\"\", ROW($AG$42:$AG$91)-ROW($AG$42)+1), ROW(B2))), \"\")","v":""},null,null,null,null,1,null,{"$f":"IFERROR(VLOOKUP(AN14, AD13:AI32, 2, FALSE), \"\")","v":""},{"$f":"IFERROR(VLOOKUP(AN14, AD13:AI32, 5, FALSE), \"\")","v":""},{"$f":"IFERROR(VLOOKUP(AN14, AD13:AI32, 6, FALSE), \"\")","v":""},null,null,null,1,{"$f":"IF(AO14>0,AO14,\"\")","v":""},{"$f":"IF(AP14>0,AP14,\"\")","v":""},{"$f":"IF(AQ14>0,AQ14,\"\")","v":""},{"$f":"IF(AR14>0,AR14,\"\")","v":""},null,null,null,"選手　2",{"$f":"BH14","v":0},{"$f":"IFERROR(INDEX($BF$42:$BF$91, SMALL(IF($BF$42:$BF$91<>\"\", ROW($BF$42:$BF$91)-ROW($BF$42)+1), ROW(BC2))), \"\")","v":""},null,null,{"$f":"IFERROR(INDEX($BG$42:$BG$91, SMALL(IF($BG$42:$BG$91<>\"\", ROW($BG$42:$BG$91)-ROW($BG$42)+1), ROW(AB2))), \"\")","v":""},{"$f":"IFERROR(INDEX($BH$42:$BH$91, SMALL(IF($BH$42:$BH$91<>\"\", ROW($BH$42:$BH$91)-ROW($BH$42)+1), ROW(AC2))), \"\")","v":""},null,null,null,null,1,null,{"$f":"IFERROR(VLOOKUP(BO14, BE13:BJ32, 2, FALSE), \"\")","v":""},{"$f":"IFERROR(VLOOKUP(BO14, BE13:BJ32, 5, FALSE), \"\")","v":""},{"$f":"IFERROR(VLOOKUP(BO14, BE13:BJ32, 6, FALSE), \"\")","v":""},null,null,null,1,{"$f":"IF(BP14>0,BP14,\"\")","v":""},{"$f":"IF(BQ14>0,BQ14,\"\")","v":""},{"$f":"IF(BR14>0,BR14,\"\")","v":""},{"$f":"IF(BS14>0,BS14,\"\")","v":""},null,null,null,"選手　2",{"$f":"CI14","v":0},{"$f":"IFERROR(INDEX($CG$42:$CG$91, SMALL(IF($CG$42:$CG$91<>\"\", ROW($CG$42:$CG$91)-ROW($CG$42)+1), ROW(CD2))), \"\")","v":""},null,null,{"$f":"IFERROR(INDEX($CH$42:$CH$91, SMALL(IF($CH$42:$CH$91<>\"\", ROW($CH$42:$CH$91)-ROW($CH$42)+1), ROW(BC2))), \"\")","v":""},{"$f":"IFERROR(INDEX($CI$42:$CI$91, SMALL(IF($CI$42:$CI$91<>\"\", ROW($CI$42:$CI$91)-ROW($CI$42)+1), ROW(BD2))), \"\")","v":""},null,null,null,null,1,null,{"$f":"IFERROR(VLOOKUP(CP14, CF13:CK32, 2, FALSE), \"\")","v":""},{"$f":"IFERROR(VLOOKUP(CP14, CF13:CK32, 5, FALSE), \"\")","v":""},{"$f":"IFERROR(VLOOKUP(CP14, CF13:CK32, 6, FALSE), \"\")","v":""},null,null,null,1,{"$f":"IF(CQ14>0,CQ14,\"\")","v":""},{"$f":"IF(CR14>0,CR14,\"\")","v":""},{"$f":"IF(CS14>0,CS14,\"\")","v":""},{"$f":"IF(CT14>0,CT14,\"\")","v":""}]
[null,"選手　3",0,{"$f":"IFERROR(INDEX($D$42:$D$91, SMALL(IF($D$42:$D$91<>\"\", ROW($D$42:$D$91)-ROW($D$42)+1), ROW(A3))), \"\")","v":""},null,null,{"$f":"IFERROR(INDEX($E$42:$E$91, SMALL(IF($E$42:$E$91<>\"\", ROW($E$42:$E$91)-ROW($E$42)+1), ROW(A3))), \"\")","v":""},{"$f":"IFERROR(INDEX($F$42:$F$91, SMALL(IF($F$42:$F$91<>\"\", ROW($F$42:$F$91)-ROW($F$42)+1), ROW(B3))), \"\")","v":""},null,null,null,null,2,null,{"$f":"IFERROR(VLOOKUP(M15,C13:H32, 2, FALSE), \"\")","v":""},{"$f":"IFERROR(VLOOKUP(M15, C13:H32, 5, FALSE), \"\")","v":""},{"$f":"IFERROR(VLOOKUP(M15, C13:H32, 6, FALSE), \"\")","v":""},null,null,null,2,{"$f":"IF(N15>0,N15,\"\")","v":""},{"$f":"IF(O15>0,O15,\"\")","v":""},{"$f":"IF(P15>0,P15,\"\")","v":""},{"$f":"IF(Q15>0,Q15,\"\")","v":""},null,null,null,"選手　3",0,{"$f":"IFERROR(INDEX($AE$42:$AE$91, SMALL(IF($AE$42:$AE$91<>\"\", ROW($AE$42:$AE$91)-ROW($AE$42)+1), ROW(A3))), \"\")","v":""},null,null,{"$f":"IFERROR(INDEX($AF$42:$AF$91, SMALL(IF($AF$42:$AF$91<>\"\", ROW($AF$42:$AF$91)-ROW($AF$42)+1), ROW(A3))), \"\")","v":""},{"$f":"IFERROR(INDEX($AG$42:$AG$91, SMALL(IF($AG$42:$AG$91<>\"\", ROW($AG$42:$AG$91)-ROW($AG$42)+1), ROW(B3))), \"\")","v":""},null,null,null,null,2,null,{"$f":"IFERROR(VLOOKUP(AN15,AD13:AI32, 2, FALSE), \"\")","v":""},{"$f":"IFERROR(VLOOKUP(AN15, AD13:AI32, 5, FALSE), \"\")","v":""},{"$f":"IFERROR(VLOOKUP(AN15, AD13:AI32, 6, FALSE), \"\")","v":""},null,null,null,2,{"$f":"IF(AO15>0,AO15,\"\")","v":""},"","","",null,null,null,"選手　3",0,{"$f":"IFERROR(INDEX($BF$42:$BF$91, SMALL(IF($BF$42:$BF$91<>\"\", ROW($BF$42:$BF$91)-ROW($BF$42)+1), ROW(BC3))), \"\")","v":""},null,null,{"$f":"IFERROR(INDEX($BG$42:$BG$91, SMALL(IF($BG$42:$BG$91<>\"\", ROW($BG$42:$BG$91)-ROW($BG$42)+1), ROW(AB3))), \"\")","v":""},{"$f":"IFERROR(INDEX($BH$42:$BH$91, SMALL(IF($BH$42:$BH$91<>\"\", ROW($BH$42:$BH$91)-ROW($BH$42)+1), ROW(AC3))), \"\")","v":""},null,null,null,null,2,null,{"$f":"IFERROR(VLOOKUP(BO15,BE13:BJ32, 2, FALSE), \"\")","v":""},{"$f":"IFERROR(VLOOKUP(BO15, BE13:BJ32, 5, FALSE), \"\")","v":""},{"$f":"IFERROR(VLOOKUP(BO15, BE13:BJ32, 6, FALSE), \"\")","v":""},null,null,null,2,{"$f":"IF(BP15>0,BP15,\"\")","v":""},"","","",null,null,null,"選手　3",0,{"$f":"IFERROR(INDEX($CG$42:$CG$91, SMALL(IF($CG$42:$CG$91<>\"\", ROW($CG$42:$CG$91)-ROW($CG$42)+1), ROW(CD3))), \"\")","v":""},null,null,{"$f":"IFERROR(INDEX($CH$42:$CH$91, SMALL(IF($CH$42:$CH$91<>\"\", ROW($CH$42:$CH$91)-ROW($CH$42)+1), ROW(BC3))), \"\")","v":""},{"$f":"IFERROR(INDEX($CI$42:$CI$91, SMALL(IF($CI$42:$CI$91<>\"\", ROW($CI$42:$CI$91)-ROW($CI$42)+1), ROW(BD3))), \"\")","v":""},null,null,null,null,2,null,{"$f":"IFERROR(VLOOKUP(CP15,CF13:CK32, 2, FALSE), \"\")","v":""},{"$f":"IFERROR(VLOOKUP(CP15, CF13:CK32, 5, FALSE), \"\")","v":""},{"$f":"IFERROR(VLOOKUP(CP15, CF13:CK32, 6, FALSE), \"\")","v":""},null,null,null,2,{"$f":"IF(CQ15>0,CQ15,\"\")","v":""},"","",""]
[null,"選手　4",0,{"$f":"IFERROR(INDEX($D$42:$D$91, SMALL(IF($D$42:$D$91<>\"\", ROW($D$42:$D$91)-ROW($D$42)+1), ROW(A4))), \"\")","v":""},null,null,{"$f":"IFERROR(INDEX($E$42:$E$91, SMALL(IF($E$42:$E$91<>\"\", ROW($E$42:$E$91)-ROW($E$42)+1), ROW(A4))), \"\")","v":""},{"$f":"IFERROR(INDEX($F$42:$F$91, SMALL(IF($F$42:$F$91<>\"\", ROW($F$42:$F$91)-ROW($F$42)+1), ROW(B4))), \"\")","v":""},null,null,null,null,3,null,{"$f":"IFERROR(VLOOKUP(M16, C13:H32, 2, FALSE), \"\")","v":""},{"$f":"IFERROR(VLOOKUP(M16, C13:H32, 5, FALSE), \"\")","v":""},{"$f":"IFERROR(VLOOKUP(M16, C13:H32, 6, FALSE), \"\")","v":""},null,null,null,3,"","","","",null,null,null,"選手　4",0,{"$f":"IFERROR(INDEX($AE$42:$AE$91, SMALL(IF($AE$42:$AE$91<>\"\", ROW($AE$42:$AE$91)-ROW($AE$42)+1), ROW(A4))), \"\")","v":""},null,null,{"$f":"IFERROR(INDEX($AF$42:$AF$91, SMALL(IF($AF$42:$AF$91<>\"\", ROW($AF$42:$AF$91)-ROW($AF$42)+1), ROW(A4))), \"\")","v":""},{"$f":"IFERROR(INDEX($AG$42:$AG$91, SMALL(IF($AG$42:$AG$91<>\"\", ROW($AG$42:$AG$91)-ROW($AG$42)+1), ROW(B4))), \"\")","v":""},null,null,null,null,3,null,{"$f":"IFERROR(VLOOKUP(AN16, AD13:AI32, 2, FALSE), \"\")","v":""},{"$f":"IFERROR(VLOOKUP(AN16, AD13:AI32, 5, FALSE), \"\")","v":""},{"$f":"IFERROR(VLOOKUP(AN16, AD13:AI32, 6, FALSE), \"\")","v":""},null,null,null,3,"","","","",null,null,null,"選手　4",0,{"$f":"IFERROR(INDEX($BF$42:$BF$91, SMALL(IF($BF$42:$BF$91<>\"\", ROW($BF$42:$BF$91)-ROW($BF$42)+1), ROW(BC4))), \"\")","v":""},null,null,{"$f":"IFERROR(INDEX($BG$42:$BG$91, SMALL(IF($BG$42:$BG$91<>\"\", ROW($BG$42:$BG$91)-ROW($BG$42)+1), ROW(AB4))), \"\")","v":""},{"$f":"IFERROR(INDEX($BH$42:$BH$91, SMALL(IF($BH$42:$BH$91<>\"\", ROW($BH$42:$BH$91)-ROW($BH$42)+1), ROW(AC4))), \"\")","v":""},null,null,null,null,3,null,{"$f":"IFERROR(VLOOKUP(BO16, BE13:BJ32, 2, FALSE), \"\")","v":""},{"$f":"IFERROR(VLOOKUP(BO16, BE13:BJ32, 5, FALSE), \"\")","v":""},{"$f":"IFERROR(VLOOKUP(BO16, BE13:BJ32, 6, FALSE), \"\")","v":""},null,null,null,3,"","","","",null,null,null,"選手　4",0,{"$f":"IFERROR(INDEX($CG$42:$CG$91, SMALL(IF($CG$42:$CG$91<>\"\", ROW($CG$42:$CG$91)-ROW($CG$42)+1), ROW(CD4))), \"\")","v":""},null,null,{"$f":"IFERROR(INDEX($CH$42:$CH$91, SMALL(IF($CH$42:$CH$91<>\"\", ROW($CH$42:$CH$91)-ROW($CH$42)+1), ROW(BC4))), \"\")","v":""},{"$f":"IFERROR(INDEX($CI$42:$CI$91, SMALL(IF($CI$42:$CI$91<>\"\", ROW($CI$42:$CI$91)-ROW($CI$42)+1), ROW(BD4))), \"\")","v":""},null,null,null,null,3,null,{"$f":"IFERROR(VLOOKUP(CP16, CF13:CK32, 2, FALSE), \"\")","v":""},{"$f":"IFERROR(VLOOKUP(CP16, CF13:CK32, 5, FALSE), \"\")","v":""},{"$f":"IFERROR(VLOOKUP(CP16, CF13:CK32, 6, FALSE), \"\")","v":""},null,null,null,3,"","","",""]
[null,"選手　5",0,{"$f":"IFERROR(INDEX($D$42:$D$91, SMALL(IF($D$42:$D$91<>\"\", ROW($D$42:$D$91)-ROW($D$42)+1), ROW(A5))), \"\")","v":""},null,null,{"$f":"IFERROR(INDEX($E$42:$E$91, SMALL(IF($E$42:$E$91<>\"\", ROW($E$42:$E$91)-ROW($E$42)+1), ROW(A5))), \"\")","v":""},{"$f":"IFERROR(INDEX($F$42:$F$91, SMALL(IF($F$42:$F$91<>\"\", ROW($F$42:$F$91)-ROW($F$42)+1), ROW(B5))), \"\")","v":""},null,null,null,null,4,null,{"$f":"IFERROR(VLOOKUP(M17, C13:H32, 2, FALSE), \"\")","v":""},{"$f":"IFERROR(VLOOKUP(M17, C13:H32, 5, FALSE), \"\")","v":""},{"$f":"IFERROR(VLOOKUP(M17, C13:H32, 6, FALSE), \"\")","v":""},null,null,null,4,"","","","",null,null,null,"選手　5",0,{"$f":"IFERROR(INDEX($AE$42:$AE$91, SMALL(IF($AE$42:$AE$91<>\"\", ROW($AE$42:$AE$91)-ROW($AE$42)+1), ROW(A5))), \"\")","v":""},null,null,{"$f":"IFERROR(INDEX($AF$42:$AF$91, SMALL(IF($AF$42:$AF$91<>\"\", ROW($AF$42:$AF$91)-ROW($AF$42)+1), ROW(A5))), \"\")","v":""},{"$f":"IFERROR(INDEX($AG$42:$AG$91, SMALL(IF($AG$42:$AG$91<>\"\", ROW($AG$42:$AG$91)-ROW($AG$42)+1), ROW(B5))), \"\")","v":""},null,null,null,null,4,null,{"$f":"IFERROR(VLOOKUP(AN17, AD13:AI32, 2, FALSE), \"\")","v":""},{"$f":"IFERROR(VLOOKUP(AN17, AD13:AI32, 5, FALSE), \"\")","v":""},{"$f":"IFERROR(VLOOKUP(AN17, AD13:AI32, 6, FALSE), \"\")","v":""},null,null,null,4,"","","","",null,null,null,"選手　5",0,{"$f":"IFERROR(INDEX($BF$42:$BF$91, SMALL(IF($BF$42:$BF$91<>\"\", ROW($BF$42:$BF$91)-ROW($BF$42)+1), ROW(BC5))), \"\")","v":""},null,null,{"$f":"IFERROR(INDEX($BG$42:$BG$91, SMALL(IF($BG$42:$BG$91<>\"\", ROW($BG$42:$BG$91)-ROW($BG$42)+1), ROW(AB5))), \"\")","v":""},{"$f":"IFERROR(INDEX($BH$42:$BH$91, SMALL(IF($BH$42:$BH$91<>\"\", ROW($BH$42:$BH$91)-ROW($BH$42)+1), ROW(AC5))), \"\")","v":""},null,null,null,null,4,null,{"$f":"IFERROR(VLOOKUP(BO17, BE13:BJ32, 2, FALSE), \"\")","v":""},{"$f":"IFERROR(VLOOKUP(BO17, BE13:BJ32, 5, FALSE), \"\")","v":""},{"$f":"IFERROR(VLOOKUP(BO17, BE13:BJ32, 6, FALSE), \"\")","v":""},null,null,null,4,"","","","",null,null,null,"選手　5",0,{"$f":"IFERROR(INDEX($CG$42:$CG$91, SMALL(IF($CG$42:$CG$91<>\"\", ROW($CG$42:$CG$91)-ROW($CG$42)+1), ROW(CD5))), \"\")","v":""},null,null,{"$f":"IFERROR(INDEX($CH$42:$CH$91, SMALL(IF($CH$42:$CH$91<>\"\", ROW($CH$42:$CH$91)-ROW($CH$42)+1), ROW(BC5))), \"\")","v":""},{"$f":"IFERROR(INDEX($CI$42:$CI$91, SMALL(IF($CI$42:$CI$91<>\"\", ROW($CI$42:$CI$91)-ROW($CI$42)+1), ROW(BD5))), \"\")","v":""},null,null,null,null,4,null,{"$f":"IFERROR(VLOOKUP(CP17, CF13:CK32, 2, FALSE), \"\")","v":""},{"$f":"IFERROR(VLOOKUP(CP17, CF13:CK32, 5, FALSE), \"\")","v":""},{"$f":"IFERROR(VLOOKUP(CP17, CF13:CK32, 6, FALSE), \"\")","v":""},null,null,null,4,"","","",""]
[null,"選手　6",0,{"$f":"IFERROR(INDEX($D$42:$D$91, SMALL(IF($D$42:$D$91<>\"\", ROW($D$42:$D$91)-ROW($D$42)+1), ROW(A6))), \"\")","v":""},null,null,{"$f":"IFERROR(INDEX($E$42:$E$91, SMALL(IF($E$42:$E$91<>\"\", ROW($E$42:$E$91)-ROW($E$42)+1), ROW(A6))), \"\")","v":""},{"$f":"IFERROR(INDEX($F$42:$F$91, SMALL(IF($F$42:$F$91<>\"\", ROW($F$42:$F$91)-ROW($F$42)+1), ROW(B6))), \"\")","v":""},null,null,null,null,5,null,{"$f":"IFERROR(VLOOKUP(M18, C13:H32, 2, FALSE), \"\")","v":""},{"$f":"IFERROR(VLOOKUP(M18, C13:H32, 5, FALSE), \"\")","v":""},{"$f":"IFERROR(VLOOKUP(M18, C13:H32, 6, FALSE), \"\")","v":""},null,null,null,5,"","","","",null,null,null,"選手　6",0,{"$f":"IFERROR(INDEX($AE$42:$AE$91, SMALL(IF($AE$42:$AE$91<>\"\", ROW($AE$42:$AE$91)-ROW($AE$42)+1), ROW(A6))), \"\")","v":""},null,null,{"$f":"IFERROR(INDEX($AF$42:$AF$91, SMALL(IF($AF$42:$AF$91<>\"\", ROW($AF$42:$AF$91)-ROW($AF$42)+1), ROW(A6))), \"\")","v":""},{"$f":"IFERROR(INDEX($AG$42:$AG$91, SMALL(IF($AG$42:$AG$91<>\"\", ROW($AG$42:$AG$91)-ROW($AG$42)+1), ROW(B6))), \"\")","v":""},null,null,null,null,5,null,{"$f":"IFERROR(VLOOKUP(AN18, AD13:AI32, 2, FALSE), \"\")","v":""},{"$f":"IFERROR(VLOOKUP(AN18, AD13:AI32, 5, FALSE), \"\")","v":""},{"$f":"IFERROR(VLOOKUP(AN18, AD13:AI32, 6, FALSE), \"\")","v":""},null,null,null,5,"","","","",null,null,null,"選手　6",0,{"$f":"IFERROR(INDEX($BF$42:$BF$91, SMALL(IF($BF$42:$BF$91<>\"\", ROW($BF$42:$BF$91)-ROW($BF$42)+1), ROW(BC6))), \"\")","v":""},null,null,{"$f":"IFERROR(INDEX($BG$42:$BG$91, SMALL(IF($BG$42:$BG$91<>\"\", ROW($BG$42:$BG$91)-ROW($BG$42)+1), ROW(AB6))), \"\")","v":""},{"$f":"IFERROR(INDEX($BH$42:$BH$91, SMALL(IF($BH$42:$BH$91<>\"\", ROW($BH$42:$BH$91)-ROW($BH$42)+1), ROW(AC6))), \"\")","v":""},null,null,null,null,5,null,{"$f":"IFERROR(VLOOKUP(BO18, BE13:BJ32, 2, FALSE), \"\")","v":""},{"$f":"IFERROR(VLOOKUP(BO18, BE13:BJ32, 5, FALSE), \"\")","v":""},{"$f":"IFERROR(VLOOKUP(BO18, BE13:BJ32, 6, FALSE), \"\")","v":""},null,null,null,5,"","","","",null,null,null,"選手　6",0,{"$f":"IFERROR(INDEX($CG$42:$CG$91, SMALL(IF($CG$42:$CG$91<>\"\", ROW($CG$42:$CG$91)-ROW($CG$42)+1), ROW(CD6))), \"\")","v":""},null,null,{"$f":"IFERROR(INDEX($CH$42:$CH$91, SMALL(IF($CH$42:$CH$91<>\"\", ROW($CH$42:$CH$91)-ROW($CH$42)+1), ROW(BC6))), \"\")","v":""},{"$f":"IFERROR(INDEX($CI$42:$CI$91, SMALL(IF($CI$42:$CI$91<>\"\", ROW($CI$42:$CI$91)-ROW($CI$42)+1), ROW(BD6))), \"\")","v":""},null,null,null,null,5,null,{"$f":"IFERROR(VLOOKUP(CP18, CF13:CK32, 2, FALSE), \"\")","v":""},{"$f":"IFERROR(VLOOKUP(CP18, CF13:CK32, 5, FALSE), \"\")","v":""},{"$f":"IFERROR(VLOOKUP(CP18, CF13:CK32, 6, FALSE), \"\")","v":""},null,null,null,5,"","","",""]
[null,"選手　7",0,{"$f":"IFERROR(INDEX($D$42:$D$91, SMALL(IF($D$42:$D$91<>\"\", ROW($D$42:$D$91)-ROW($D$42)+1), ROW(A7))), \"\")","v":""},null,null,{"$f":"IFERROR(INDEX($E$42:$E$91, SMALL(IF($E$42:$E$91<>\"\", ROW($E$42:$E$91)-ROW($E$42)+1), ROW(A7))), \"\")","v":""},{"$f":"IFERROR(INDEX($F$42:$F$91, SMALL(IF($F$42:$F$91<>\"\", ROW($F$42:$F$91)-ROW($F$42)+1), ROW(B7))), \"\")","v":""},null,null,null,null,6,null,{"$f":"IFERROR(VLOOKUP(M19, C13:H32, 2, FALSE), \"\")","v":""},{"$f":"IFERROR(VLOOKUP(M19, C13:H32, 5, FALSE), \"\")","v":""},{"$f":"IFERROR(VLOOKUP(M19, C13:H32, 6, FALSE), \"\")","v":""},null,null,null,6,"","","","",null,null,null,"選手　7",0,{"$f":"IFERROR(INDEX($AE$42:$AE$91, SMALL(IF($AE$42:$AE$91<>\"\", ROW($AE$42:$AE$91)-ROW($AE$42)+1), ROW(A7))), \"\")","v":""},null,null,{"$f":"IFERROR(INDEX($AF$42:$AF$91, SMALL(IF($AF$42:$AF$91<>\"\", ROW($AF$42:$AF$91)-ROW($AF$42)+1), ROW(A7))), \"\")","v":""},{"$f":"IFERROR(INDEX($AG$42:$AG$91, SMALL(IF($AG$42:$AG$91<>\"\", ROW($AG$42:$AG$91)-ROW($AG$42)+1), ROW(B7))), \"\")","v":""},null,null,null,null,6,null,{"$f":"IFERROR(VLOOKUP(AN19, AD13:AI32, 2, FALSE), \"\")","v":""},{"$f":"IFERROR(VLOOKUP(AN19, AD13:AI32, 5, FALSE), \"\")","v":""},{"$f":"IFERROR(VLOOKUP(AN19, AD13:AI32, 6, FALSE), \"\")","v":""},null,null,null,6,"","","","",null,null,null,"選手　7",0,{"$f":"IFERROR(INDEX($BF$42:$BF$91, SMALL(IF($BF$42:$BF$91<>\"\", ROW($BF$42:$BF$91)-ROW($BF$42)+1), ROW(BC7))), \"\")","v":""},null,null,{"$f":"IFERROR(INDEX($BG$42:$BG$91, SMALL(IF($BG$42:$BG$91<>\"\", ROW($BG$42:$BG$91)-ROW($BG$42)+1), ROW(AB7))), \"\")","v":""},{"$f":"IFERROR(INDEX($BH$42:$BH$91, SMALL(IF($BH$42:$BH$91<>\"\", ROW($BH$42:$BH$91)-ROW($BH$42)+1), ROW(AC7))), \"\")","v":""},null,null,null,null,6,null,{"$f":"IFERROR(VLOOKUP(BO19, BE13:BJ32, 2, FALSE), \"\")","v":""},{"$f":"IFERROR(VLOOKUP(BO19, BE13:BJ32, 5, FALSE), \"\")","v":""},{"$f":"IFERROR(VLOOKUP(BO19, BE13:BJ32, 6, FALSE), \"\")","v":""},null,null,null,6,"","","","",null,null,null,"選手　7",0,{"$f":"IFERROR(INDEX($CG$42:$CG$91, SMALL(IF($CG$42:$CG$91<>\"\", ROW($CG$42:$CG$91)-ROW($CG$42)+1), ROW(CD7))), \"\")","v":""},null,null,{"$f":"IFERROR(INDEX($CH$42:$CH$91, SMALL(IF($CH$42:$CH$91<>\"\", ROW($CH$42:$CH$91)-ROW($CH$42)+1), ROW(BC7))), \"\")","v":""},{"$f":"IFERROR(INDEX($CI$42:$CI$91, SMALL(IF($CI$42:$CI$91<>\"\", ROW($CI$42:$CI$91)-ROW($CI$42)+1), ROW(BD7))), \"\")","v":""},null,null,null,null,6,null,{"$f":"IFERROR(VLOOKUP(CP19, CF13:CK32, 2, FALSE), \"\")","v":""},{"$f":"IFERROR(VLOOKUP(CP19, CF13:CK32, 5, FALSE), \"\")","v":""},{"$f":"IFERROR(VLOOKUP(CP19, CF13:CK32, 6, FALSE), \"\")","v":""},null,null,null,6,"","","",""]
[null,"選手　8",0,{"$f":"IFERROR(INDEX($D$42:$D$91, SMALL(IF($D$42:$D$91<>\"\", ROW($D$42:$D$91)-ROW($D$42)+1), ROW(A8))), \"\")","v":""},null,null,{"$f":"IFERROR(INDEX($E$42:$E$91, SMALL(IF($E$42:$E$91<>\"\", ROW($E$42:$E$91)-ROW($E$42)+1), ROW(A8))), \"\")","v":""},{"$f":"IFERROR(INDEX($F$42:$F$91, SMALL(IF($F$42:$F$91<>\"\", ROW($F$42:$F$91)-ROW($F$42)+1), ROW(B8))), \"\")","v":""},null,null,null,null,7,null,{"$f":"IFERROR(VLOOKUP(M20, C13:H32, 2, FALSE), \"\")","v":""},{"$f":"IFERROR(VLOOKUP(M20, C13:H32, 5, FALSE), \"\")","v":""},{"$f":"IFERROR(VLOOKUP(M20, C13:H32, 6, FALSE), \"\")","v":""},null,null,null,7,"","","","",null,null,null,"選手　8",0,{"$f":"IFERROR(INDEX($AE$42:$AE$91, SMALL(IF($AE$42:$AE$91<>\"\", ROW($AE$42:$AE$91)-ROW($AE$42)+1), ROW(A8))), \"\")","v":""},null,null,{"$f":"IFERROR(INDEX($AF$42:$AF$91, SMALL(IF($AF$42:$AF$91<>\"\", ROW($AF$42:$AF$91)-ROW($AF$42)+1), ROW(A8))), \"\")","v":""},{"$f":"IFERROR(INDEX($AG$42:$AG$91, SMALL(IF($AG$42:$AG$91<>\"\", ROW($AG$42:$AG$91)-ROW($AG$42)+1), ROW(B8))), \"\")","v":""},null,null,null,null,7,null,{"$f":"IFERROR(VLOOKUP(AN20, AD13:AI32, 2, FALSE), \"\")","v":""},{"$f":"IFERROR(VLOOKUP(AN20, AD13:AI32, 5, FALSE), \"\")","v":""},{"$f":"IFERROR(VLOOKUP(AN20, AD13:AI32, 6, FALSE), \"\")","v":""},null,null,null,7,"","","","",null,null,null,"選手　8",0,{"$f":"IFERROR(INDEX($BF$42:$BF$91, SMALL(IF($BF$42:$BF$91<>\"\", ROW($BF$42:$BF$91)-ROW($BF$42)+1), ROW(BC8))), \"\")","v":""},null,null,{"$f":"IFERROR(INDEX($BG$42:$BG$91, SMALL(IF($BG$42:$BG$91<>\"\", ROW($BG$42:$BG$91)-ROW($BG$42)+1), ROW(AB8))), \"\")","v":""},{"$f":"IFERROR(INDEX($BH$42:$BH$91, SMALL(IF($BH$42:$BH$91<>\"\", ROW($BH$42:$BH$91)-ROW($BH$42)+1), ROW(AC8))), \"\")","v":""},null,null,null,null,7,null,{"$f":"IFERROR(VLOOKUP(BO20, BE13:BJ32, 2, FALSE), \"\")","v":""},{"$f":"IFERROR(VLOOKUP(BO20, BE13:BJ32, 5, FALSE), \"\")","v":""},{"$f":"IFERROR(VLOOKUP(BO20, BE13:BJ32, 6, FALSE), \"\")","v":""},null,null,null,7,"","","","",null,null,null,"選手　8",0,{"$f":"IFERROR(INDEX($CG$42:$CG$91, SMALL(IF($CG$42:$CG$91<>\"\", ROW($CG$42:$CG$91)-ROW($CG$42)+1), ROW(CD8))), \"\")","v":""},null,null,{"$f":"IFERROR(INDEX($CH$42:$CH$91, SMALL(IF($CH$42:$CH$91<>\"\", ROW($CH$42:$CH$91)-ROW($CH$42)+1), ROW(BC8))), \"\")","v":""},{"$f":"IFERROR(INDEX($CI$42:$CI$91, SMALL(IF($CI$42:$CI$91<>\"\", ROW($CI$42:$CI$91)-ROW($CI$42)+1), ROW(BD8))), \"\")","v":""},null,null,null,null,7,null,{"$f":"IFERROR(VLOOKUP(CP20, CF13:CK32, 2, FALSE), \"\")","v":""},{"$f":"IFERROR(VLOOKUP(CP20, CF13:CK32, 5, FALSE), \"\")","v":""},{"$f":"IFERROR(VLOOKUP(CP20, CF13:CK32, 6, FALSE), \"\")","v":""},null,null,null,7,"","","",""]
[null,"選手　9",0,{"$f":"IFERROR(INDEX($D$42:$D$91, SMALL(IF($D$42:$D$91<>\"\", ROW($D$42:$D$91)-ROW($D$42)+1), ROW(A9))), \"\")","v":""},null,null,{"$f":"IFERROR(INDEX($E$42:$E$91, SMALL(IF($E$42:$E$91<>\"\", ROW($E$42:$E$91)-ROW($E$42)+1), ROW(A9))), \"\")","v":""},{"$f":"IFERROR(INDEX($F$42:$F$91, SMALL(IF($F$42:$F$91<>\"\", ROW($F$42:$F$91)-ROW($F$42)+1), ROW(B9))), \"\")","v":""},null,null,null,null,8,null,{"$f":"IFERROR(VLOOKUP(M21, C13:H32, 2, FALSE), \"\")","v":""},{"$f":"IFERROR(VLOOKUP(M21, C13:H32, 5, FALSE), \"\")","v":""},{"$f":"IFERROR(VLOOKUP(M21, C13:H32, 6, FALSE), \"\")","v":""},null,null,null,8,"","","","",null,null,null,"選手　9",0,{"$f":"IFERROR(INDEX($AE$42:$AE$91, SMALL(IF($AE$42:$AE$91<>\"\", ROW($AE$42:$AE$91)-ROW($AE$42)+1), ROW(A9))), \"\")","v":""},null,null,{"$f":"IFERROR(INDEX($AF$42:$AF$91, SMALL(IF($AF$42:$AF$91<>\"\", ROW($AF$42:$AF$91)-ROW($AF$42)+1), ROW(A9))), \"\")","v":""},{"$f":"IFERROR(INDEX($AG$42:$AG$91, SMALL(IF($AG$42:$AG$91<>\"\", ROW($AG$42:$AG$91)-ROW($AG$42)+1), ROW(B9))), \"\")","v":""},null,null,null,null,8,null,{"$f":"IFERROR(VLOOKUP(AN21, AD13:AI32, 2, FALSE), \"\")","v":""},{"$f":"IFERROR(VLOOKUP(AN21, AD13:AI32, 5, FALSE), \"\")","v":""},{"$f":"IFERROR(VLOOKUP(AN21, AD13:AI32, 6, FALSE), \"\")","v":""},null,null,null,8,"","","","",null,null,null,"選手　9",0,{"$f":"IFERROR(INDEX($BF$42:$BF$91, SMALL(IF($BF$42:$BF$91<>\"\", ROW($BF$42:$BF$91)-ROW($BF$42)+1), ROW(BC9))), \"\")","v":""},null,null,{"$f":"IFERROR(INDEX($BG$42:$BG$91, SMALL(IF($BG$42:$BG$91<>\"\", ROW($BG$42:$BG$91)-ROW($BG$42)+1), ROW(AB9))), \"\")","v":""},{"$f":"IFERROR(INDEX($BH$42:$BH$91, SMALL(IF($BH$42:$BH$91<>\"\", ROW($BH$42:$BH$91)-ROW($BH$42)+1), ROW(AC9))), \"\")","v":""},null,null,null,null,8,null,{"$f":"IFERROR(VLOOKUP(BO21, BE13:BJ32, 2, FALSE), \"\")","v":""},{"$f":"IFERROR(VLOOKUP(BO21, BE13:BJ32, 5, FALSE), \"\")","v":""},{"$f":"IFERROR(VLOOKUP(BO21, BE13:BJ32, 6, FALSE), \"\")","v":""},null,null,null,8,"","","","",null,null,null,"選手　9",0,{"$f":"IFERROR(INDEX($CG$42:$CG$91, SMALL(IF($CG$42:$CG$91<>\"\", ROW($CG$42:$CG$91)-ROW($CG$42)+1), ROW(CD9))), \"\")","v":""},null,null,{"$f":"IFERROR(INDEX($CH$42:$CH$91, SMALL(IF($CH$42:$CH$91<>\"\", ROW($CH$42:$CH$91)-ROW($CH$42)+1), ROW(BC9))), \"\")","v":""},{"$f":"IFERROR(INDEX($CI$42:$CI$91, SMALL(IF($CI$42:$CI$91<>\"\", ROW($CI$42:$CI$91)-ROW($CI$42)+1), ROW(BD9))), \"\")","v":""},null,null,null,null,8,null,{"$f":"IFERROR(VLOOKUP(CP21, CF13:CK32, 2, FALSE), \"\")","v":""},{"$f":"IFERROR(VLOOKUP(CP21, CF13:CK32, 5, FALSE), \"\")","v":""},{"$f":"IFERROR(VLOOKUP(CP21, CF13:CK32, 6, FALSE), \"\")","v":""},null,null,null,8,"","","",""]
[null,"選手　10",0,{"$f":"IFERROR(INDEX($D$42:$D$91, SMALL(IF($D$42:$D$91<>\"\", ROW($D$42:$D$91)-ROW($D$42)+1), ROW(A10))), \"\")","v":""},null,null,{"$f":"IFERROR(INDEX($E$42:$E$91, SMALL(IF($E$42:$E$91<>\"\", ROW($E$42:$E$91)-ROW($E$42)+1), ROW(A10))), \"\")","v":""},{"$f":"IFERROR(INDEX($F$42:$F$91, SMALL(IF($F$42:$F$91<>\"\", ROW($F$42:$F$91)-ROW($F$42)+1), ROW(B10))), \"\")","v":""},null,null,null,null,9,null,{"$f":"IFERROR(VLOOKUP(M22, C13:H32, 2, FALSE), \"\")","v":""},{"$f":"IFERROR(VLOOKUP(M22, C13:H32, 5, FALSE), \"\")","v":""},{"$f":"IFERROR(VLOOKUP(M22, C13:H32, 6, FALSE), \"\")","v":""},null,null,null,9,"","","","",null,null,null,"選手　10",0,{"$f":"IFERROR(INDEX($AE$42:$AE$91, SMALL(IF($AE$42:$AE$91<>\"\", ROW($AE$42:$AE$91)-ROW($AE$42)+1), ROW(A10))), \"\")","v":""},null,null,{"$f":"IFERROR(INDEX($AF$42:$AF$91, SMALL(IF($AF$42:$AF$91<>\"\", ROW($AF$42:$AF$91)-ROW($AF$42)+1), ROW(A10))), \"\")","v":""},{"$f":"IFERROR(INDEX($AG$42:$AG$91, SMALL(IF($AG$42:$AG$91<>\"\", ROW($AG$42:$AG$91)-ROW($AG$42)+1), ROW(B10))), \"\")","v":""},null,null,null,null,9,null,{"$f":"IFERROR(VLOOKUP(AN22, AD13:AI32, 2, FALSE), \"\")","v":""},{"$f":"IFERROR(VLOOKUP(AN22, AD13:AI32, 5, FALSE), \"\")","v":""},{"$f":"IFERROR(VLOOKUP(AN22, AD13:AI32, 6, FALSE), \"\")","v":""},null,null,null,9,"","","","",null,null,null,"選手　10",0,{"$f":"IFERROR(INDEX($BF$42:$BF$91, SMALL(IF($BF$42:$BF$91<>\"\", ROW($BF$42:$BF$91)-ROW($BF$42)+1), ROW(BC10))), \"\")","v":""},null,null,{"$f":"IFERROR(INDEX($BG$42:$BG$91, SMALL(IF($BG$42:$BG$91<>\"\", ROW($BG$42:$BG$91)-ROW($BG$42)+1), ROW(AB10))), \"\")","v":""},{"$f":"IFERROR(INDEX($BH$42:$BH$91, SMALL(IF($BH$42:$BH$91<>\"\", ROW($BH$42:$BH$91)-ROW($BH$42)+1), ROW(AC10))), \"\")","v":""},null,null,null,null,9,null,{"$f":"IFERROR(VLOOKUP(BO22, BE13:BJ32, 2, FALSE), \"\")","v":""},{"$f":"IFERROR(VLOOKUP(BO22, BE13:BJ32, 5, FALSE), \"\")","v":""},{"$f":"IFERROR(VLOOKUP(BO22, BE13:BJ32, 6, FALSE), \"\")","v":""},null,null,null,9,"","","","",null,null,null,"選手　10",0,{"$f":"IFERROR(INDEX($CG$42:$CG$91, SMALL(IF($CG$42:$CG$91<>\"\", ROW($CG$42:$CG$91)-ROW($CG$42)+1), ROW(CD10))), \"\")","v":""},null,null,{"$f":"IFERROR(INDEX($CH$42:$CH$91, SMALL(IF($CH$42:$CH$91<>\"\", ROW($CH$42:$CH$91)-ROW($CH$42)+1), ROW(BC10))), \"\")","v":""},{"$f":"IFERROR(INDEX($CI$42:$CI$91, SMALL(IF($CI$42:$CI$91<>\"\", ROW($CI$42:$CI$91)-ROW($CI$42)+1), ROW(BD10))), \"\")","v":""},null,null,null,null,9,null,{"$f":"IFERROR(VLOOKUP(CP22, CF13:CK32, 2, FALSE), \"\")","v":""},{"$f":"IFERROR(VLOOKUP(CP22, CF13:CK32, 5, FALSE), \"\")","v":""},{"$f":"IFERROR(VLOOKUP(CP22, CF13:CK32, 6, FALSE), \"\")","v":""},null,null,null,9,"","","",""]
[null,"選手　11",0,{"$f":"IFERROR(INDEX($D$42:$D$91, SMALL(IF($D$42:$D$91<>\"\", ROW($D$42:$D$91)-ROW($D$42)+1), ROW(A11))), \"\")","v":""},null,null,{"$f":"IFERROR(INDEX($E$42:$E$91, SMALL(IF($E$42:$E$91<>\"\", ROW($E$42:$E$91)-ROW($E$42)+1), ROW(A11))), \"\")","v":""},{"$f":"IFERROR(INDEX($F$42:$F$91, SMALL(IF($F$42:$F$91<>\"\", ROW($F$42:$F$91)-ROW($F$42)+1), ROW(B11))), \"\")","v":""},null,null,null,null,10,null,{"$f":"IFERROR(VLOOKUP(M23,C13:H32, 2, FALSE), \"\")","v":""},{"$f":"IFERROR(VLOOKUP(M23, C13:H32, 5, FALSE), \"\")","v":""},{"$f":"IFERROR(VLOOKUP(M23, C13:H32, 6, FALSE), \"\")","v":""},null,null,null,10,"","","","",null,null,null,"選手　11",0,{"$f":"IFERROR(INDEX($AE$42:$AE$91, SMALL(IF($AE$42:$AE$91<>\"\", ROW($AE$42:$AE$91)-ROW($AE$42)+1), ROW(A11))), \"\")","v":""},null,null,{"$f":"IFERROR(INDEX($AF$42:$AF$91, SMALL(IF($AF$42:$AF$91<>\"\", ROW($AF$42:$AF$91)-ROW($AF$42)+1), ROW(A11))), \"\")","v":""},{"$f":"IFERROR(INDEX($AG$42:$AG$91, SMALL(IF($AG$42:$AG$91<>\"\", ROW($AG$42:$AG$91)-ROW($AG$42)+1), ROW(B11))), \"\")","v":""},null,null,null,null,10,null,{"$f":"IFERROR(VLOOKUP(AN23,AD13:AI32, 2, FALSE), \"\")","v":""},{"$f":"IFERROR(VLOOKUP(AN23, AD13:AI32, 5, FALSE), \"\")","v":""},{"$f":"IFERROR(VLOOKUP(AN23, AD13:AI32, 6, FALSE), \"\")","v":""},null,null,null,10,"","","","",null,null,null,"選手　11",0,{"$f":"IFERROR(INDEX($BF$42:$BF$91, SMALL(IF($BF$42:$BF$91<>\"\", ROW($BF$42:$BF$91)-ROW($BF$42)+1), ROW(BC11))), \"\")","v":""},null,null,{"$f":"IFERROR(INDEX($BG$42:$BG$91, SMALL(IF($BG$42:$BG$91<>\"\", ROW($BG$42:$BG$91)-ROW($BG$42)+1), ROW(AB11))), \"\")","v":""},{"$f":"IFERROR(INDEX($BH$42:$BH$91, SMALL(IF($BH$42:$BH$91<>\"\", ROW($BH$42:$BH$91)-ROW($BH$42)+1), ROW(AC11))), \"\")","v":""},null,null,null,null,10,null,{"$f":"IFERROR(VLOOKUP(BO23,BE13:BJ32, 2, FALSE), \"\")","v":""},{"$f":"IFERROR(VLOOKUP(BO23, BE13:BJ32, 5, FALSE), \"\")","v":""},{"$f":"IFERROR(VLOOKUP(BO23, BE13:BJ32, 6, FALSE), \"\")","v":""},null,null,null,10,"","","","",null,null,null,"選手　11",0,{"$f":"IFERROR(INDEX($CG$42:$CG$91, SMALL(IF($CG$42:$CG$91<>\"\", ROW($CG$42:$CG$91)-ROW($CG$42)+1), ROW(CD11))), \"\")","v":""},null,null,{"$f":"IFERROR(INDEX($CH$42:$CH$91, SMALL(IF($CH$42:$CH$91<>\"\", ROW($CH$42:$CH$91)-ROW($CH$42)+1), ROW(BC11))), \"\")","v":""},{"$f":"IFERROR(INDEX($CI$42:$CI$91, SMALL(IF($CI$42:$CI$91<>\"\", ROW($CI$42:$CI$91)-ROW($CI$42)+1), ROW(BD11))), \"\")","v":""},null,null,null,null,10,null,{"$f":"IFERROR(VLOOKUP(CP23,CF13:CK32, 2, FALSE), \"\")","v":""},{"$f":"IFERROR(VLOOKUP(CP23, CF13:CK32, 5, FALSE), \"\")","v":""},{"$f":"IFERROR(VLOOKUP(CP23, CF13:CK32, 6, FALSE), \"\")","v":""},null,null,null,10,"","","",""]
[null,"選手　12",0,{"$f":"IFERROR(INDEX($D$42:$D$91, SMALL(IF($D$42:$D$91<>\"\", ROW($D$42:$D$91)-ROW($D$42)+1), ROW(A12))), \"\")","v":""},null,null,{"$f":"IFERROR(INDEX($E$42:$E$91, SMALL(IF($E$42:$E$91<>\"\", ROW($E$42:$E$91)-ROW($E$42)+1), ROW(A12))), \"\")","v":""},{"$f":"IFERROR(INDEX($F$42:$F$91, SMALL(IF($F$42:$F$91<>\"\", ROW($F$42:$F$91)-ROW($F$42)+1), ROW(B12))), \"\")","v":""},null,null,null,null,11,null,{"$f":"IFERROR(VLOOKUP(M24, C13:H32, 2, FALSE), \"\")","v":""},{"$f":"IFERROR(VLOOKUP(M24, C13:H32, 5, FALSE), \"\")","v":""},{"$f":"IFERROR(VLOOKUP(M24, C13:H32, 6, FALSE), \"\")","v":""},null,null,null,11,"","","","",null,null,null,"選手　12",0,{"$f":"IFERROR(INDEX($AE$42:$AE$91, SMALL(IF($AE$42:$AE$91<>\"\", ROW($AE$42:$AE$91)-ROW($AE$42)+1), ROW(A12))), \"\")","v":""},null,null,{"$f":"IFERROR(INDEX($AF$42:$AF$91, SMALL(IF($AF$42:$AF$91<>\"\", ROW($AF$42:$AF$91)-ROW($AF$42)+1), ROW(A12))), \"\")","v":""},{"$f":"IFERROR(INDEX($AG$42:$AG$91, SMALL(IF($AG$42:$AG$91<>\"\", ROW($AG$42:$AG$91)-ROW($AG$42)+1), ROW(B12))), \"\")","v":""},null,null,null,null,11,null,{"$f":"IFERROR(VLOOKUP(AN24, AD13:AI32, 2, FALSE), \"\")","v":""},{"$f":"IFERROR(VLOOKUP(AN24, AD13:AI32, 5, FALSE), \"\")","v":""},{"$f":"IFERROR(VLOOKUP(AN24, AD13:AI32, 6, FALSE), \"\")","v":""},null,null,null,11,"","","","",null,null,null,"選手　12",0,{"$f":"IFERROR(INDEX($BF$42:$BF$91, SMALL(IF($BF$42:$BF$91<>\"\", ROW($BF$42:$BF$91)-ROW($BF$42)+1), ROW(BC12))), \"\")","v":""},null,null,{"$f":"IFERROR(INDEX($BG$42:$BG$91, SMALL(IF($BG$42:$BG$91<>\"\", ROW($BG$42:$BG$91)-ROW($BG$42)+1), ROW(AB12))), \"\")","v":""},{"$f":"IFERROR(INDEX($BH$42:$BH$91, SMALL(IF($BH$42:$BH$91<>\"\", ROW($BH$42:$BH$91)-ROW($BH$42)+1), ROW(AC12))), \"\")","v":""},null,null,null,null,11,null,{"$f":"IFERROR(VLOOKUP(BO24, BE13:BJ32, 2, FALSE), \"\")","v":""},{"$f":"IFERROR(VLOOKUP(BO24, BE13:BJ32, 5, FALSE), \"\")","v":""},{"$f":"IFERROR(VLOOKUP(BO24, BE13:BJ32, 6, FALSE), \"\")","v":""},null,null,null,11,"","","","",null,null,null,"選手　12",0,{"$f":"IFERROR(INDEX($CG$42:$CG$91, SMALL(IF($CG$42:$CG$91<>\"\", ROW($CG$42:$CG$91)-ROW($CG$42)+1), ROW(CD12))), \"\")","v":""},null,null,{"$f":"IFERROR(INDEX($CH$42:$CH$91, SMALL(IF($CH$42:$CH$91<>\"\", ROW($CH$42:$CH$91)-ROW($CH$42)+1), ROW(BC12))), \"\")","v":""},{"$f":"IFERROR(INDEX($CI$42:$CI$91, SMALL(IF($CI$42:$CI$91<>\"\", ROW($CI$42:$CI$91)-ROW($CI$42)+1), ROW(BD12))), \"\")","v":""},null,null,null,null,11,null,{"$f":"IFERROR(VLOOKUP(CP24, CF13:CK32, 2, FALSE), \"\")","v":""},{"$f":"IFERROR(VLOOKUP(CP24, CF13:CK32, 5, FALSE), \"\")","v":""},{"$f":"IFERROR(VLOOKUP(CP24, CF13:CK32, 6, FALSE), \"\")","v":""},null,null,null,11,"","","",""]
[null,"選手　13",0,{"$f":"IFERROR(INDEX($D$42:$D$91, SMALL(IF($D$42:$D$91<>\"\", ROW($D$42:$D$91)-ROW($D$42)+1), ROW(A13))), \"\")","v":""},null,null,{"$f":"IFERROR(INDEX($E$42:$E$91, SMALL(IF($E$42:$E$91<>\"\", ROW($E$42:$E$91)-ROW($E$42)+1), ROW(A13))), \"\")","v":""},{"$f":"IFERROR(INDEX($F$42:$F$91, SMALL(IF($F$42:$F$91<>\"\", ROW($F$42:$F$91)-ROW($F$42)+1), ROW(B13))), \"\")","v":""},null,null,null,null,12,null,{"$f":"IFERROR(VLOOKUP(M25, C13:H32, 2, FALSE), \"\")","v":""},{"$f":"IFERROR(VLOOKUP(M25, C13:H32, 5, FALSE), \"\")","v":""},{"$f":"IFERROR(VLOOKUP(M25, C13:H32, 6, FALSE), \"\")","v":""},null,null,null,12,"","","","",null,null,null,"選手　13",0,{"$f":"IFERROR(INDEX($AE$42:$AE$91, SMALL(IF($AE$42:$AE$91<>\"\", ROW($AE$42:$AE$91)-ROW($AE$42)+1), ROW(A13))), \"\")","v":""},null,null,{"$f":"IFERROR(INDEX($AF$42:$AF$91, SMALL(IF($AF$42:$AF$91<>\"\", ROW($AF$42:$AF$91)-ROW($AF$42)+1), ROW(A13))), \"\")","v":""},{"$f":"IFERROR(INDEX($AG$42:$AG$91, SMALL(IF($AG$42:$AG$91<>\"\", ROW($AG$42:$AG$91)-ROW($AG$42)+1), ROW(B13))), \"\")","v":""},null,null,null,null,12,null,{"$f":"IFERROR(VLOOKUP(AN25, AD13:AI32, 2, FALSE), \"\")","v":""},{"$f":"IFERROR(VLOOKUP(AN25, AD13:AI32, 5, FALSE), \"\")","v":""},{"$f":"IFERROR(VLOOKUP(AN25, AD13:AI32, 6, FALSE), \"\")","v":""},null,null,null,12,"","","","",null,null,null,"選手　13",0,{"$f":"IFERROR(INDEX($BF$42:$BF$91, SMALL(IF($BF$42:$BF$91<>\"\", ROW($BF$42:$BF$91)-ROW($BF$42)+1), ROW(BC13))), \"\")","v":""},null,null,{"$f":"IFERROR(INDEX($BG$42:$BG$91, SMALL(IF($BG$42:$BG$91<>\"\", ROW($BG$42:$BG$91)-ROW($BG$42)+1), ROW(AB13))), \"\")","v":""},{"$f":"IFERROR(INDEX($BH$42:$BH$91, SMALL(IF($BH$42:$BH$91<>\"\", ROW($BH$42:$BH$91)-ROW($BH$42)+1), ROW(AC13))), \"\")","v":""},null,null,null,null,12,null,{"$f":"IFERROR(VLOOKUP(BO25, BE13:BJ32, 2, FALSE), \"\")","v":""},{"$f":"IFERROR(VLOOKUP(BO25, BE13:BJ32, 5, FALSE), \"\")","v":""},{"$f":"IFERROR(VLOOKUP(BO25, BE13:BJ32, 6, FALSE), \"\")","v":""},null,null,null,12,"","","","",null,null,null,"選手　13",0,{"$f":"IFERROR(INDEX($CG$42:$CG$91, SMALL(IF($CG$42:$CG$91<>\"\", ROW($CG$42:$CG$91)-ROW($CG$42)+1), ROW(CD13))), \"\")","v":""},null,null,{"$f":"IFERROR(INDEX($CH$42:$CH$91, SMALL(IF($CH$42:$CH$91<>\"\", ROW($CH$42:$CH$91)-ROW($CH$42)+1), ROW(BC13))), \"\")","v":""},{"$f":"IFERROR(INDEX($CI$42:$CI$91, SMALL(IF($CI$42:$CI$91<>\"\", ROW($CI$42:$CI$91)-ROW($CI$42)+1), ROW(BD13))), \"\")","v":""},null,null,null,null,12,null,{"$f":"IFERROR(VLOOKUP(CP25, CF13:CK32, 2, FALSE), \"\")","v":""},{"$f":"IFERROR(VLOOKUP(CP25, CF13:CK32, 5, FALSE), \"\")","v":""},{"$f":"IFERROR(VLOOKUP(CP25, CF13:CK32, 6, FALSE), \"\")","v":""},null,null,null,12,"","","",""]
[null,"選手　14",0,{"$f":"IFERROR(INDEX($D$42:$D$91, SMALL(IF($D$42:$D$91<>\"\", ROW($D$42:$D$91)-ROW($D$42)+1), ROW(A14))), \"\")","v":""},null,null,{"$f":"IFERROR(INDEX($E$42:$E$91, SMALL(IF($E$42:$E$91<>\"\", ROW($E$42:$E$91)-ROW($E$42)+1), ROW(A14))), \"\")","v":""},{"$f":"IFERROR(INDEX($F$42:$F$91, SMALL(IF($F$42:$F$91<>\"\", ROW($F$42:$F$91)-ROW($F$42)+1), ROW(B14))), \"\")","v":""},null,null,null,null,13,null,{"$f":"IFERROR(VLOOKUP(M26, C13:H32, 2, FALSE), \"\")","v":""},{"$f":"IFERROR(VLOOKUP(M26, C13:H32, 5, FALSE), \"\")","v":""},{"$f":"IFERROR(VLOOKUP(M26, C13:H32, 6, FALSE), \"\")","v":""},null,null,null,13,"","","","",null,null,null,"選手　14",0,{"$f":"IFERROR(INDEX($AE$42:$AE$91, SMALL(IF($AE$42:$AE$91<>\"\", ROW($AE$42:$AE$91)-ROW($AE$42)+1), ROW(A14))), \"\")","v":""},null,null,{"$f":"IFERROR(INDEX($AF$42:$AF$91, SMALL(IF($AF$42:$AF$91<>\"\", ROW($AF$42:$AF$91)-ROW($AF$42)+1), ROW(A14))), \"\")","v":""},{"$f":"IFERROR(INDEX($AG$42:$AG$91, SMALL(IF($AG$42:$AG$91<>\"\", ROW($AG$42:$AG$91)-ROW($AG$42)+1), ROW(B14))), \"\")","v":""},null,null,null,null,13,null,{"$f":"IFERROR(VLOOKUP(AN26, AD13:AI32, 2, FALSE), \"\")","v":""},{"$f":"IFERROR(VLOOKUP(AN26, AD13:AI32, 5, FALSE), \"\")","v":""},{"$f":"IFERROR(VLOOKUP(AN26, AD13:AI32, 6, FALSE), \"\")","v":""},null,null,null,13,"","","","",null,null,null,"選手　14",0,{"$f":"IFERROR(INDEX($BF$42:$BF$91, SMALL(IF($BF$42:$BF$91<>\"\", ROW($BF$42:$BF$91)-ROW($BF$42)+1), ROW(BC14))), \"\")","v":""},null,null,{"$f":"IFERROR(INDEX($BG$42:$BG$91, SMALL(IF($BG$42:$BG$91<>\"\", ROW($BG$42:$BG$91)-ROW($BG$42)+1), ROW(AB14))), \"\")","v":""},{"$f":"IFERROR(INDEX($BH$42:$BH$91, SMALL(IF($BH$42:$BH$91<>\"\", ROW($BH$42:$BH$91)-ROW($BH$42)+1), ROW(AC14))), \"\")","v":""},null,null,null,null,13,null,{"$f":"IFERROR(VLOOKUP(BO26, BE13:BJ32, 2, FALSE), \"\")","v":""},{"$f":"IFERROR(VLOOKUP(BO26, BE13:BJ32, 5, FALSE), \"\")","v":""},{"$f":"IFERROR(VLOOKUP(BO26, BE13:BJ32, 6, FALSE), \"\")","v":""},null,null,null,13,"","","","",null,null,null,"選手　14",0,{"$f":"IFERROR(INDEX($CG$42:$CG$91, SMALL(IF($CG$42:$CG$91<>\"\", ROW($CG$42:$CG$91)-ROW($CG$42)+1), ROW(CD14))), \"\")","v":""},null,null,{"$f":"IFERROR(INDEX($CH$42:$CH$91, SMALL(IF($CH$42:$CH$91<>\"\", ROW($CH$42:$CH$91)-ROW($CH$42)+1), ROW(BC14))), \"\")","v":""},{"$f":"IFERROR(INDEX($CI$42:$CI$91, SMALL(IF($CI$42:$CI$91<>\"\", ROW($CI$42:$CI$91)-ROW($CI$42)+1), ROW(BD14))), \"\")","v":""},null,null,null,null,13,null,{"$f":"IFERROR(VLOOKUP(CP26, CF13:CK32, 2, FALSE), \"\")","v":""},{"$f":"IFERROR(VLOOKUP(CP26, CF13:CK32, 5, FALSE), \"\")","v":""},{"$f":"IFERROR(VLOOKUP(CP26, CF13:CK32, 6, FALSE), \"\")","v":""},null,null,null,13,"","","",""]
[null,"選手　15",0,{"$f":"IFERROR(INDEX($D$42:$D$91, SMALL(IF($D$42:$D$91<>\"\", ROW($D$42:$D$91)-ROW($D$42)+1), ROW(A15))), \"\")","v":""},null,null,{"$f":"IFERROR(INDEX($E$42:$E$91, SMALL(IF($E$42:$E$91<>\"\", ROW($E$42:$E$91)-ROW($E$42)+1), ROW(A15))), \"\")","v":""},{"$f":"IFERROR(INDEX($F$42:$F$91, SMALL(IF($F$42:$F$91<>\"\", ROW($F$42:$F$91)-ROW($F$42)+1), ROW(B15))), \"\")","v":""},null,null,null,null,14,null,{"$f":"IFERROR(VLOOKUP(M27,C13:H32, 2, FALSE), \"\")","v":""},{"$f":"IFERROR(VLOOKUP(M27, C13:H32, 5, FALSE), \"\")","v":""},{"$f":"IFERROR(VLOOKUP(M27, C13:H32, 6, FALSE), \"\")","v":""},null,null,null,14,"","","","",null,null,null,"選手　15",0,{"$f":"IFERROR(INDEX($AE$42:$AE$91, SMALL(IF($AE$42:$AE$91<>\"\", ROW($AE$42:$AE$91)-ROW($AE$42)+1), ROW(A15))), \"\")","v":""},null,null,{"$f":"IFERROR(INDEX($AF$42:$AF$91, SMALL(IF($AF$42:$AF$91<>\"\", ROW($AF$42:$AF$91)-ROW($AF$42)+1), ROW(A15))), \"\")","v":""},{"$f":"IFERROR(INDEX($AG$42:$AG$91, SMALL(IF($AG$42:$AG$91<>\"\", ROW($AG$42:$AG$91)-ROW($AG$42)+1), ROW(B15))), \"\")","v":""},null,null,null,null,14,null,{"$f":"IFERROR(VLOOKUP(AN27,AD13:AI32, 2, FALSE), \"\")","v":""},{"$f":"IFERROR(VLOOKUP(AN27, AD13:AI32, 5, FALSE), \"\")","v":""},{"$f":"IFERROR(VLOOKUP(AN27, AD13:AI32, 6, FALSE), \"\")","v":""},null,null,null,14,"","","","",null,null,null,"選手　15",0,{"$f":"IFERROR(INDEX($BF$42:$BF$91, SMALL(IF($BF$42:$BF$91<>\"\", ROW($BF$42:$BF$91)-ROW($BF$42)+1), ROW(BC15))), \"\")","v":""},null,null,{"$f":"IFERROR(INDEX($BG$42:$BG$91, SMALL(IF($BG$42:$BG$91<>\"\", ROW($BG$42:$BG$91)-ROW($BG$42)+1), ROW(AB15))), \"\")","v":""},{"$f":"IFERROR(INDEX($BH$42:$BH$91, SMALL(IF($BH$42:$BH$91<>\"\", ROW($BH$42:$BH$91)-ROW($BH$42)+1), ROW(AC15))), \"\")","v":""},null,null,null,null,14,null,{"$f":"IFERROR(VLOOKUP(BO27,BE13:BJ32, 2, FALSE), \"\")","v":""},{"$f":"IFERROR(VLOOKUP(BO27, BE13:BJ32, 5, FALSE), \"\")","v":""},{"$f":"IFERROR(VLOOKUP(BO27, BE13:BJ32, 6, FALSE), \"\")","v":""},null,null,null,14,"","","","",null,null,null,"選手　15",0,{"$f":"IFERROR(INDEX($CG$42:$CG$91, SMALL(IF($CG$42:$CG$91<>\"\", ROW($CG$42:$CG$91)-ROW($CG$42)+1), ROW(CD15))), \"\")","v":""},null,null,{"$f":"IFERROR(INDEX($CH$42:$CH$91, SMALL(IF($CH$42:$CH$91<>\"\", ROW($CH$42:$CH$91)-ROW($CH$42)+1), ROW(BC15))), \"\")","v":""},{"$f":"IFERROR(INDEX($CI$42:$CI$91, SMALL(IF($CI$42:$CI$91<>\"\", ROW($CI$42:$CI$91)-ROW($CI$42)+1), ROW(BD15))), \"\")","v":""},null,null,null,null,14,null,{"$f":"IFERROR(VLOOKUP(CP27,CF13:CK32, 2, FALSE), \"\")","v":""},{"$f":"IFERROR(VLOOKUP(CP27, CF13:CK32, 5, FALSE), \"\")","v":""},{"$f":"IFERROR(VLOOKUP(CP27, CF13:CK32, 6, FALSE), \"\")","v":""},null,null,null,14,"","","",""]
[null,"選手　16",0,{"$f":"IFERROR(INDEX($D$42:$D$91, SMALL(IF($D$42:$D$91<>\"\", ROW($D$42:$D$91)-ROW($D$42)+1), ROW(A16))), \"\")","v":""},null,null,{"$f":"IFERROR(INDEX($E$42:$E$91, SMALL(IF($E$42:$E$91<>\"\", ROW($E$42:$E$91)-ROW($E$42)+1), ROW(A16))), \"\")","v":""},{"$f":"IFERROR(INDEX($F$42:$F$91, SMALL(IF($F$42:$F$91<>\"\", ROW($F$42:$F$91)-ROW($F$42)+1), ROW(B16))), \"\")","v":""},null,null,null,null,15,null,{"$f":"IFERROR(VLOOKUP(M28, C13:H32, 2, FALSE), \"\")","v":""},{"$f":"IFERROR(VLOOKUP(M28, C13:H32, 5, FALSE), \"\")","v":""},{"$f":"IFERROR(VLOOKUP(M28, C13:H32, 6, FALSE), \"\")","v":""},null,null,null,15,"","","","",null,null,null,"選手　16",0,{"$f":"IFERROR(INDEX($AE$42:$AE$91, SMALL(IF($AE$42:$AE$91<>\"\", ROW($AE$42:$AE$91)-ROW($AE$42)+1), ROW(A16))), \"\")","v":""},null,null,{"$f":"IFERROR(INDEX($AF$42:$AF$91, SMALL(IF($AF$42:$AF$91<>\"\", ROW($AF$42:$AF$91)-ROW($AF$42)+1), ROW(A16))), \"\")","v":""},{"$f":"IFERROR(INDEX($AG$42:$AG$91, SMALL(IF($AG$42:$AG$91<>\"\", ROW($AG$42:$AG$91)-ROW($AG$42)+1), ROW(B16))), \"\")","v":""},null,null,null,null,15,null,{"$f":"IFERROR(VLOOKUP(AN28, AD13:AI32, 2, FALSE), \"\")","v":""},{"$f":"IFERROR(VLOOKUP(AN28, AD13:AI32, 5, FALSE), \"\")","v":""},{"$f":"IFERROR(VLOOKUP(AN28, AD13:AI32, 6, FALSE), \"\")","v":""},null,null,null,15,"","","","",null,null,null,"選手　16",0,{"$f":"IFERROR(INDEX($BF$42:$BF$91, SMALL(IF($BF$42:$BF$91<>\"\", ROW($BF$42:$BF$91)-ROW($BF$42)+1), ROW(BC16))), \"\")","v":""},null,null,{"$f":"IFERROR(INDEX($BG$42:$BG$91, SMALL(IF($BG$42:$BG$91<>\"\", ROW($BG$42:$BG$91)-ROW($BG$42)+1), ROW(AB16))), \"\")","v":""},{"$f":"IFERROR(INDEX($BH$42:$BH$91, SMALL(IF($BH$42:$BH$91<>\"\", ROW($BH$42:$BH$91)-ROW($BH$42)+1), ROW(AC16))), \"\")","v":""},null,null,null,null,15,null,{"$f":"IFERROR(VLOOKUP(BO28, BE13:BJ32, 2, FALSE), \"\")","v":""},{"$f":"IFERROR(VLOOKUP(BO28, BE13:BJ32, 5, FALSE), \"\")","v":""},{"$f":"IFERROR(VLOOKUP(BO28, BE13:BJ32, 6, FALSE), \"\")","v":""},null,null,null,15,"","","","",null,null,null,"選手　16",0,{"$f":"IFERROR(INDEX($CG$42:$CG$91, SMALL(IF($CG$42:$CG$91<>\"\", ROW($CG$42:$CG$91)-ROW($CG$42)+1), ROW(CD16))), \"\")","v":""},null,null,{"$f":"IFERROR(INDEX($CH$42:$CH$91, SMALL(IF($CH$42:$CH$91<>\"\", ROW($CH$42:$CH$91)-ROW($CH$42)+1), ROW(BC16))), \"\")","v":""},{"$f":"IFERROR(INDEX($CI$42:$CI$91, SMALL(IF($CI$42:$CI$91<>\"\", ROW($CI$42:$CI$91)-ROW($CI$42)+1), ROW(BD16))), \"\")","v":""},null,null,null,null,15,null,{"$f":"IFERROR(VLOOKUP(CP28, CF13:CK32, 2, FALSE), \"\")","v":""},{"$f":"IFERROR(VLOOKUP(CP28, CF13:CK32, 5, FALSE), \"\")","v":""},{"$f":"IFERROR(VLOOKUP(CP28, CF13:CK32, 6, FALSE), \"\")","v":""},null,null,null,15,"","","",""]
[null,"選手　17",0,{"$f":"IFERROR(INDEX($D$42:$D$91, SMALL(IF($D$42:$D$91<>\"\", ROW($D$42:$D$91)-ROW($D$42)+1), ROW(A17))), \"\")","v":""},null,null,{"$f":"IFERROR(INDEX($E$42:$E$91, SMALL(IF($E$42:$E$91<>\"\", ROW($E$42:$E$91)-ROW($E$42)+1), ROW(A17))), \"\")","v":""},{"$f":"IFERROR(INDEX($F$42:$F$91, SMALL(IF($F$42:$F$91<>\"\", ROW($F$42:$F$91)-ROW($F$42)+1), ROW(B17))), \"\")","v":""},null,null,null,null,16,null,{"$f":"IFERROR(VLOOKUP(M29, C13:H32, 2, FALSE), \"\")","v":""},{"$f":"IFERROR(VLOOKUP(M29, C13:H32, 5, FALSE), \"\")","v":""},{"$f":"IFERROR(VLOOKUP(M29, C13:H32, 6, FALSE), \"\")","v":""},null,null,null,16,"","","","",null,null,null,"選手　17",0,{"$f":"IFERROR(INDEX($AE$42:$AE$91, SMALL(IF($AE$42:$AE$91<>\"\", ROW($AE$42:$AE$91)-ROW($AE$42)+1), ROW(A17))), \"\")","v":""},null,null,{"$f":"IFERROR(INDEX($AF$42:$AF$91, SMALL(IF($AF$42:$AF$91<>\"\", ROW($AF$42:$AF$91)-ROW($AF$42)+1), ROW(A17))), \"\")","v":""},{"$f":"IFERROR(INDEX($AG$42:$AG$91, SMALL(IF($AG$42:$AG$91<>\"\", ROW($AG$42:$AG$91)-ROW($AG$42)+1), ROW(B17))), \"\")","v":""},null,null,null,null,16,null,{"$f":"IFERROR(VLOOKUP(AN29, AD13:AI32, 2, FALSE), \"\")","v":""},{"$f":"IFERROR(VLOOKUP(AN29, AD13:AI32, 5, FALSE), \"\")","v":""},{"$f":"IFERROR(VLOOKUP(AN29, AD13:AI32, 6, FALSE), \"\")","v":""},null,null,null,16,"","","","",null,null,null,"選手　17",0,{"$f":"IFERROR(INDEX($BF$42:$BF$91, SMALL(IF($BF$42:$BF$91<>\"\", ROW($BF$42:$BF$91)-ROW($BF$42)+1), ROW(BC17))), \"\")","v":""},null,null,{"$f":"IFERROR(INDEX($BG$42:$BG$91, SMALL(IF($BG$42:$BG$91<>\"\", ROW($BG$42:$BG$91)-ROW($BG$42)+1), ROW(AB17))), \"\")","v":""},{"$f":"IFERROR(INDEX($BH$42:$BH$91, SMALL(IF($BH$42:$BH$91<>\"\", ROW($BH$42:$BH$91)-ROW($BH$42)+1), ROW(AC17))), \"\")","v":""},null,null,null,null,16,null,{"$f":"IFERROR(VLOOKUP(BO29, BE13:BJ32, 2, FALSE), \"\")","v":""},{"$f":"IFERROR(VLOOKUP(BO29, BE13:BJ32, 5, FALSE), \"\")","v":""},{"$f":"IFERROR(VLOOKUP(BO29, BE13:BJ32, 6, FALSE), \"\")","v":""},null,null,null,16,"","","","",null,null,null,"選手　17",0,{"$f":"IFERROR(INDEX($CG$42:$CG$91, SMALL(IF($CG$42:$CG$91<>\"\", ROW($CG$42:$CG$91)-ROW($CG$42)+1), ROW(CD17))), \"\")","v":""},null,null,{"$f":"IFERROR(INDEX($CH$42:$CH$91, SMALL(IF($CH$42:$CH$91<>\"\", ROW($CH$42:$CH$91)-ROW($CH$42)+1), ROW(BC17))), \"\")","v":""},{"$f":"IFERROR(INDEX($CI$42:$CI$91, SMALL(IF($CI$42:$CI$91<>\"\", ROW($CI$42:$CI$91)-ROW($CI$42)+1), ROW(BD17))), \"\")","v":""},null,null,null,null,16,null,{"$f":"IFERROR(VLOOKUP(CP29, CF13:CK32, 2, FALSE), \"\")","v":""},{"$f":"IFERROR(VLOOKUP(CP29, CF13:CK32, 5, FALSE), \"\")","v":""},{"$f":"IFERROR(VLOOKUP(CP29, CF13:CK32, 6, FALSE), \"\")","v":""},null,null,null,16,"","","",""]
[null,"選手　18",0,{"$f":"IFERROR(INDEX($D$42:$D$91, SMALL(IF($D$42:$D$91<>\"\", ROW($D$42:$D$91)-ROW($D$42)+1), ROW(A18))), \"\")","v":""},null,null,{"$f":"IFERROR(INDEX($E$42:$E$91, SMALL(IF($E$42:$E$91<>\"\", ROW($E$42:$E$91)-ROW($E$42)+1), ROW(A18))), \"\")","v":""},{"$f":"IFERROR(INDEX($F$42:$F$91, SMALL(IF($F$42:$F$91<>\"\", ROW($F$42:$F$91)-ROW($F$42)+1), ROW(B18))), \"\")","v":""},null,null,null,null,17,null,{"$f":"IFERROR(VLOOKUP(M30, C13:H32, 2, FALSE), \"\")","v":""},{"$f":"IFERROR(VLOOKUP(M30, C13:H32, 5, FALSE), \"\")","v":""},{"$f":"IFERROR(VLOOKUP(M30, C13:H32, 6, FALSE), \"\")","v":""},null,null,null,17,"","","","",null,null,null,"選手　18",0,{"$f":"IFERROR(INDEX($AE$42:$AE$91, SMALL(IF($AE$42:$AE$91<>\"\", ROW($AE$42:$AE$91)-ROW($AE$42)+1), ROW(A18))), \"\")","v":""},null,null,{"$f":"IFERROR(INDEX($AF$42:$AF$91, SMALL(IF($AF$42:$AF$91<>\"\", ROW($AF$42:$AF$91)-ROW($AF$42)+1), ROW(A18))), \"\")","v":""},{"$f":"IFERROR(INDEX($AG$42:$AG$91, SMALL(IF($AG$42:$AG$91<>\"\", ROW($AG$42:$AG$91)-ROW($AG$42)+1), ROW(B18))), \"\")","v":""},null,null,null,null,17,null,{"$f":"IFERROR(VLOOKUP(AN30, AD13:AI32, 2, FALSE), \"\")","v":""},{"$f":"IFERROR(VLOOKUP(AN30, AD13:AI32, 5, FALSE), \"\")","v":""},{"$f":"IFERROR(VLOOKUP(AN30, AD13:AI32, 6, FALSE), \"\")","v":""},null,null,null,17,"","","","",null,null,null,"選手　18",0,{"$f":"IFERROR(INDEX($BF$42:$BF$91, SMALL(IF($BF$42:$BF$91<>\"\", ROW($BF$42:$BF$91)-ROW($BF$42)+1), ROW(BC18))), \"\")","v":""},null,null,{"$f":"IFERROR(INDEX($BG$42:$BG$91, SMALL(IF($BG$42:$BG$91<>\"\", ROW($BG$42:$BG$91)-ROW($BG$42)+1), ROW(AB18))), \"\")","v":""},{"$f":"IFERROR(INDEX($BH$42:$BH$91, SMALL(IF($BH$42:$BH$91<>\"\", ROW($BH$42:$BH$91)-ROW($BH$42)+1), ROW(AC18))), \"\")","v":""},null,null,null,null,17,null,{"$f":"IFERROR(VLOOKUP(BO30, BE13:BJ32, 2, FALSE), \"\")","v":""},{"$f":"IFERROR(VLOOKUP(BO30, BE13:BJ32, 5, FALSE), \"\")","v":""},{"$f":"IFERROR(VLOOKUP(BO30, BE13:BJ32, 6, FALSE), \"\")","v":""},null,null,null,17,"","","","",null,null,null,"選手　18",0,{"$f":"IFERROR(INDEX($CG$42:$CG$91, SMALL(IF($CG$42:$CG$91<>\"\", ROW($CG$42:$CG$91)-ROW($CG$42)+1), ROW(CD18))), \"\")","v":""},null,null,{"$f":"IFERROR(INDEX($CH$42:$CH$91, SMALL(IF($CH$42:$CH$91<>\"\", ROW($CH$42:$CH$91)-ROW($CH$42)+1), ROW(BC18))), \"\")","v":""},{"$f":"IFERROR(INDEX($CI$42:$CI$91, SMALL(IF($CI$42:$CI$91<>\"\", ROW($CI$42:$CI$91)-ROW($CI$42)+1), ROW(BD18))), \"\")","v":""},null,null,null,null,17,null,{"$f":"IFERROR(VLOOKUP(CP30, CF13:CK32, 2, FALSE), \"\")","v":""},{"$f":"IFERROR(VLOOKUP(CP30, CF13:CK32, 5, FALSE), \"\")","v":""},{"$f":"IFERROR(VLOOKUP(CP30, CF13:CK32, 6, FALSE), \"\")","v":""},null,null,null,17,"","","",""]
[null,"選手　19",0,{"$f":"IFERROR(INDEX($D$42:$D$91, SMALL(IF($D$42:$D$91<>\"\", ROW($D$42:$D$91)-ROW($D$42)+1), ROW(A19))), \"\")","v":""},null,null,{"$f":"IFERROR(INDEX($E$42:$E$91, SMALL(IF($E$42:$E$91<>\"\", ROW($E$42:$E$91)-ROW($E$42)+1), ROW(A19))), \"\")","v":""},{"$f":"IFERROR(INDEX($F$42:$F$91, SMALL(IF($F$42:$F$91<>\"\", ROW($F$42:$F$91)-ROW($F$42)+1), ROW(B19))), \"\")","v":""},null,null,null,null,18,null,{"$f":"IFERROR(VLOOKUP(M31, C13:H32, 2, FALSE), \"\")","v":""},{"$f":"IFERROR(VLOOKUP(M31, C13:H32, 5, FALSE), \"\")","v":""},{"$f":"IFERROR(VLOOKUP(M31, C13:H32, 6, FALSE), \"\")","v":""},null,null,null,18,"","","","",null,null,null,"選手　19",0,{"$f":"IFERROR(INDEX($AE$42:$AE$91, SMALL(IF($AE$42:$AE$91<>\"\", ROW($AE$42:$AE$91)-ROW($AE$42)+1), ROW(A19))), \"\")","v":""},null,null,{"$f":"IFERROR(INDEX($AF$42:$AF$91, SMALL(IF($AF$42:$AF$91<>\"\", ROW($AF$42:$AF$91)-ROW($AF$42)+1), ROW(A19))), \"\")","v":""},{"$f":"IFERROR(INDEX($AG$42:$AG$91, SMALL(IF($AG$42:$AG$91<>\"\", ROW($AG$42:$AG$91)-ROW($AG$42)+1), ROW(B19))), \"\")","v":""},null,null,null,null,18,null,{"$f":"IFERROR(VLOOKUP(AN31, AD13:AI32, 2, FALSE), \"\")","v":""},{"$f":"IFERROR(VLOOKUP(AN31, AD13:AI32, 5, FALSE), \"\")","v":""},{"$f":"IFERROR(VLOOKUP(AN31, AD13:AI32, 6, FALSE), \"\")","v":""},null,null,null,18,"","","","",null,null,null,"選手　19",0,{"$f":"IFERROR(INDEX($BF$42:$BF$91, SMALL(IF($BF$42:$BF$91<>\"\", ROW($BF$42:$BF$91)-ROW($BF$42)+1), ROW(BC19))), \"\")","v":""},null,null,{"$f":"IFERROR(INDEX($BG$42:$BG$91, SMALL(IF($BG$42:$BG$91<>\"\", ROW($BG$42:$BG$91)-ROW($BG$42)+1), ROW(AB19))), \"\")","v":""},{"$f":"IFERROR(INDEX($BH$42:$BH$91, SMALL(IF($BH$42:$BH$91<>\"\", ROW($BH$42:$BH$91)-ROW($BH$42)+1), ROW(AC19))), \"\")","v":""},null,null,null,null,18,null,{"$f":"IFERROR(VLOOKUP(BO31, BE13:BJ32, 2, FALSE), \"\")","v":""},{"$f":"IFERROR(VLOOKUP(BO31, BE13:BJ32, 5, FALSE), \"\")","v":""},{"$f":"IFERROR(VLOOKUP(BO31, BE13:BJ32, 6, FALSE), \"\")","v":""},null,null,null,18,"","","","",null,null,null,"選手　19",0,{"$f":"IFERROR(INDEX($CG$42:$CG$91, SMALL(IF($CG$42:$CG$91<>\"\", ROW($CG$42:$CG$91)-ROW($CG$42)+1), ROW(CD19))), \"\")","v":""},null,null,{"$f":"IFERROR(INDEX($CH$42:$CH$91, SMALL(IF($CH$42:$CH$91<>\"\", ROW($CH$42:$CH$91)-ROW($CH$42)+1), ROW(BC19))), \"\")","v":""},{"$f":"IFERROR(INDEX($CI$42:$CI$91, SMALL(IF($CI$42:$CI$91<>\"\", ROW($CI$42:$CI$91)-ROW($CI$42)+1), ROW(BD19))), \"\")","v":""},null,null,null,null,18,null,{"$f":"IFERROR(VLOOKUP(CP31, CF13:CK32, 2, FALSE), \"\")","v":""},{"$f":"IFERROR(VLOOKUP(CP31, CF13:CK32, 5, FALSE), \"\")","v":""},{"$f":"IFERROR(VLOOKUP(CP31, CF13:CK32, 6, FALSE), \"\")","v":""},null,null,null,18,"","","",""]
[null,"選手　20",0,{"$f":"IFERROR(INDEX($D$42:$D$91, SMALL(IF($D$42:$D$91<>\"\", ROW($D$42:$D$91)-ROW($D$42)+1), ROW(A20))), \"\")","v":""},null,null,{"$f":"IFERROR(INDEX($E$42:$E$91, SMALL(IF($E$42:$E$91<>\"\", ROW($E$42:$E$91)-ROW($E$42)+1), ROW(A20))), \"\")","v":""},{"$f":"IFERROR(INDEX($F$42:$F$91, SMALL(IF($F$42:$F$91<>\"\", ROW($F$42:$F$91)-ROW($F$42)+1), ROW(B20))), \"\")","v":""},null,null,null,null,null,null,null,null,null,null,null,null,null,null,null,null,null,null,null,null,"選手　20",0,{"$f":"IFERROR(INDEX($AE$42:$AE$91, SMALL(IF($AE$42:$AE$91<>\"\", ROW($AE$42:$AE$91)-ROW($AE$42)+1), ROW(A20))), \"\")","v":""},null,null,{"$f":"IFERROR(INDEX($AF$42:$AF$91, SMALL(IF($AF$42:$AF$91<>\"\", ROW($AF$42:$AF$91)-ROW($AF$42)+1), ROW(A20))), \"\")","v":""},{"$f":"IFERROR(INDEX($AG$42:$AG$91, SMALL(IF($AG$42:$AG$91<>\"\", ROW($AG$42:$AG$91)-ROW($AG$42)+1), ROW(B20))), \"\")","v":""},null,null,null,null,null,null,null,null,null,null,null,null,null,null,null,null,null,null,null,null,"選手　20",0,{"$f":"IFERROR(INDEX($BF$42:$BF$91, SMALL(IF($BF$42:$BF$91<>\"\", ROW($BF$42:$BF$91)-ROW($BF$42)+1), ROW(BC20))), \"\")","v":""},null,null,{"$f":"IFERROR(INDEX($BG$42:$BG$91, SMALL(IF($BG$42:$BG$91<>\"\", ROW($BG$42:$BG$91)-ROW($BG$42)+1), ROW(AB20))), \"\")","v":""},{"$f":"IFERROR(INDEX($BH$42:$BH$91, SMALL(IF($BH$42:$BH$91<>\"\", ROW($BH$42:$BH$91)-ROW($BH$42)+1), ROW(AC20))), \"\")","v":""},null,null,null,null,null,null,null,null,null,null,null,null,null,null,null,null,null,null,null,null,"選手　20",0,{"$f":"IFERROR(INDEX($CG$42:$CG$91, SMALL(IF($CG$42:$CG$91<>\"\", ROW($CG$42:$CG$91)-ROW($CG$42)+1), ROW(CD20))), \"\")","v":""},null,null,{"$f":"IFERROR(INDEX($CH$42:$CH$91, SMALL(IF($CH$42:$CH$91<>\"\", ROW($CH$42:$CH$91)-ROW($CH$42)+1), ROW(BC20))), \"\")","v":""},{"$f":"IFERROR(INDEX($CI$42:$CI$91, SMALL(IF($CI$42:$CI$91<>\"\", ROW($CI$42:$CI$91)-ROW($CI$42)+1), ROW(BD20))), \"\")","v":""}]
[]
[null,"主審氏名",null,{"$f":"IFERROR(VLOOKUP(D35, 登録名簿!A11:G60, 3, FALSE), \"\")","v":""},null,"副審氏名",{"$f":"IFERROR(VLOOKUP(G35, 登録名簿!A11:G60, 3, FALSE), \"\")","v":""},null,"記録係",{"$f":"IFERROR(VLOOKUP(J35, 登録名簿!A11:G60, 3, FALSE), \"\")","v":""},null,null,"キャプテンは番号右横に〇を付ける",null,null,null,null,null,null,null,"キャプテンは番号右横に〇を付ける",null,null,null,null,null,null,null,"主審氏名",null,{"$f":"IFERROR(VLOOKUP(AE35, 登録名簿!A11:G60, 3, FALSE), \"\")","v":""},null,"副審氏名",{"$f":"IFERROR(VLOOKUP(AH35, 登録名簿!A11:G60, 3, FALSE), \"\")","v":""},null,"記録係",{"$f":"IFERROR(VLOOKUP(AK35, 登録名簿!A11:G60, 3, FALSE), \"\")","v":""},null,null,"キャプテンは番号右横に〇を付ける",null,null,null,null,null,null,null,"キャプテンは番号右横に〇を付ける",null,null,null,null,null,null,null,"主審氏名",null,{"$f":"IFERROR(VLOOKUP(BF35, 登録名簿!A11:G60, 3, FALSE), \"\")","v":""},null,"副審氏名",{"$f":"IFERROR(VLOOKUP(BI35, 登録名簿!A11:G60, 3, FALSE), \"\")","v":""},null,"記録係",{"$f":"IFERROR(VLOOKUP(BL35, 登録名簿!A11:G60, 3, FALSE), \"\")","v":""},null,null,"キャプテンは番号右横に〇を付ける",null,null,null,null,null,null,null,"キャプテンは番号右横に〇を付ける",null,null,null,null,null,null,null,"主審氏名",null,{"$f":"IFERROR(VLOOKUP(CG35, 登録名簿!A11:G60, 3, FALSE), \"\")","v":""},null,"副審氏名",{"$f":"IFERROR(VLOOKUP(CJ35, 登録名簿!A11:G60, 3, FALSE), \"\")","v":""},null,"記録係",{"$f":"IFERROR(VLOOKUP(CM35, 登録名簿!A11:G60, 3, FALSE), \"\")","v":""},null,null,"キャプテンは番号右横に〇を付ける",null,null,null,null,null,null,null,"キャプテンは番号右横に〇を付ける"]
[null,"※下記に注釈",null,null,null,null,null,null,null,null,null,null,"キャプテンサイン",null,null,null,null,null,null,null,"キャプテンサイン",null,null,null,null,null,null,null,"※下記に注釈",null,null,null,null,null,null,null,null,null,null,"キャプテンサイン",null,null,null,null,null,null,null,"キャプテンサイン",null,null,null,null,null,null,null,"※下記に注釈",null,null,null,null,null,null,null,null,null,null,"キャプテンサイン",null,null,null,null,null,null,null,"キャプテンサイン",null,null,null,null,null,null,null,"※下記に注釈",null,null,null,null,null,null,null,null,null,null,"キャプテンサイン",null,null,null,null,null,null,null,"キャプテンサイン"]
[null,"※注1　種目の該当項目を○で囲み、選手名・大会審判員・記録係を記入して下さい。",null,null,null,null,null,null,null,null,null,null,null,null,null,null,null,null,null,null,null,null,null,null,null,null,null,null,"※注1　種目の該当項目を○で囲み、選手名・大会審判員・記録係を記入して下さい。",null,null,null,null,null,null,null,null,null,null,null,null,null,null,null,null,null,null,null,null,null,null,null,null,null,null,"※注1　種目の該当項目を○で囲み、選手名・大会審判員・記録係を記入して下さい。",null,null,null,null,null,null,null,null,null,null,null,null,null,null,null,null,null,null,null,null,null,null,null,null,null,null,"※注1　種目の該当項目を○で囲み、選手名・大会審判員・記録係を記入して下さい。"]
[null,"※注2　女子のゴールド45歳～49歳、シルバー30歳代の選手は申告欄に○印を記入して下さい。",null,null,null,null,null,null,null,null,null,null,null,null,null,null,null,null,null,null,null,null,null,null,null,null,null,null,"※注2　女子のゴールド45歳～49歳、シルバー30歳代の選手は申告欄に○印を記入して下さい。",null,null,null,null,null,null,null,null,null,null,null,null,null,null,null,null,null,null,null,null,null,null,null,null,null,null,"※注2　女子のゴールド45歳～49歳、シルバー30歳代の選手は申告欄に○印を記入して下さい。",null,null,null,null,null,null,null,null,null,null,null,null,null,null,null,null,null,null,null,null,null,null,null,null,null,null,"※注2　女子のゴールド45歳～49歳、シルバー30歳代の選手は申告欄に○印を記入して下さい。"]
[null,"※注3　キャプテンは申告欄に◎印を記入して下さい。",null,null,null,null,null,null,null,null,null,null,null,null,null,null,null,null,null,null,null,null,null,null,null,null,null,null,"※注3　キャプテンは申告欄に◎印を記入して下さい。",null,null,null,null,null,null,null,null,null,null,null,null,null,null,null,null,null,null,null,null,null,null,null,null,null,null,"※注3　キャプテンは申告欄に◎印を記入して下さい。",null,null,null,null,null,null,null,null,null,null,null,null,null,null,null,null,null,null,null,null,null,null,null,null,null,null,"※注3　キャプテンは申告欄に◎印を記入して下さい。"]
[null,null,null,null,null,null,null,null,"金沢市中高年トリムバレーボール連盟",null,null,null,null,null,null,null,null,null,null,null,null,null,null,null,null,null,null,null,null,null,null,null,null,null,null,"金沢市中高年トリムバレーボール連盟",null,null,null,null,null,null,null,null,null,null,null,null,null,null,null,null,null,null,null,null,null,null,null,null,null,null,"金沢市中高年トリムバレーボール連盟",null,null,null,null,null,null,null,null,null,null,null,null,null,null,null,null,null,null,null,null,null,null,null,null,null,null,"金沢市中高年トリムバレーボール連盟"]
[]
[]
["リスト",1,null,{"$f":"IF(登録名簿!$O$11=\"〇\",登録名簿!$C$11,\"\")","v":""},{"$f":"IF(登録名簿!$O$11=\"〇\",OFFSET(登録名簿!$C$11,0,2,,),\"\")","v":""},{"$f":"IF(登録名簿!$O$11=\"〇\",OFFSET(登録名簿!$C$11,0,4,,),\"\")","v":""},null,null,null,null,null,null,null,null,null,null,null,null,null,null,null,null,null,null,null,null,null,null,1,null,{"$f":"IF(登録名簿!$P$11=\"〇\",登録名簿!$C$11,\"\")","v":""},{"$f":"IF(登録名簿!$P$11=\"〇\",OFFSET(登録名簿!$C$11,0,2,,),\"\")","v":""},{"$f":"IF(登録名簿!$P$11=\"〇\",OFFSET(登録名簿!$C$11,0,4,,),\"\")","v":""},null,null,null,null,null,null,null,null,null,null,null,null,null,null,null,null,null,null,null,null,null,null,1,null,{"$f":"IF(登録名簿!$Q$11=\"〇\",登録名簿!$C$11,\"\")","v":""},{"$f":"IF(登録名簿!$Q$11=\"〇\",OFFSET(登録名簿!$C$11,0,2,,),\"\")","v":""},{"$f":"IF(登録名簿!$Q$11=\"〇\",OFFSET(登録名簿!$C$11,0,4,,),\"\")","v":""},null,null,null,null,null,null,null,null,null,null,null,null,null,null,null,null,null,null,null,null,null,null,1,null,{"$f":"IF(登録名簿!$R$11=\"〇\",登録名簿!$C$11,\"\")","v":""},{"$f":"IF(登録名簿!$R$11=\"〇\",OFFSET(登録名簿!$C$11,0,2,,),\"\")","v":""},{"$f":"IF(登録名簿!$R$11=\"〇\",OFFSET(登録名簿!$C$11,0,4,,),\"\")","v":""}]
["〇",2,null,{"$f":"IF(登録名簿!$O$12=\"〇\",登録名簿!$C$12,\"\")","v":""},{"$f":"IF(登録名簿!$O$12=\"〇\",OFFSET(登録名簿!$C$12,0,2,,),\"\")","v":""},{"$f":"IF(登録名簿!$O$12=\"〇\",OFFSET(登録名簿!$C$12,0,4,,),\"\")","v":""},null,null,null,{"$f":"IF(D43<>\"\", ROW(D43),\"\")","v":""},null,null,null,null,null,null,null,null,null,null,null,null,null,null,null,null,null,null,2,null,{"$f":"IF(登録名簿!$P$12=\"〇\",登録名簿!$C$12,\"\")","v":""},{"$f":"IF(登録名簿!$P$12=\"〇\",OFFSET(登録名簿!$C$12,0,2,,),\"\")","v":""},{"$f":"IF(登録名簿!$P$12=\"〇\",OFFSET(登録名簿!$C$12,0,4,,),\"\")","v":""},null,null,null,null,null,null,null,null,null,null,null,null,null,null,null,null,null,null,null,null,null,null,2,null,{"$f":"IF(登録名簿!$Q$12=\"〇\",登録名簿!$C$12,\"\")","v":""},{"$f":"IF(登録名簿!$Q$12=\"〇\",OFFSET(登録名簿!$C$12,0,2,,),\"\")","v":""},{"$f":"IF(登録名簿!$Q$12=\"〇\",OFFSET(登録名簿!$C$12,0,4,,),\"\")","v":""},null,null,null,null,null,null,null,null,null,null,null,null,null,null,null,null,null,null,null,null,null,null,2,null,{"$f":"IF(登録名簿!$R$12=\"〇\",登録名簿!$C$12,\"\")","v":""},{"$f":"IF(登録名簿!$R$12=\"〇\",OFFSET(登録名簿!$C$12,0,2,,),\"\")","v":""},{"$f":"IF(登録名簿!$R$12=\"〇\",OFFSET(登録名簿!$C$12,0,4,,),\"\")","v":""}]
[null,3,null,{"$f":"IF(登録名簿!$O$13=\"〇\",登録名簿!$C$13,\"\")","v":""},{"$f":"IF(登録名簿!$O$13=\"〇\",OFFSET(登録名簿!$C$13,0,2,,),\"\")","v":""},{"$f":"IF(登録名簿!$O$13=\"〇\",OFFSET(登録名簿!$C$13,0,4,,),\"\")","v":""},null,null,null,null,null,null,null,null,null,null,null,null,null,null,null,null,null,null,null,null,null,null,3,null,{"$f":"IF(登録名簿!$P$13=\"〇\",登録名簿!$C$13,\"\")","v":""},{"$f":"IF(登録名簿!$P$13=\"〇\",OFFSET(登録名簿!$C$13,0,2,,),\"\")","v":""},{"$f":"IF(登録名簿!$P$13=\"〇\",OFFSET(登録名簿!$C$13,0,4,,),\"\")","v":""},null,null,null,null,null,null,null,null,null,null,null,null,null,null,null,null,null,null,null,null,null,null,3,null,{"$f":"IF(登録名簿!$Q$13=\"〇\",登録名簿!$C$13,\"\")","v":""},{"$f":"IF(登録名簿!$Q$13=\"〇\",OFFSET(登録名簿!$C$13,0,2,,),\"\")","v":""},{"$f":"IF(登録名簿!$Q$13=\"〇\",OFFSET(登録名簿!$C$13,0,4,,),\"\")","v":""},null,null,null,null,null,null,null,null,null,null,null,null,null,null,null,null,null,null,null,null,null,null,3,null,{"$f":"IF(登録名簿!$R$13=\"〇\",登録名簿!$C$13,\"\")","v":""},{"$f":"IF(登録名簿!$R$13=\"〇\",OFFSET(登録名簿!$C$13,0,2,,),\"\")","v":""},{"$f":"IF(登録名簿!$R$13=\"〇\",OFFSET(登録名簿!$C$13,0,4,,),\"\")","v":""}]
[null,4,null,{"$f":"IF(登録名簿!$O$14=\"〇\",登録名簿!$C$14,\"\")","v":""},{"$f":"IF(登録名簿!$O$14=\"〇\",OFFSET(登録名簿!$C$14,0,2,,),\"\")","v":""},{"$f":"IF(登録名簿!$O$14=\"〇\",OFFSET(登録名簿!$C$14,0,4,,),\"\")","v":""},null,null,null,null,null,null,null,null,null,null,null,null,null,null,null,null,null,null,null,null,null,null,4,null,{"$f":"IF(登録名簿!$P$14=\"〇\",登録名簿!$C$14,\"\")","v":""},{"$f":"IF(登録名簿!$P$14=\"〇\",OFFSET(登録名簿!$C$14,0,2,,),\"\")","v":""},{"$f":"IF(登録名簿!$P$14=\"〇\",OFFSET(登録名簿!$C$14,0,4,,),\"\")","v":""},null,null,null,null,null,null,null,null,null,null,null,null,null,null,null,null,null,null,null,null,null,null,4,null,{"$f":"IF(登録名簿!$Q$14=\"〇\",登録名簿!$C$14,\"\")","v":""},{"$f":"IF(登録名簿!$Q$14=\"〇\",OFFSET(登録名簿!$C$14,0,2,,),\"\")","v":""},{"$f":"IF(登録名簿!$Q$14=\"〇\",OFFSET(登録名簿!$C$14,0,4,,),\"\")","v":""},null,null,null,null,null,null,null,null,null,null,null,null,null,null,null,null,null,null,null,null,null,null,4,null,{"$f":"IF(登録名簿!$R$14=\"〇\",登録名簿!$C$14,\"\")","v":""},{"$f":"IF(登録名簿!$R$14=\"〇\",OFFSET(登録名簿!$C$14,0,2,,),\"\")","v":""},{"$f":"IF(登録名簿!$R$14=\"〇\",OFFSET(登録名簿!$C$14,0,4,,),\"\")","v":""}]
[null,5,null,{"$f":"IF(登録名簿!$O$15=\"〇\",登録名簿!$C$15,\"\")","v":""},{"$f":"IF(登録名簿!$O$15=\"〇\",OFFSET(登録名簿!$C$15,0,2,,),\"\")","v":""},{"$f":"IF(登録名簿!$O$15=\"〇\",OFFSET(登録名簿!$C$15,0,4,,),\"\")","v":""},null,null,null,null,null,null,null,null,null,null,null,null,null,null,null,null,null,null,null,null,null,null,5,null,{"$f":"IF(登録名簿!$P$15=\"〇\",登録名簿!$C$15,\"\")","v":""},{"$f":"IF(登録名簿!$P$15=\"〇\",OFFSET(登録名簿!$C$15,0,2,,),\"\")","v":""},{"$f":"IF(登録名簿!$P$15=\"〇\",OFFSET(登録名簿!$C$15,0,4,,),\"\")","v":""},null,null,null,null,null,null,null,null,null,null,null,null,null,null,null,null,null,null,null,null,null,null,5,null,{"$f":"IF(登録名簿!$Q$15=\"〇\",登録名簿!$C$15,\"\")","v":""},{"$f":"IF(登録名簿!$Q$15=\"〇\",OFFSET(登録名簿!$C$15,0,2,,),\"\")","v":""},{"$f":"IF(登録名簿!$Q$15=\"〇\",OFFSET(登録名簿!$C$15,0,4,,),\"\")","v":""},null,null,null,null,null,null,null,null,null,null,null,null,null,null,null,null,null,null,null,null,null,null,5,null,{"$f":"IF(登録名簿!$R$15=\"〇\",登録名簿!$C$15,\"\")","v":""},{"$f":"IF(登録名簿!$R$15=\"〇\",OFFSET(登録名簿!$C$15,0,2,,),\"\")","v":""},{"$f":"IF(登録名簿!$R$15=\"〇\",OFFSET(登録名簿!$C$15,0,4,,),\"\")","v":""}]
[null,6,null,{"$f":"IF(登録名簿!$O$16=\"〇\",登録名簿!$C$16,\"\")","v":""},{"$f":"IF(登録名簿!$O$16=\"〇\",OFFSET(登録名簿!$C$16,0,2,,),\"\")","v":""},{"$f":"IF(登録名簿!$O$16=\"〇\",OFFSET(登録名簿!$C$16,0,4,,),\"\")","v":""},null,null,null,null,null,null,null,null,null,null,null,null,null,null,null,null,null,null,null,null,null,null,6,null,{"$f":"IF(登録名簿!$P$16=\"〇\",登録名簿!$C$16,\"\")","v":""},{"$f":"IF(登録名簿!$P$16=\"〇\",OFFSET(登録名簿!$C$16,0,2,,),\"\")","v":""},{"$f":"IF(登録名簿!$P$16=\"〇\",OFFSET(登録名簿!$C$16,0,4,,),\"\")","v":""},null,null,null,null,null,null,null,null,null,null,null,null,null,null,null,null,null,null,null,null,null,null,6,null,{"$f":"IF(登録名簿!$Q$16=\"〇\",登録名簿!$C$16,\"\")","v":""},{"$f":"IF(登録名簿!$Q$16=\"〇\",OFFSET(登録名簿!$C$16,0,2,,),\"\")","v":""},{"$f":"IF(登録名簿!$Q$16=\"〇\",OFFSET(登録名簿!$C$16,0,4,,),\"\")","v":""},null,null,null,null,null,null,null,null,null,null,null,null,null,null,null,null,null,null,null,null,null,null,6,null,{"$f":"IF(登録名簿!$R$16=\"〇\",登録名簿!$C$16,\"\")","v":""},{"$f":"IF(登録名簿!$R$16=\"〇\",OFFSET(登録名簿!$C$16,0,2,,),\"\")","v":""},{"$f":"IF(登録名簿!$R$16=\"〇\",OFFSET(登録名簿!$C$16,0,4,,),\"\")","v":""}]
[null,7,null,{"$f":"IF(登録名簿!$O$17=\"〇\",登録名簿!$C$17,\"\")","v":""},{"$f":"IF(登録名簿!$O$17=\"〇\",OFFSET(登録名簿!$C$17,0,2,,),\"\")","v":""},{"$f":"IF(登録名簿!$O$17=\"〇\",OFFSET(登録名簿!$C$17,0,4,,),\"\")","v":""},null,null,null,null,null,null,null,null,null,null,null,null,null,null,null,null,null,null,null,null,null,null,7,null,{"$f":"IF(登録名簿!$P$17=\"〇\",登録名簿!$C$17,\"\")","v":""},{"$f":"IF(登録名簿!$P$17=\"〇\",OFFSET(登録名簿!$C$17,0,2,,),\"\")","v":""},{"$f":"IF(登録名簿!$P$17=\"〇\",OFFSET(登録名簿!$C$17,0,4,,),\"\")","v":""},null,null,null,null,null,null,null,null,null,null,null,null,null,null,null,null,null,null,null,null,null,null,7,null,{"$f":"IF(登録名簿!$Q$17=\"〇\",登録名簿!$C$17,\"\")","v":""},{"$f":"IF(登録名簿!$Q$17=\"〇\",OFFSET(登録名簿!$C$17,0,2,,),\"\")","v":""},{"$f":"IF(登録名簿!$Q$17=\"〇\",OFFSET(登録名簿!$C$17,0,4,,),\"\")","v":""},null,null,null,null,null,null,null,null,null,null,null,null,null,null,null,null,null,null,null,null,null,null,7,null,{"$f":"IF(登録名簿!$R$17=\"〇\",登録名簿!$C$17,\"\")","v":""},{"$f":"IF(登録名簿!$R$17=\"〇\",OFFSET(登録名簿!$C$17,0,2,,),\"\")","v":""},{"$f":"IF(登録名簿!$R$17=\"〇\",OFFSET(登録名簿!$C$17,0,4,,),\"\")","v":""}]
[null,8,null,{"$f":"IF(登録名簿!$O$18=\"〇\",登録名簿!$C$18,\"\")","v":""},{"$f":"IF(登録名簿!$O$18=\"〇\",OFFSET(登録名簿!$C$18,0,2,,),\"\")","v":""},{"$f":"IF(登録名簿!$O$18=\"〇\",OFFSET(登録名簿!$C$18,0,4,,),\"\")","v":""},null,null,null,null,null,null,null,null,null,null,null,null,null,null,null,null,null,null,null,null,null,null,8,null,{"$f":"IF(登録名簿!$P$18=\"〇\",登録名簿!$C$18,\"\")","v":""},{"$f":"IF(登録名簿!$P$18=\"〇\",OFFSET(登録名簿!$C$18,0,2,,),\"\")","v":""},{"$f":"IF(登録名簿!$P$18=\"〇\",OFFSET(登録名簿!$C$18,0,4,,),\"\")","v":""},null,null,null,null,null,null,null,null,null,null,null,null,null,null,null,null,null,null,null,null,null,null,8,null,{"$f":"IF(登録名簿!$Q$18=\"〇\",登録名簿!$C$18,\"\")","v":""},{"$f":"IF(登録名簿!$Q$18=\"〇\",OFFSET(登録名簿!$C$18,0,2,,),\"\")","v":""},{"$f":"IF(登録名簿!$Q$18=\"〇\",OFFSET(登録名簿!$C$18,0,4,,),\"\")","v":""},null,null,null,null,null,null,null,null,null,null,null,null,null,null,null,null,null,null,null,null,null,null,8,null,{"$f":"IF(登録名簿!$R$18=\"〇\",登録名簿!$C$18,\"\")","v":""},{"$f":"IF(登録名簿!$R$18=\"〇\",OFFSET(登録名簿!$C$18,0,2,,),\"\")","v":""},{"$f":"IF(登録名簿!$R$18=\"〇\",OFFSET(登録名簿!$C$18,0,4,,),\"\")","v":""}]
[null,9,null,{"$f":"IF(登録名簿!$O$19=\"〇\",登録名簿!$C$19,\"\")","v":""},{"$f":"IF(登録名簿!$O$19=\"〇\",OFFSET(登録名簿!$C$19,0,2,,),\"\")","v":""},{"$f":"IF(登録名簿!$O$19=\"〇\",OFFSET(登録名簿!$C$19,0,4,,),\"\")","v":""},null,null,null,null,null,null,null,null,null,null,null,null,null,null,null,null,null,null,null,null,null,null,9,null,{"$f":"IF(登録名簿!$P$19=\"〇\",登録名簿!$C$19,\"\")","v":""},{"$f":"IF(登録名簿!$P$19=\"〇\",OFFSET(登録名簿!$C$19,0,2,,),\"\")","v":""},{"$f":"IF(登録名簿!$P$19=\"〇\",OFFSET(登録名簿!$C$19,0,4,,),\"\")","v":""},null,null,null,null,null,null,null,null,null,null,null,null,null,null,null,null,null,null,null,null,null,null,9,null,{"$f":"IF(登録名簿!$Q$19=\"〇\",登録名簿!$C$19,\"\")","v":""},{"$f":"IF(登録名簿!$Q$19=\"〇\",OFFSET(登録名簿!$C$19,0,2,,),\"\")","v":""},{"$f":"IF(登録名簿!$Q$19=\"〇\",OFFSET(登録名簿!$C$19,0,4,,),\"\")","v":""},null,null,null,null,null,null,null,null,null,null,null,null,null,null,null,null,null,null,null,null,null,null,9,null,{"$f":"IF(登録名簿!$R$19=\"〇\",登録名簿!$C$19,\"\")","v":""},{"$f":"IF(登録名簿!$R$19=\"〇\",OFFSET(登録名簿!$C$19,0,2,,),\"\")","v":""},{"$f":"IF(登録名簿!$R$19=\"〇\",OFFSET(登録名簿!$C$19,0,4,,),\"\")","v":""}]
[null,10,null,{"$f":"IF(登録名簿!$O$20=\"〇\",登録名簿!$C$20,\"\")","v":""},{"$f":"IF(登録名簿!$O$20=\"〇\",OFFSET(登録名簿!$C$20,0,2,,),\"\")","v":""},{"$f":"IF(登録名簿!$O$20=\"〇\",OFFSET(登録名簿!$C$20,0,4,,),\"\")","v":""},null,null,null,null,null,null,null,null,null,null,null,null,null,null,null,null,null,null,null,null,null,null,10,null,{"$f":"IF(登録名簿!$P$20=\"〇\",登録名簿!$C$20,\"\")","v":""},{"$f":"IF(登録名簿!$P$20=\"〇\",OFFSET(登録名簿!$C$20,0,2,,),\"\")","v":""},{"$f":"IF(登録名簿!$P$20=\"〇\",OFFSET(登録名簿!$C$20,0,4,,),\"\")","v":""},null,null,null,null,null,null,null,null,null,null,null,null,null,null,null,null,null,null,null,null,null,null,10,null,{"$f":"IF(登録名簿!$Q$20=\"〇\",登録名簿!$C$20,\"\")","v":""},{"$f":"IF(登録名簿!$Q$20=\"〇\",OFFSET(登録名簿!$C$20,0,2,,),\"\")","v":""},{"$f":"IF(登録名簿!$Q$20=\"〇\",OFFSET(登録名簿!$C$20,0,4,,),\"\")","v":""},null,null,null,null,null,null,null,null,null,null,null,null,null,null,null,null,null,null,null,null,null,null,10,null,{"$f":"IF(登録名簿!$R$20=\"〇\",登録名簿!$C$20,\"\")","v":""},{"$f":"IF(登録名簿!$R$20=\"〇\",OFFSET(登録名簿!$C$20,0,2,,),\"\")","v":""},{"$f":"IF(登録名簿!$R$20=\"〇\",OFFSET(登録名簿!$C$20,0,4,,),\"\")","v":""}]
[null,11,null,{"$f":"IF(登録名簿!$O$21=\"〇\",登録名簿!$C$21,\"\")","v":""},{"$f":"IF(登録名簿!$O$21=\"〇\",OFFSET(登録名簿!$C$21,0,2,,),\"\")","v":""},{"$f":"IF(登録名簿!$O$21=\"〇\",OFFSET(登録名簿!$C$21,0,4,,),\"\")","v":""},null,null,null,null,null,null,null,null,null,null,null,null,null,null,null,null,null,null,null,null,null,null,11,null,{"$f":"IF(登録名簿!$P$21=\"〇\",登録名簿!$C$21,\"\")","v":""},{"$f":"IF(登録名簿!$P$21=\"〇\",OFFSET(登録名簿!$C$21,0,2,,),\"\")","v":""},{"$f":"IF(登録名簿!$P$21=\"〇\",OFFSET(登録名簿!$C$21,0,4,,),\"\")","v":""},null,null,null,null,null,null,null,null,null,null,null,null,null,null,null,null,null,null,null,null,null,null,11,null,{"$f":"IF(登録名簿!$Q$21=\"〇\",登録名簿!$C$21,\"\")","v":""},{"$f":"IF(登録名簿!$Q$21=\"〇\",OFFSET(登録名簿!$C$21,0,2,,),\"\")","v":""},{"$f":"IF(登録名簿!$Q$21=\"〇\",OFFSET(登録名簿!$C$21,0,4,,),\"\")","v":""},null,null,null,null,null,null,null,null,null,null,null,null,null,null,null,null,null,null,null,null,null,null,11,null,{"$f":"IF(登録名簿!$R$21=\"〇\",登録名簿!$C$21,\"\")","v":""},{"$f":"IF(登録名簿!$R$21=\"〇\",OFFSET(登録名簿!$C$21,0,2,,),\"\")","v":""},{"$f":"IF(登録名簿!$R$21=\"〇\",OFFSET(登録名簿!$C$21,0,4,,),\"\")","v":""}]
[null,12,null,{"$f":"IF(登録名簿!$O$22=\"〇\",登録名簿!$C$22,\"\")","v":""},{"$f":"IF(登録名簿!$O$22=\"〇\",OFFSET(登録名簿!$C$22,0,2,,),\"\")","v":""},{"$f":"IF(登録名簿!$O$22=\"〇\",OFFSET(登録名簿!$C$22,0,4,,),\"\")","v":""},null,null,null,null,null,null,null,null,null,null,null,null,null,null,null,null,null,null,null,null,null,null,12,null,{"$f":"IF(登録名簿!$P$22=\"〇\",登録名簿!$C$22,\"\")","v":""},{"$f":"IF(登録名簿!$P$22=\"〇\",OFFSET(登録名簿!$C$22,0,2,,),\"\")","v":""},{"$f":"IF(登録名簿!$P$22=\"〇\",OFFSET(登録名簿!$C$22,0,4,,),\"\")","v":""},null,null,null,null,null,null,null,null,null,null,null,null,null,null,null,null,null,null,null,null,null,null,12,null,{"$f":"IF(登録名簿!$Q$22=\"〇\",登録名簿!$C$22,\"\")","v":""},{"$f":"IF(登録名簿!$Q$22=\"〇\",OFFSET(登録名簿!$C$22,0,2,,),\"\")","v":""},{"$f":"IF(登録名簿!$Q$22=\"〇\",OFFSET(登録名簿!$C$22,0,4,,),\"\")","v":""},null,null,null,null,null,null,null,null,null,null,null,null,null,null,null,null,null,null,null,null,null,null,12,null,{"$f":"IF(登録名簿!$R$22=\"〇\",登録名簿!$C$22,\"\")","v":""},{"$f":"IF(登録名簿!$R$22=\"〇\",OFFSET(登録名簿!$C$22,0,2,,),\"\")","v":""},{"$f":"IF(登録名簿!$R$22=\"〇\",OFFSET(登録名簿!$C$22,0,4,,),\"\")","v":""}]
[null,13,null,{"$f":"IF(登録名簿!$O$23=\"〇\",登録名簿!$C$23,\"\")","v":""},{"$f":"IF(登録名簿!$O$23=\"〇\",OFFSET(登録名簿!$C$23,0,2,,),\"\")","v":""},{"$f":"IF(登録名簿!$O$23=\"〇\",OFFSET(登録名簿!$C$23,0,4,,),\"\")","v":""},null,null,null,null,null,null,null,null,null,null,null,null,null,null,null,null,null,null,null,null,null,null,13,null,{"$f":"IF(登録名簿!$P$23=\"〇\",登録名簿!$C$23,\"\")","v":""},{"$f":"IF(登録名簿!$P$23=\"〇\",OFFSET(登録名簿!$C$23,0,2,,),\"\")","v":""},{"$f":"IF(登録名簿!$P$23=\"〇\",OFFSET(登録名簿!$C$23,0,4,,),\"\")","v":""},null,null,null,null,null,null,null,null,null,null,null,null,null,null,null,null,null,null,null,null,null,null,13,null,{"$f":"IF(登録名簿!$Q$23=\"〇\",登録名簿!$C$23,\"\")","v":""},{"$f":"IF(登録名簿!$Q$23=\"〇\",OFFSET(登録名簿!$C$23,0,2,,),\"\")","v":""},{"$f":"IF(登録名簿!$Q$23=\"〇\",OFFSET(登録名簿!$C$23,0,4,,),\"\")","v":""},null,null,null,null,null,null,null,null,null,null,null,null,null,null,null,null,null,null,null,null,null,null,13,null,{"$f":"IF(登録名簿!$R$23=\"〇\",登録名簿!$C$23,\"\")","v":""},{"$f":"IF(登録名簿!$R$23=\"〇\",OFFSET(登録名簿!$C$23,0,2,,),\"\")","v":""},{"$f":"IF(登録名簿!$R$23=\"〇\",OFFSET(登録名簿!$C$23,0,4,,),\"\")","v":""}]
[null,14,null,{"$f":"IF(登録名簿!$O$24=\"〇\",登録名簿!$C$24,\"\")","v":""},{"$f":"IF(登録名簿!$O$24=\"〇\",OFFSET(登録名簿!$C$24,0,2,,),\"\")","v":""},{"$f":"IF(登録名簿!$O$24=\"〇\",OFFSET(登録名簿!$C$24,0,4,,),\"\")","v":""},null,null,null,null,null,null,null,null,null,null,null,null,null,null,null,null,null,null,null,null,null,null,14,null,{"$f":"IF(登録名簿!$P$24=\"〇\",登録名簿!$C$24,\"\")","v":""},{"$f":"IF(登録名簿!$P$24=\"〇\",OFFSET(登録名簿!$C$24,0,2,,),\"\")","v":""},{"$f":"IF(登録名簿!$P$24=\"〇\",OFFSET(登録名簿!$C$24,0,4,,),\"\")","v":""},null,null,null,null,null,null,null,null,null,null,null,null,null,null,null,null,null,null,null,null,null,null,14,null,{"$f":"IF(登録名簿!$Q$24=\"〇\",登録名簿!$C$24,\"\")","v":""},{"$f":"IF(登録名簿!$Q$24=\"〇\",OFFSET(登録名簿!$C$24,0,2,,),\"\")","v":""},{"$f":"IF(登録名簿!$Q$24=\"〇\",OFFSET(登録名簿!$C$24,0,4,,),\"\")","v":""},null,null,null,null,null,null,null,null,null,null,null,null,null,null,null,null,null,null,null,null,null,null,14,null,{"$f":"IF(登録名簿!$R$24=\"〇\",登録名簿!$C$24,\"\")","v":""},{"$f":"IF(登録名簿!$R$24=\"〇\",OFFSET(登録名簿!$C$24,0,2,,),\"\")","v":""},{"$f":"IF(登録名簿!$R$24=\"〇\",OFFSET(登録名簿!$C$24,0,4,,),\"\")","v":""}]
[null,15,null,{"$f":"IF(登録名簿!$O$25=\"〇\",登録名簿!$C$25,\"\")","v":""},{"$f":"IF(登録名簿!$O$25=\"〇\",OFFSET(登録名簿!$C$25,0,2,,),\"\")","v":""},{"$f":"IF(登録名簿!$O$25=\"〇\",OFFSET(登録名簿!$C$25,0,4,,),\"\")","v":""},null,null,null,null,null,null,null,null,null,null,null,null,null,null,null,null,null,null,null,null,null,null,15,null,{"$f":"IF(登録名簿!$P$25=\"〇\",登録名簿!$C$25,\"\")","v":""},{"$f":"IF(登録名簿!$P$25=\"〇\",OFFSET(登録名簿!$C$25,0,2,,),\"\")","v":""},{"$f":"IF(登録名簿!$P$25=\"〇\",OFFSET(登録名簿!$C$25,0,4,,),\"\")","v":""},null,null,null,null,null,null,null,null,null,null,null,null,null,null,null,null,null,null,null,null,null,null,15,null,{"$f":"IF(登録名簿!$Q$25=\"〇\",登録名簿!$C$25,\"\")","v":""},{"$f":"IF(登録名簿!$Q$25=\"〇\",OFFSET(登録名簿!$C$25,0,2,,),\"\")","v":""},{"$f":"IF(登録名簿!$Q$25=\"〇\",OFFSET(登録名簿!$C$25,0,4,,),\"\")","v":""},null,null,null,null,null,null,null,null,null,null,null,null,null,null,null,null,null,null,null,null,null,null,15,null,{"$f":"IF(登録名簿!$R$25=\"〇\",登録名簿!$C$25,\"\")","v":""},{"$f":"IF(登録名簿!$R$25=\"〇\",OFFSET(登録名簿!$C$25,0,2,,),\"\")","v":""},{"$f":"IF(登録名簿!$R$25=\"〇\",OFFSET(登録名簿!$C$25,0,4,,),\"\")","v":""}]
[null,16,null,{"$f":"IF(登録名簿!$O$26=\"〇\",登録名簿!$C$26,\"\")","v":""},{"$f":"IF(登録名簿!$O$26=\"〇\",OFFSET(登録名簿!$C$26,0,2,,),\"\")","v":""},{"$f":"IF(登録名簿!$O$26=\"〇\",OFFSET(登録名簿!$C$26,0,4,,),\"\")","v":""},null,null,null,null,null,null,null,null,null,null,null,null,null,null,null,null,null,null,null,null,null,null,16,null,{"$f":"IF(登録名簿!$P$26=\"〇\",登録名簿!$C$26,\"\")","v":""},{"$f":"IF(登録名簿!$P$26=\"〇\",OFFSET(登録名簿!$C$26,0,2,,),\"\")","v":""},{"$f":"IF(登録名簿!$P$26=\"〇\",OFFSET(登録名簿!$C$26,0,4,,),\"\")","v":""},null,null,null,null,null,null,null,null,null,null,null,null,null,null,null,null,null,null,null,null,null,null,16,null,{"$f":"IF(登録名簿!$Q$26=\"〇\",登録名簿!$C$26,\"\")","v":""},{"$f":"IF(登録名簿!$Q$26=\"〇\",OFFSET(登録名簿!$C$26,0,2,,),\"\")","v":""},{"$f":"IF(登録名簿!$Q$26=\"〇\",OFFSET(登録名簿!$C$26,0,4,,),\"\")","v":""},null,null,null,null,null,null,null,null,null,null,null,null,null,null,null,null,null,null,null,null,null,null,16,null,{"$f":"IF(登録名簿!$R$26=\"〇\",登録名簿!$C$26,\"\")","v":""},{"$f":"IF(登録名簿!$R$26=\"〇\",OFFSET(登録名簿!$C$26,0,2,,),\"\")","v":""},{"$f":"IF(登録名簿!$R$26=\"〇\",OFFSET(登録名簿!$C$26,0,4,,),\"\")","v":""}]
[null,17,null,{"$f":"IF(登録名簿!$O$27=\"〇\",登録名簿!$C$27,\"\")","v":""},{"$f":"IF(登録名簿!$O$27=\"〇\",OFFSET(登録名簿!$C$27,0,2,,),\"\")","v":""},{"$f":"IF(登録名簿!$O$27=\"〇\",OFFSET(登録名簿!$C$27,0,4,,),\"\")","v":""},null,null,null,null,null,null,null,null,null,null,null,null,null,null,null,null,null,null,null,null,null,null,17,null,{"$f":"IF(登録名簿!$P$27=\"〇\",登録名簿!$C$27,\"\")","v":""},{"$f":"IF(登録名簿!$P$27=\"〇\",OFFSET(登録名簿!$C$27,0,2,,),\"\")","v":""},{"$f":"IF(登録名簿!$P$27=\"〇\",OFFSET(登録名簿!$C$27,0,4,,),\"\")","v":""},null,null,null,null,null,null,null,null,null,null,null,null,null,null,null,null,null,null,null,null,null,null,17,null,{"$f":"IF(登録名簿!$Q$27=\"〇\",登録名簿!$C$27,\"\")","v":""},{"$f":"IF(登録名簿!$Q$27=\"〇\",OFFSET(登録名簿!$C$27,0,2,,),\"\")","v":""},{"$f":"IF(登録名簿!$Q$27=\"〇\",OFFSET(登録名簿!$C$27,0,4,,),\"\")","v":""},null,null,null,null,null,null,null,null,null,null,null,null,null,null,null,null,null,null,null,null,null,null,17,null,{"$f":"IF(登録名簿!$R$27=\"〇\",登録名簿!$C$27,\"\")","v":""},{"$f":"IF(登録名簿!$R$27=\"〇\",OFFSET(登録名簿!$C$27,0,2,,),\"\")","v":""},{"$f":"IF(登録名簿!$R$27=\"〇\",OFFSET(登録名簿!$C$27,0,4,,),\"\")","v":""}]
[null,18,null,{"$f":"IF(登録名簿!$O$28=\"〇\",登録名簿!$C$28,\"\")","v":""},{"$f":"IF(登録名簿!$O$28=\"〇\",OFFSET(登録名簿!$C$28,0,2,,),\"\")","v":""},{"$f":"IF(登録名簿!$O$28=\"〇\",OFFSET(登録名簿!$C$28,0,4,,),\"\")","v":""},null,null,null,null,null,null,null,null,null,null,null,null,null,null,null,null,null,null,null,null,null,null,18,null,{"$f":"IF(登録名簿!$P$28=\"〇\",登録名簿!$C$28,\"\")","v":""},{"$f":"IF(登録名簿!$P$28=\"〇\",OFFSET(登録名簿!$C$28,0,2,,),\"\")","v":""},{"$f":"IF(登録名簿!$P$28=\"〇\",OFFSET(登録名簿!$C$28,0,4,,),\"\")","v":""},null,null,null,null,null,null,null,null,null,null,null,null,null,null,null,null,null,null,null,null,null,null,18,null,{"$f":"IF(登録名簿!$Q$28=\"〇\",登録名簿!$C$28,\"\")","v":""},{"$f":"IF(登録名簿!$Q$28=\"〇\",OFFSET(登録名簿!$C$28,0,2,,),\"\")","v":""},{"$f":"IF(登録名簿!$Q$28=\"〇\",OFFSET(登録名簿!$C$28,0,4,,),\"\")","v":""},null,null,null,null,null,null,null,null,null,null,null,null,null,null,null,null,null,null,null,null,null,null,18,null,{"$f":"IF(登録名簿!$R$28=\"〇\",登録名簿!$C$28,\"\")","v":""},{"$f":"IF(登録名簿!$R$28=\"〇\",OFFSET(登録名簿!$C$28,0,2,,),\"\")","v":""},{"$f":"IF(登録名簿!$R$28=\"〇\",OFFSET(登録名簿!$C$28,0,4,,),\"\")","v":""}]
[null,19,null,{"$f":"IF(登録名簿!$O$29=\"〇\",登録名簿!$C$29,\"\")","v":""},{"$f":"IF(登録名簿!$O$29=\"〇\",OFFSET(登録名簿!$C$29,0,2,,),\"\")","v":""},{"$f":"IF(登録名簿!$O$29=\"〇\",OFFSET(登録名簿!$C$29,0,4,,),\"\")","v":""},null,null,null,null,null,null,null,null,null,null,null,null,null,null,null,null,null,null,null,null,null,null,19,null,{"$f":"IF(登録名簿!$P$29=\"〇\",登録名簿!$C$29,\"\")","v":""},{"$f":"IF(登録名簿!$P$29=\"〇\",OFFSET(登録名簿!$C$29,0,2,,),\"\")","v":""},{"$f":"IF(登録名簿!$P$29=\"〇\",OFFSET(登録名簿!$C$29,0,4,,),\"\")","v":""},null,null,null,null,null,null,null,null,null,null,null,null,null,null,null,null,null,null,null,null,null,null,19,null,{"$f":"IF(登録名簿!$Q$29=\"〇\",登録名簿!$C$29,\"\")","v":""},{"$f":"IF(登録名簿!$Q$29=\"〇\",OFFSET(登録名簿!$C$29,0,2,,),\"\")","v":""},{"$f":"IF(登録名簿!$Q$29=\"〇\",OFFSET(登録名簿!$C$29,0,4,,),\"\")","v":""},null,null,null,null,null,null,null,null,null,null,null,null,null,null,null,null,null,null,null,null,null,null,19,null,{"$f":"IF(登録名簿!$R$29=\"〇\",登録名簿!$C$29,\"\")","v":""},{"$f":"IF(登録名簿!$R$29=\"〇\",OFFSET(登録名簿!$C$29,0,2,,),\"\")","v":""},{"$f":"IF(登録名簿!$R$29=\"〇\",OFFSET(登録名簿!$C$29,0,4,,),\"\")","v":""}]
[null,20,null,{"$f":"IF(登録名簿!$O$30=\"〇\",登録名簿!$C$30,\"\")","v":""},{"$f":"IF(登録名簿!$O$30=\"〇\",OFFSET(登録名簿!$C$30,0,2,,),\"\")","v":""},{"$f":"IF(登録名簿!$O$30=\"〇\",OFFSET(登録名簿!$C$30,0,4,,),\"\")","v":""},null,null,null,null,null,null,null,null,null,null,null,null,null,null,null,null,null,null,null,null,null,null,20,null,{"$f":"IF(登録名簿!$P$30=\"〇\",登録名簿!$C$30,\"\")","v":""},{"$f":"IF(登録名簿!$P$30=\"〇\",OFFSET(登録名簿!$C$30,0,2,,),\"\")","v":""},{"$f":"IF(登録名簿!$P$30=\"〇\",OFFSET(登録名簿!$C$30,0,4,,),\"\")","v":""},null,null,null,null,null,null,null,null,null,null,null,null,null,null,null,null,null,null,null,null,null,null,20,null,{"$f":"IF(登録名簿!$Q$30=\"〇\",登録名簿!$C$30,\"\")","v":""},{"$f":"IF(登録名簿!$Q$30=\"〇\",OFFSET(登録名簿!$C$30,0,2,,),\"\")","v":""},{"$f":"IF(登録名簿!$Q$30=\"〇\",OFFSET(登録名簿!$C$30,0,4,,),\"\")","v":""},null,null,null,null,null,null,null,null,null,null,null,null,null,null,null,null,null,null,null,null,null,null,20,null,{"$f":"IF(登録名簿!$R$30=\"〇\",登録名簿!$C$30,\"\")","v":""},{"$f":"IF(登録名簿!$R$30=\"〇\",OFFSET(登録名簿!$C$30,0,2,,),\"\")","v":""},{"$f":"IF(登録名簿!$R$30=\"〇\",OFFSET(登録名簿!$C$30,0,4,,),\"\")","v":""}]
[null,21,null,{"$f":"IF(登録名簿!$O$31=\"〇\",登録名簿!$C$31,\"\")","v":""},{"$f":"IF(登録名簿!$O$31=\"〇\",OFFSET(登録名簿!$C$31,0,2,,),\"\")","v":""},{"$f":"IF(登録名簿!$O$31=\"〇\",OFFSET(登録名簿!$C$31,0,4,,),\"\")","v":""},null,null,null,null,null,null,null,null,null,null,null,null,null,null,null,null,null,null,null,null,null,null,21,null,{"$f":"IF(登録名簿!$P$31=\"〇\",登録名簿!$C$31,\"\")","v":""},{"$f":"IF(登録名簿!$P$31=\"〇\",OFFSET(登録名簿!$C$31,0,2,,),\"\")","v":""},{"$f":"IF(登録名簿!$P$31=\"〇\",OFFSET(登録名簿!$C$31,0,4,,),\"\")","v":""},null,null,null,null,null,null,null,null,null,null,null,null,null,null,null,null,null,null,null,null,null,null,21,null,{"$f":"IF(登録名簿!$Q$31=\"〇\",登録名簿!$C$31,\"\")","v":""},{"$f":"IF(登録名簿!$Q$31=\"〇\",OFFSET(登録名簿!$C$31,0,2,,),\"\")","v":""},{"$f":"IF(登録名簿!$Q$31=\"〇\",OFFSET(登録名簿!$C$31,0,4,,),\"\")","v":""},null,null,null,null,null,null,null,null,null,null,null,null,null,null,null,null,null,null,null,null,null,null,21,null,{"$f":"IF(登録名簿!$R$31=\"〇\",登録名簿!$C$31,\"\")","v":""},{"$f":"IF(登録名簿!$R$31=\"〇\",OFFSET(登録名簿!$C$31,0,2,,),\"\")","v":""},{"$f":"IF(登録名簿!$R$31=\"〇\",OFFSET(登録名簿!$C$31,0,4,,),\"\")","v":""}]
[null,22,null,{"$f":"IF(登録名簿!$O$32=\"〇\",登録名簿!$C$32,\"\")","v":""},{"$f":"IF(登録名簿!$O$32=\"〇\",OFFSET(登録名簿!$C$32,0,2,,),\"\")","v":""},{"$f":"IF(登録名簿!$O$32=\"〇\",OFFSET(登録名簿!$C$32,0,4,,),\"\")","v":""},null,null,null,null,null,null,null,null,null,null,null,null,null,null,null,null,null,null,null,null,null,null,22,null,{"$f":"IF(登録名簿!$P$32=\"〇\",登録名簿!$C$32,\"\")","v":""},{"$f":"IF(登録名簿!$P$32=\"〇\",OFFSET(登録名簿!$C$32,0,2,,),\"\")","v":""},{"$f":"IF(登録名簿!$P$32=\"〇\",OFFSET(登録名簿!$C$32,0,4,,),\"\")","v":""},null,null,null,null,null,null,null,null,null,null,null,null,null,null,null,null,null,null,null,null,null,null,22,null,{"$f":"IF(登録名簿!$Q$32=\"〇\",登録名簿!$C$32,\"\")","v":""},{"$f":"IF(登録名簿!$Q$32=\"〇\",OFFSET(登録名簿!$C$32,0,2,,),\"\")","v":""},{"$f":"IF(登録名簿!$Q$32=\"〇\",OFFSET(登録名簿!$C$32,0,4,,),\"\")","v":""},null,null,null,null,null,null,null,null,null,null,null,null,null,null,null,null,null,null,null,null,null,null,22,null,{"$f":"IF(登録名簿!$R$32=\"〇\",登録名簿!$C$32,\"\")","v":""},{"$f":"IF(登録名簿!$R$32=\"〇\",OFFSET(登録名簿!$C$32,0,2,,),\"\")","v":""},{"$f":"IF(登録名簿!$R$32=\"〇\",OFFSET(登録名簿!$C$32,0,4,,),\"\")","v":""}]
[null,23,null,{"$f":"IF(登録名簿!$O$33=\"〇\",登録名簿!$C$33,\"\")","v":""},{"$f":"IF(登録名簿!$O$33=\"〇\",OFFSET(登録名簿!$C$33,0,2,,),\"\")","v":""},{"$f":"IF(登録名簿!$O$33=\"〇\",OFFSET(登録名簿!$C$33,0,4,,),\"\")","v":""},null,null,null,null,null,null,null,null,null,null,null,null,null,null,null,null,null,null,null,null,null,null,23,null,{"$f":"IF(登録名簿!$P$33=\"〇\",登録名簿!$C$33,\"\")","v":""},{"$f":"IF(登録名簿!$P$33=\"〇\",OFFSET(登録名簿!$C$33,0,2,,),\"\")","v":""},{"$f":"IF(登録名簿!$P$33=\"〇\",OFFSET(登録名簿!$C$33,0,4,,),\"\")","v":""},null,null,null,null,null,null,null,null,null,null,null,null,null,null,null,null,null,null,null,null,null,null,23,null,{"$f":"IF(登録名簿!$Q$33=\"〇\",登録名簿!$C$33,\"\")","v":""},{"$f":"IF(登録名簿!$Q$33=\"〇\",OFFSET(登録名簿!$C$33,0,2,,),\"\")","v":""},{"$f":"IF(登録名簿!$Q$33=\"〇\",OFFSET(登録名簿!$C$33,0,4,,),\"\")","v":""},null,null,null,null,null,null,null,null,null,null,null,null,null,null,null,null,null,null,null,null,null,null,23,null,{"$f":"IF(登録名簿!$R$33=\"〇\",登録名簿!$C$33,\"\")","v":""},{"$f":"IF(登録名簿!$R$33=\"〇\",OFFSET(登録名簿!$C$33,0,2,,),\"\")","v":""},{"$f":"IF(登録名簿!$R$33=\"〇\",OFFSET(登録名簿!$C$33,0,4,,),\"\")","v":""}]
[null,24,null,{"$f":"IF(登録名簿!$O$34=\"〇\",登録名簿!$C$34,\"\")","v":""},{"$f":"IF(登録名簿!$O$34=\"〇\",OFFSET(登録名簿!$C$34,0,2,,),\"\")","v":""},{"$f":"IF(登録名簿!$O$34=\"〇\",OFFSET(登録名簿!$C$34,0,4,,),\"\")","v":""},null,null,null,null,null,null,null,null,null,null,null,null,null,null,null,null,null,null,null,null,null,null,24,null,{"$f":"IF(登録名簿!$P$34=\"〇\",登録名簿!$C$34,\"\")","v":""},{"$f":"IF(登録名簿!$P$34=\"〇\",OFFSET(登録名簿!$C$34,0,2,,),\"\")","v":""},{"$f":"IF(登録名簿!$P$34=\"〇\",OFFSET(登録名簿!$C$34,0,4,,),\"\")","v":""},null,null,null,null,null,null,null,null,null,null,null,null,null,null,null,null,null,null,null,null,null,null,24,null,{"$f":"IF(登録名簿!$Q$34=\"〇\",登録名簿!$C$34,\"\")","v":""},{"$f":"IF(登録名簿!$Q$34=\"〇\",OFFSET(登録名簿!$C$34,0,2,,),\"\")","v":""},{"$f":"IF(登録名簿!$Q$34=\"〇\",OFFSET(登録名簿!$C$34,0,4,,),\"\")","v":""},null,null,null,null,null,null,null,null,null,null,null,null,null,null,null,null,null,null,null,null,null,null,24,null,{"$f":"IF(登録名簿!$R$34=\"〇\",登録名簿!$C$34,\"\")","v":""},{"$f":"IF(登録名簿!$R$34=\"〇\",OFFSET(登録名簿!$C$34,0,2,,),\"\")","v":""},{"$f":"IF(登録名簿!$R$34=\"〇\",OFFSET(登録名簿!$C$34,0,4,,),\"\")","v":""}]
[null,25,null,{"$f":"IF(登録名簿!$O$35=\"〇\",登録名簿!$C$35,\"\")","v":""},{"$f":"IF(登録名簿!$O$35=\"〇\",OFFSET(登録名簿!$C$35,0,2,,),\"\")","v":""},{"$f":"IF(登録名簿!$O$35=\"〇\",OFFSET(登録名簿!$C$35,0,4,,),\"\")","v":""},null,null,null,null,null,null,null,null,null,null,null,null,null,null,null,null,null,null,null,null,null,null,25,null,{"$f":"IF(登録名簿!$P$35=\"〇\",登録名簿!$C$35,\"\")","v":""},{"$f":"IF(登録名簿!$P$35=\"〇\",OFFSET(登録名簿!$C$35,0,2,,),\"\")","v":""},{"$f":"IF(登録名簿!$P$35=\"〇\",OFFSET(登録名簿!$C$35,0,4,,),\"\")","v":""},null,null,null,null,null,null,null,null,null,null,null,null,null,null,null,null,null,null,null,null,null,null,25,null,{"$f":"IF(登録名簿!$Q$35=\"〇\",登録名簿!$C$35,\"\")","v":""},{"$f":"IF(登録名簿!$Q$35=\"〇\",OFFSET(登録名簿!$C$35,0,2,,),\"\")","v":""},{"$f":"IF(登録名簿!$Q$35=\"〇\",OFFSET(登録名簿!$C$35,0,4,,),\"\")","v":""},null,null,null,null,null,null,null,null,null,null,null,null,null,null,null,null,null,null,null,null,null,null,25,null,{"$f":"IF(登録名簿!$R$35=\"〇\",登録名簿!$C$35,\"\")","v":""},{"$f":"IF(登録名簿!$R$35=\"〇\",OFFSET(登録名簿!$C$35,0,2,,),\"\")","v":""},{"$f":"IF(登録名簿!$R$35=\"〇\",OFFSET(登録名簿!$C$35,0,4,,),\"\")","v":""}]
[null,26,null,{"$f":"IF(登録名簿!$O$36=\"〇\",登録名簿!$C$36,\"\")","v":""},{"$f":"IF(登録名簿!$O$36=\"〇\",OFFSET(登録名簿!$C$36,0,2,,),\"\")","v":""},{"$f":"IF(登録名簿!$O$36=\"〇\",OFFSET(登録名簿!$C$36,0,4,,),\"\")","v":""},null,null,null,null,null,null,null,null,null,null,null,null,null,null,null,null,null,null,null,null,null,null,26,null,{"$f":"IF(登録名簿!$P$36=\"〇\",登録名簿!$C$36,\"\")","v":""},{"$f":"IF(登録名簿!$P$36=\"〇\",OFFSET(登録名簿!$C$36,0,2,,),\"\")","v":""},{"$f":"IF(登録名簿!$P$36=\"〇\",OFFSET(登録名簿!$C$36,0,4,,),\"\")","v":""},null,null,null,null,null,null,null,null,null,null,null,null,null,null,null,null,null,null,null,null,null,null,26,null,{"$f":"IF(登録名簿!$Q$36=\"〇\",登録名簿!$C$36,\"\")","v":""},{"$f":"IF(登録名簿!$Q$36=\"〇\",OFFSET(登録名簿!$C$36,0,2,,),\"\")","v":""},{"$f":"IF(登録名簿!$Q$36=\"〇\",OFFSET(登録名簿!$C$36,0,4,,),\"\")","v":""},null,null,null,null,null,null,null,null,null,null,null,null,null,null,null,null,null,null,null,null,null,null,26,null,{"$f":"IF(登録名簿!$R$36=\"〇\",登録名簿!$C$36,\"\")","v":""},{"$f":"IF(登録名簿!$R$36=\"〇\",OFFSET(登録名簿!$C$36,0,2,,),\"\")","v":""},{"$f":"IF(登録名簿!$R$36=\"〇\",OFFSET(登録名簿!$C$36,0,4,,),\"\")","v":""}]
[null,27,null,{"$f":"IF(登録名簿!$O$37=\"〇\",登録名簿!$C$37,\"\")","v":""},{"$f":"IF(登録名簿!$O$37=\"〇\",OFFSET(登録名簿!$C$37,0,2,,),\"\")","v":""},{"$f":"IF(登録名簿!$O$37=\"〇\",OFFSET(登録名簿!$C$37,0,4,,),\"\")","v":""},null,null,null,null,null,null,null,null,null,null,null,null,null,null,null,null,null,null,null,null,null,null,27,null,{"$f":"IF(登録名簿!$P$37=\"〇\",登録名簿!$C$37,\"\")","v":""},{"$f":"IF(登録名簿!$P$37=\"〇\",OFFSET(登録名簿!$C$37,0,2,,),\"\")","v":""},{"$f":"IF(登録名簿!$P$37=\"〇\",OFFSET(登録名簿!$C$37,0,4,,),\"\")","v":""},null,null,null,null,null,null,null,null,null,null,null,null,null,null,null,null,null,null,null,null,null,null,27,null,{"$f":"IF(登録名簿!$Q$37=\"〇\",登録名簿!$C$37,\"\")","v":""},{"$f":"IF(登録名簿!$Q$37=\"〇\",OFFSET(登録名簿!$C$37,0,2,,),\"\")","v":""},{"$f":"IF(登録名簿!$Q$37=\"〇\",OFFSET(登録名簿!$C$37,0,4,,),\"\")","v":""},null,null,null,null,null,null,null,null,null,null,null,null,null,null,null,null,null,null,null,null,null,null,27,null,{"$f":"IF(登録名簿!$R$37=\"〇\",登録名簿!$C$37,\"\")","v":""},{"$f":"IF(登録名簿!$R$37=\"〇\",OFFSET(登録名簿!$C$37,0,2,,),\"\")","v":""},{"$f":"IF(登録名簿!$R$37=\"〇\",OFFSET(登録名簿!$C$37,0,4,,),\"\")","v":""}]
[null,28,null,{"$f":"IF(登録名簿!$O$38=\"〇\",登録名簿!$C$38,\"\")","v":""},{"$f":"IF(登録名簿!$O$38=\"〇\",OFFSET(登録名簿!$C$38,0,2,,),\"\")","v":""},{"$f":"IF(登録名簿!$O$38=\"〇\",OFFSET(登録名簿!$C$38,0,4,,),\"\")","v":""},null,null,null,null,null,null,null,null,null,null,null,null,null,null,null,null,null,null,null,null,null,null,28,null,{"$f":"IF(登録名簿!$P$38=\"〇\",登録名簿!$C$38,\"\")","v":""},{"$f":"IF(登録名簿!$P$38=\"〇\",OFFSET(登録名簿!$C$38,0,2,,),\"\")","v":""},{"$f":"IF(登録名簿!$P$38=\"〇\",OFFSET(登録名簿!$C$38,0,4,,),\"\")","v":""},null,null,null,null,null,null,null,null,null,null,null,null,null,null,null,null,null,null,null,null,null,null,28,null,{"$f":"IF(登録名簿!$Q$38=\"〇\",登録名簿!$C$38,\"\")","v":""},{"$f":"IF(登録名簿!$Q$38=\"〇\",OFFSET(登録名簿!$C$38,0,2,,),\"\")","v":""},{"$f":"IF(登録名簿!$Q$38=\"〇\",OFFSET(登録名簿!$C$38,0,4,,),\"\")","v":""},null,null,null,null,null,null,null,null,null,null,null,null,null,null,null,null,null,null,null,null,null,null,28,null,{"$f":"IF(登録名簿!$R$38=\"〇\",登録名簿!$C$38,\"\")","v":""},{"$f":"IF(登録名簿!$R$38=\"〇\",OFFSET(登録名簿!$C$38,0,2,,),\"\")","v":""},{"$f":"IF(登録名簿!$R$38=\"〇\",OFFSET(登録名簿!$C$38,0,4,,),\"\")","v":""}]
[null,29,null,{"$f":"IF(登録名簿!$O$39=\"〇\",登録名簿!$C$39,\"\")","v":""},{"$f":"IF(登録名簿!$O$39=\"〇\",OFFSET(登録名簿!$C$39,0,2,,),\"\")","v":""},{"$f":"IF(登録名簿!$O$39=\"〇\",OFFSET(登録名簿!$C$39,0,4,,),\"\")","v":""},null,null,null,null,null,null,null,null,null,null,null,null,null,null,null,null,null,null,null,null,null,null,29,null,{"$f":"IF(登録名簿!$P$39=\"〇\",登録名簿!$C$39,\"\")","v":""},{"$f":"IF(登録名簿!$P$39=\"〇\",OFFSET(登録名簿!$C$39,0,2,,),\"\")","v":""},{"$f":"IF(登録名簿!$P$39=\"〇\",OFFSET(登録名簿!$C$39,0,4,,),\"\")","v":""},null,null,null,null,null,null,null,null,null,null,null,null,null,null,null,null,null,null,null,null,null,null,29,null,{"$f":"IF(登録名簿!$Q$39=\"〇\",登録名簿!$C$39,\"\")","v":""},{"$f":"IF(登録名簿!$Q$39=\"〇\",OFFSET(登録名簿!$C$39,0,2,,),\"\")","v":""},{"$f":"IF(登録名簿!$Q$39=\"〇\",OFFSET(登録名簿!$C$39,0,4,,),\"\")","v":""},null,null,null,null,null,null,null,null,null,null,null,null,null,null,null,null,null,null,null,null,null,null,29,null,{"$f":"IF(登録名簿!$R$39=\"〇\",登録名簿!$C$39,\"\")","v":""},{"$f":"IF(登録名簿!$R$39=\"〇\",OFFSET(登録名簿!$C$39,0,2,,),\"\")","v":""},{"$f":"IF(登録名簿!$R$39=\"〇\",OFFSET(登録名簿!$C$39,0,4,,),\"\")","v":""}]
[null,30,null,{"$f":"IF(登録名簿!$O$40=\"〇\",登録名簿!$C$40,\"\")","v":""},{"$f":"IF(登録名簿!$O$40=\"〇\",OFFSET(登録名簿!$C$40,0,2,,),\"\")","v":""},{"$f":"IF(登録名簿!$O$40=\"〇\",OFFSET(登録名簿!$C$40,0,4,,),\"\")","v":""},null,null,null,null,null,null,null,null,null,null,null,null,null,null,null,null,null,null,null,null,null,null,30,null,{"$f":"IF(登録名簿!$P$40=\"〇\",登録名簿!$C$40,\"\")","v":""},{"$f":"IF(登録名簿!$P$40=\"〇\",OFFSET(登録名簿!$C$40,0,2,,),\"\")","v":""},{"$f":"IF(登録名簿!$P$40=\"〇\",OFFSET(登録名簿!$C$40,0,4,,),\"\")","v":""},null,null,null,null,null,null,null,null,null,null,null,null,null,null,null,null,null,null,null,null,null,null,30,null,{"$f":"IF(登録名簿!$Q$40=\"〇\",登録名簿!$C$40,\"\")","v":""},{"$f":"IF(登録名簿!$Q$40=\"〇\",OFFSET(登録名簿!$C$40,0,2,,),\"\")","v":""},{"$f":"IF(登録名簿!$Q$40=\"〇\",OFFSET(登録名簿!$C$40,0,4,,),\"\")","v":""},null,null,null,null,null,null,null,null,null,null,null,null,null,null,null,null,null,null,null,null,null,null,30,null,{"$f":"IF(登録名簿!$R$40=\"〇\",登録名簿!$C$40,\"\")","v":""},{"$f":"IF(登録名簿!$R$40=\"〇\",OFFSET(登録名簿!$C$40,0,2,,),\"\")","v":""},{"$f":"IF(登録名簿!$R$40=\"〇\",OFFSET(登録名簿!$C$40,0,4,,),\"\")","v":""}]
[null,31,null,{"$f":"IF(登録名簿!$O$41=\"〇\",登録名簿!$C$41,\"\")","v":""},{"$f":"IF(登録名簿!$O$41=\"〇\",OFFSET(登録名簿!$C$41,0,2,,),\"\")","v":""},{"$f":"IF(登録名簿!$O$41=\"〇\",OFFSET(登録名簿!$C$41,0,4,,),\"\")","v":""},null,null,null,null,null,null,null,null,null,null,null,null,null,null,null,null,null,null,null,null,null,null,31,null,{"$f":"IF(登録名簿!$P$41=\"〇\",登録名簿!$C$41,\"\")","v":""},{"$f":"IF(登録名簿!$P$41=\"〇\",OFFSET(登録名簿!$C$41,0,2,,),\"\")","v":""},{"$f":"IF(登録名簿!$P$41=\"〇\",OFFSET(登録名簿!$C$41,0,4,,),\"\")","v":""},null,null,null,null,null,null,null,null,null,null,null,null,null,null,null,null,null,null,null,null,null,null,31,null,{"$f":"IF(登録名簿!$Q$41=\"〇\",登録名簿!$C$41,\"\")","v":""},{"$f":"IF(登録名簿!$Q$41=\"〇\",OFFSET(登録名簿!$C$41,0,2,,),\"\")","v":""},{"$f":"IF(登録名簿!$Q$41=\"〇\",OFFSET(登録名簿!$C$41,0,4,,),\"\")","v":""},null,null,null,null,null,null,null,null,null,null,null,null,null,null,null,null,null,null,null,null,null,null,31,null,{"$f":"IF(登録名簿!$R$41=\"〇\",登録名簿!$C$41,\"\")","v":""},{"$f":"IF(登録名簿!$R$41=\"〇\",OFFSET(登録名簿!$C$41,0,2,,),\"\")","v":""},{"$f":"IF(登録名簿!$R$41=\"〇\",OFFSET(登録名簿!$C$41,0,4,,),\"\")","v":""}]
[null,32,null,{"$f":"IF(登録名簿!$O$42=\"〇\",登録名簿!$C$42,\"\")","v":""},{"$f":"IF(登録名簿!$O$42=\"〇\",OFFSET(登録名簿!$C$42,0,2,,),\"\")","v":""},{"$f":"IF(登録名簿!$O$42=\"〇\",OFFSET(登録名簿!$C$42,0,4,,),\"\")","v":""},null,null,null,null,null,null,null,null,null,null,null,null,null,null,null,null,null,null,null,null,null,null,32,null,{"$f":"IF(登録名簿!$P$42=\"〇\",登録名簿!$C$42,\"\")","v":""},{"$f":"IF(登録名簿!$P$42=\"〇\",OFFSET(登録名簿!$C$42,0,2,,),\"\")","v":""},{"$f":"IF(登録名簿!$P$42=\"〇\",OFFSET(登録名簿!$C$42,0,4,,),\"\")","v":""},null,null,null,null,null,null,null,null,null,null,null,null,null,null,null,null,null,null,null,null,null,null,32,null,{"$f":"IF(登録名簿!$Q$42=\"〇\",登録名簿!$C$42,\"\")","v":""},{"$f":"IF(登録名簿!$Q$42=\"〇\",OFFSET(登録名簿!$C$42,0,2,,),\"\")","v":""},{"$f":"IF(登録名簿!$Q$42=\"〇\",OFFSET(登録名簿!$C$42,0,4,,),\"\")","v":""},null,null,null,null,null,null,null,null,null,null,null,null,null,null,null,null,null,null,null,null,null,null,32,null,{"$f":"IF(登録名簿!$R$42=\"〇\",登録名簿!$C$42,\"\")","v":""},{"$f":"IF(登録名簿!$R$42=\"〇\",OFFSET(登録名簿!$C$42,0,2,,),\"\")","v":""},{"$f":"IF(登録名簿!$R$42=\"〇\",OFFSET(登録名簿!$C$42,0,4,,),\"\")","v":""}]
[null,33,null,{"$f":"IF(登録名簿!$O$43=\"〇\",登録名簿!$C$43,\"\")","v":""},{"$f":"IF(登録名簿!$O$43=\"〇\",OFFSET(登録名簿!$C$43,0,2,,),\"\")","v":""},{"$f":"IF(登録名簿!$O$43=\"〇\",OFFSET(登録名簿!$C$43,0,4,,),\"\")","v":""},null,null,null,null,null,null,null,null,null,null,null,null,null,null,null,null,null,null,null,null,null,null,33,null,{"$f":"IF(登録名簿!$P$43=\"〇\",登録名簿!$C$43,\"\")","v":""},{"$f":"IF(登録名簿!$P$43=\"〇\",OFFSET(登録名簿!$C$43,0,2,,),\"\")","v":""},{"$f":"IF(登録名簿!$P$43=\"〇\",OFFSET(登録名簿!$C$43,0,4,,),\"\")","v":""},null,null,null,null,null,null,null,null,null,null,null,null,null,null,null,null,null,null,null,null,null,null,33,null,{"$f":"IF(登録名簿!$Q$43=\"〇\",登録名簿!$C$43,\"\")","v":""},{"$f":"IF(登録名簿!$Q$43=\"〇\",OFFSET(登録名簿!$C$43,0,2,,),\"\")","v":""},{"$f":"IF(登録名簿!$Q$43=\"〇\",OFFSET(登録名簿!$C$43,0,4,,),\"\")","v":""},null,null,null,null,null,null,null,null,null,null,null,null,null,null,null,null,null,null,null,null,null,null,33,null,{"$f":"IF(登録名簿!$R$43=\"〇\",登録名簿!$C$43,\"\")","v":""},{"$f":"IF(登録名簿!$R$43=\"〇\",OFFSET(登録名簿!$C$43,0,2,,),\"\")","v":""},{"$f":"IF(登録名簿!$R$43=\"〇\",OFFSET(登録名簿!$C$43,0,4,,),\"\")","v":""}]
[null,34,null,{"$f":"IF(登録名簿!$O$44=\"〇\",登録名簿!$C$44,\"\")","v":""},{"$f":"IF(登録名簿!$O$44=\"〇\",OFFSET(登録名簿!$C$44,0,2,,),\"\")","v":""},{"$f":"IF(登録名簿!$O$44=\"〇\",OFFSET(登録名簿!$C$44,0,4,,),\"\")","v":""},null,null,null,null,null,null,null,null,null,null,null,null,null,null,null,null,null,null,null,null,null,null,34,null,{"$f":"IF(登録名簿!$P$44=\"〇\",登録名簿!$C$44,\"\")","v":""},{"$f":"IF(登録名簿!$P$44=\"〇\",OFFSET(登録名簿!$C$44,0,2,,),\"\")","v":""},{"$f":"IF(登録名簿!$P$44=\"〇\",OFFSET(登録名簿!$C$44,0,4,,),\"\")","v":""},null,null,null,null,null,null,null,null,null,null,null,null,null,null,null,null,null,null,null,null,null,null,34,null,{"$f":"IF(登録名簿!$Q$44=\"〇\",登録名簿!$C$44,\"\")","v":""},{"$f":"IF(登録名簿!$Q$44=\"〇\",OFFSET(登録名簿!$C$44,0,2,,),\"\")","v":""},{"$f":"IF(登録名簿!$Q$44=\"〇\",OFFSET(登録名簿!$C$44,0,4,,),\"\")","v":""},null,null,null,null,null,null,null,null,null,null,null,null,null,null,null,null,null,null,null,null,null,null,34,null,{"$f":"IF(登録名簿!$R$44=\"〇\",登録名簿!$C$44,\"\")","v":""},{"$f":"IF(登録名簿!$R$44=\"〇\",OFFSET(登録名簿!$C$44,0,2,,),\"\")","v":""},{"$f":"IF(登録名簿!$R$44=\"〇\",OFFSET(登録名簿!$C$44,0,4,,),\"\")","v":""}]
[null,35,null,{"$f":"IF(登録名簿!$O$45=\"〇\",登録名簿!$C$45,\"\")","v":""},{"$f":"IF(登録名簿!$O$45=\"〇\",OFFSET(登録名簿!$C$45,0,2,,),\"\")","v":""},{"$f":"IF(登録名簿!$O$45=\"〇\",OFFSET(登録名簿!$C$45,0,4,,),\"\")","v":""},null,null,null,null,null,null,null,null,null,null,null,null,null,null,null,null,null,null,null,null,null,null,35,null,{"$f":"IF(登録名簿!$P$45=\"〇\",登録名簿!$C$45,\"\")","v":""},{"$f":"IF(登録名簿!$P$45=\"〇\",OFFSET(登録名簿!$C$45,0,2,,),\"\")","v":""},{"$f":"IF(登録名簿!$P$45=\"〇\",OFFSET(登録名簿!$C$45,0,4,,),\"\")","v":""},null,null,null,null,null,null,null,null,null,null,null,null,null,null,null,null,null,null,null,null,null,null,35,null,{"$f":"IF(登録名簿!$Q$45=\"〇\",登録名簿!$C$45,\"\")","v":""},{"$f":"IF(登録名簿!$Q$45=\"〇\",OFFSET(登録名簿!$C$45,0,2,,),\"\")","v":""},{"$f":"IF(登録名簿!$Q$45=\"〇\",OFFSET(登録名簿!$C$45,0,4,,),\"\")","v":""},null,null,null,null,null,null,null,null,null,null,null,null,null,null,null,null,null,null,null,null,null,null,35,null,{"$f":"IF(登録名簿!$R$45=\"〇\",登録名簿!$C$45,\"\")","v":""},{"$f":"IF(登録名簿!$R$45=\"〇\",OFFSET(登録名簿!$C$45,0,2,,),\"\")","v":""},{"$f":"IF(登録名簿!$R$45=\"〇\",OFFSET(登録名簿!$C$45,0,4,,),\"\")","v":""}]
[null,36,null,{"$f":"IF(登録名簿!$O$46=\"〇\",登録名簿!$C$46,\"\")","v":""},{"$f":"IF(登録名簿!$O$46=\"〇\",OFFSET(登録名簿!$C$46,0,2,,),\"\")","v":""},{"$f":"IF(登録名簿!$O$46=\"〇\",OFFSET(登録名簿!$C$46,0,4,,),\"\")","v":""},null,null,null,null,null,null,null,null,null,null,null,null,null,null,null,null,null,null,null,null,null,null,36,null,{"$f":"IF(登録名簿!$P$46=\"〇\",登録名簿!$C$46,\"\")","v":""},{"$f":"IF(登録名簿!$P$46=\"〇\",OFFSET(登録名簿!$C$46,0,2,,),\"\")","v":""},{"$f":"IF(登録名簿!$P$46=\"〇\",OFFSET(登録名簿!$C$46,0,4,,),\"\")","v":""},null,null,null,null,null,null,null,null,null,null,null,null,null,null,null,null,null,null,null,null,null,null,36,null,{"$f":"IF(登録名簿!$Q$46=\"〇\",登録名簿!$C$46,\"\")","v":""},{"$f":"IF(登録名簿!$Q$46=\"〇\",OFFSET(登録名簿!$C$46,0,2,,),\"\")","v":""},{"$f":"IF(登録名簿!$Q$46=\"〇\",OFFSET(登録名簿!$C$46,0,4,,),\"\")","v":""},null,null,null,null,null,null,null,null,null,null,null,null,null,null,null,null,null,null,null,null,null,null,36,null,{"$f":"IF(登録名簿!$R$46=\"〇\",登録名簿!$C$46,\"\")","v":""},{"$f":"IF(登録名簿!$R$46=\"〇\",OFFSET(登録名簿!$C$46,0,2,,),\"\")","v":""},{"$f":"IF(登録名簿!$R$46=\"〇\",OFFSET(登録名簿!$C$46,0,4,,),\"\")","v":""}]
[null,37,null,{"$f":"IF(登録名簿!$O$47=\"〇\",登録名簿!$C$47,\"\")","v":""},{"$f":"IF(登録名簿!$O$47=\"〇\",OFFSET(登録名簿!$C$47,0,2,,),\"\")","v":""},{"$f":"IF(登録名簿!$O$47=\"〇\",OFFSET(登録名簿!$C$47,0,4,,),\"\")","v":""},null,null,null,null,null,null,null,null,null,null,null,null,null,null,null,null,null,null,null,null,null,null,37,null,{"$f":"IF(登録名簿!$P$47=\"〇\",登録名簿!$C$47,\"\")","v":""},{"$f":"IF(登録名簿!$P$47=\"〇\",OFFSET(登録名簿!$C$47,0,2,,),\"\")","v":""},{"$f":"IF(登録名簿!$P$47=\"〇\",OFFSET(登録名簿!$C$47,0,4,,),\"\")","v":""},null,null,null,null,null,null,null,null,null,null,null,null,null,null,null,null,null,null,null,null,null,null,37,null,{"$f":"IF(登録名簿!$Q$47=\"〇\",登録名簿!$C$47,\"\")","v":""},{"$f":"IF(登録名簿!$Q$47=\"〇\",OFFSET(登録名簿!$C$47,0,2,,),\"\")","v":""},{"$f":"IF(登録名簿!$Q$47=\"〇\",OFFSET(登録名簿!$C$47,0,4,,),\"\")","v":""},null,null,null,null,null,null,null,null,null,null,null,null,null,null,null,null,null,null,null,null,null,null,37,null,{"$f":"IF(登録名簿!$R$47=\"〇\",登録名簿!$C$47,\"\")","v":""},{"$f":"IF(登録名簿!$R$47=\"〇\",OFFSET(登録名簿!$C$47,0,2,,),\"\")","v":""},{"$f":"IF(登録名簿!$R$47=\"〇\",OFFSET(登録名簿!$C$47,0,4,,),\"\")","v":""}]
[null,38,null,{"$f":"IF(登録名簿!$O$48=\"〇\",登録名簿!$C$48,\"\")","v":""},{"$f":"IF(登録名簿!$O$48=\"〇\",OFFSET(登録名簿!$C$48,0,2,,),\"\")","v":""},{"$f":"IF(登録名簿!$O$48=\"〇\",OFFSET(登録名簿!$C$48,0,4,,),\"\")","v":""},null,null,null,null,null,null,null,null,null,null,null,null,null,null,null,null,null,null,null,null,null,null,38,null,{"$f":"IF(登録名簿!$P$48=\"〇\",登録名簿!$C$48,\"\")","v":""},{"$f":"IF(登録名簿!$P$48=\"〇\",OFFSET(登録名簿!$C$48,0,2,,),\"\")","v":""},{"$f":"IF(登録名簿!$P$48=\"〇\",OFFSET(登録名簿!$C$48,0,4,,),\"\")","v":""},null,null,null,null,null,null,null,null,null,null,null,null,null,null,null,null,null,null,null,null,null,null,38,null,{"$f":"IF(登録名簿!$Q$48=\"〇\",登録名簿!$C$48,\"\")","v":""},{"$f":"IF(登録名簿!$Q$48=\"〇\",OFFSET(登録名簿!$C$48,0,2,,),\"\")","v":""},{"$f":"IF(登録名簿!$Q$48=\"〇\",OFFSET(登録名簿!$C$48,0,4,,),\"\")","v":""},null,null,null,null,null,null,null,null,null,null,null,null,null,null,null,null,null,null,null,null,null,null,38,null,{"$f":"IF(登録名簿!$R$48=\"〇\",登録名簿!$C$48,\"\")","v":""},{"$f":"IF(登録名簿!$R$48=\"〇\",OFFSET(登録名簿!$C$48,0,2,,),\"\")","v":""},{"$f":"IF(登録名簿!$R$48=\"〇\",OFFSET(登録名簿!$C$48,0,4,,),\"\")","v":""}]
[null,39,null,{"$f":"IF(登録名簿!$O$49=\"〇\",登録名簿!$C$49,\"\")","v":""},{"$f":"IF(登録名簿!$O$49=\"〇\",OFFSET(登録名簿!$C$49,0,2,,),\"\")","v":""},{"$f":"IF(登録名簿!$O$49=\"〇\",OFFSET(登録名簿!$C$49,0,4,,),\"\")","v":""},null,null,null,null,null,null,null,null,null,null,null,null,null,null,null,null,null,null,null,null,null,null,39,null,{"$f":"IF(登録名簿!$P$49=\"〇\",登録名簿!$C$49,\"\")","v":""},{"$f":"IF(登録名簿!$P$49=\"〇\",OFFSET(登録名簿!$C$49,0,2,,),\"\")","v":""},{"$f":"IF(登録名簿!$P$49=\"〇\",OFFSET(登録名簿!$C$49,0,4,,),\"\")","v":""},null,null,null,null,null,null,null,null,null,null,null,null,null,null,null,null,null,null,null,null,null,null,39,null,{"$f":"IF(登録名簿!$Q$49=\"〇\",登録名簿!$C$49,\"\")","v":""},{"$f":"IF(登録名簿!$Q$49=\"〇\",OFFSET(登録名簿!$C$49,0,2,,),\"\")","v":""},{"$f":"IF(登録名簿!$Q$49=\"〇\",OFFSET(登録名簿!$C$49,0,4,,),\"\")","v":""},null,null,null,null,null,null,null,null,null,null,null,null,null,null,null,null,null,null,null,null,null,null,39,null,{"$f":"IF(登録名簿!$R$49=\"〇\",登録名簿!$C$49,\"\")","v":""},{"$f":"IF(登録名簿!$R$49=\"〇\",OFFSET(登録名簿!$C$49,0,2,,),\"\")","v":""},{"$f":"IF(登録名簿!$R$49=\"〇\",OFFSET(登録名簿!$C$49,0,4,,),\"\")","v":""}]
[null,40,null,{"$f":"IF(登録名簿!$O$50=\"〇\",登録名簿!$C$50,\"\")","v":""},{"$f":"IF(登録名簿!$O$50=\"〇\",OFFSET(登録名簿!$C$50,0,2,,),\"\")","v":""},{"$f":"IF(登録名簿!$O$50=\"〇\",OFFSET(登録名簿!$C$50,0,4,,),\"\")","v":""},null,null,null,null,null,null,null,null,null,null,null,null,null,null,null,null,null,null,null,null,null,null,40,null,{"$f":"IF(登録名簿!$P$50=\"〇\",登録名簿!$C$50,\"\")","v":""},{"$f":"IF(登録名簿!$P$50=\"〇\",OFFSET(登録名簿!$C$50,0,2,,),\"\")","v":""},{"$f":"IF(登録名簿!$P$50=\"〇\",OFFSET(登録名簿!$C$50,0,4,,),\"\")","v":""},null,null,null,null,null,null,null,null,null,null,null,null,null,null,null,null,null,null,null,null,null,null,40,null,{"$f":"IF(登録名簿!$Q$50=\"〇\",登録名簿!$C$50,\"\")","v":""},{"$f":"IF(登録名簿!$Q$50=\"〇\",OFFSET(登録名簿!$C$50,0,2,,),\"\")","v":""},{"$f":"IF(登録名簿!$Q$50=\"〇\",OFFSET(登録名簿!$C$50,0,4,,),\"\")","v":""},null,null,null,null,null,null,null,null,null,null,null,null,null,null,null,null,null,null,null,null,null,null,40,null,{"$f":"IF(登録名簿!$R$50=\"〇\",登録名簿!$C$50,\"\")","v":""},{"$f":"IF(登録名簿!$R$50=\"〇\",OFFSET(登録名簿!$C$50,0,2,,),\"\")","v":""},{"$f":"IF(登録名簿!$R$50=\"〇\",OFFSET(登録名簿!$C$50,0,4,,),\"\")","v":""}]
[null,41,null,{"$f":"IF(登録名簿!$O$51=\"〇\",登録名簿!$C$51,\"\")","v":""},{"$f":"IF(登録名簿!$O$51=\"〇\",OFFSET(登録名簿!$C$51,0,2,,),\"\")","v":""},{"$f":"IF(登録名簿!$O$51=\"〇\",OFFSET(登録名簿!$C$51,0,4,,),\"\")","v":""},null,null,null,null,null,null,null,null,null,null,null,null,null,null,null,null,null,null,null,null,null,null,41,null,{"$f":"IF(登録名簿!$P$51=\"〇\",登録名簿!$C$51,\"\")","v":""},{"$f":"IF(登録名簿!$P$51=\"〇\",OFFSET(登録名簿!$C$51,0,2,,),\"\")","v":""},{"$f":"IF(登録名簿!$P$51=\"〇\",OFFSET(登録名簿!$C$51,0,4,,),\"\")","v":""},null,null,null,null,null,null,null,null,null,null,null,null,null,null,null,null,null,null,null,null,null,null,41,null,{"$f":"IF(登録名簿!$Q$51=\"〇\",登録名簿!$C$51,\"\")","v":""},{"$f":"IF(登録名簿!$Q$51=\"〇\",OFFSET(登録名簿!$C$51,0,2,,),\"\")","v":""},{"$f":"IF(登録名簿!$Q$51=\"〇\",OFFSET(登録名簿!$C$51,0,4,,),\"\")","v":""},null,null,null,null,null,null,null,null,null,null,null,null,null,null,null,null,null,null,null,null,null,null,41,null,{"$f":"IF(登録名簿!$R$51=\"〇\",登録名簿!$C$51,\"\")","v":""},{"$f":"IF(登録名簿!$R$51=\"〇\",OFFSET(登録名簿!$C$51,0,2,,),\"\")","v":""},{"$f":"IF(登録名簿!$R$51=\"〇\",OFFSET(登録名簿!$C$51,0,4,,),\"\")","v":""}]
[null,42,null,{"$f":"IF(登録名簿!$O$52=\"〇\",登録名簿!$C$52,\"\")","v":""},{"$f":"IF(登録名簿!$O$52=\"〇\",OFFSET(登録名簿!$C$52,0,2,,),\"\")","v":""},{"$f":"IF(登録名簿!$O$52=\"〇\",OFFSET(登録名簿!$C$52,0,4,,),\"\")","v":""},null,null,null,null,null,null,null,null,null,null,null,null,null,null,null,null,null,null,null,null,null,null,42,null,{"$f":"IF(登録名簿!$P$52=\"〇\",登録名簿!$C$52,\"\")","v":""},{"$f":"IF(登録名簿!$P$52=\"〇\",OFFSET(登録名簿!$C$52,0,2,,),\"\")","v":""},{"$f":"IF(登録名簿!$P$52=\"〇\",OFFSET(登録名簿!$C$52,0,4,,),\"\")","v":""},null,null,null,null,null,null,null,null,null,null,null,null,null,null,null,null,null,null,null,null,null,null,42,null,{"$f":"IF(登録名簿!$Q$52=\"〇\",登録名簿!$C$52,\"\")","v":""},{"$f":"IF(登録名簿!$Q$52=\"〇\",OFFSET(登録名簿!$C$52,0,2,,),\"\")","v":""},{"$f":"IF(登録名簿!$Q$52=\"〇\",OFFSET(登録名簿!$C$52,0,4,,),\"\")","v":""},null,null,null,null,null,null,null,null,null,null,null,null,null,null,null,null,null,null,null,null,null,null,42,null,{"$f":"IF(登録名簿!$R$52=\"〇\",登録名簿!$C$52,\"\")","v":""},{"$f":"IF(登録名簿!$R$52=\"〇\",OFFSET(登録名簿!$C$52,0,2,,),\"\")","v":""},{"$f":"IF(登録名簿!$R$52=\"〇\",OFFSET(登録名簿!$C$52,0,4,,),\"\")","v":""}]
[null,43,null,{"$f":"IF(登録名簿!$O$53=\"〇\",登録名簿!$C$53,\"\")","v":""},{"$f":"IF(登録名簿!$O$53=\"〇\",OFFSET(登録名簿!$C$53,0,2,,),\"\")","v":""},{"$f":"IF(登録名簿!$O$53=\"〇\",OFFSET(登録名簿!$C$53,0,4,,),\"\")","v":""},null,null,null,null,null,null,null,null,null,null,null,null,null,null,null,null,null,null,null,null,null,null,43,null,{"$f":"IF(登録名簿!$P$53=\"〇\",登録名簿!$C$53,\"\")","v":""},{"$f":"IF(登録名簿!$P$53=\"〇\",OFFSET(登録名簿!$C$53,0,2,,),\"\")","v":""},{"$f":"IF(登録名簿!$P$53=\"〇\",OFFSET(登録名簿!$C$53,0,4,,),\"\")","v":""},null,null,null,null,null,null,null,null,null,null,null,null,null,null,null,null,null,null,null,null,null,null,43,null,{"$f":"IF(登録名簿!$Q$53=\"〇\",登録名簿!$C$53,\"\")","v":""},{"$f":"IF(登録名簿!$Q$53=\"〇\",OFFSET(登録名簿!$C$53,0,2,,),\"\")","v":""},{"$f":"IF(登録名簿!$Q$53=\"〇\",OFFSET(登録名簿!$C$53,0,4,,),\"\")","v":""},null,null,null,null,null,null,null,null,null,null,null,null,null,null,null,null,null,null,null,null,null,null,43,null,{"$f":"IF(登録名簿!$R$53=\"〇\",登録名簿!$C$53,\"\")","v":""},{"$f":"IF(登録名簿!$R$53=\"〇\",OFFSET(登録名簿!$C$53,0,2,,),\"\")","v":""},{"$f":"IF(登録名簿!$R$53=\"〇\",OFFSET(登録名簿!$C$53,0,4,,),\"\")","v":""}]
[null,44,null,{"$f":"IF(登録名簿!$O$54=\"〇\",登録名簿!$C$54,\"\")","v":""},{"$f":"IF(登録名簿!$O$54=\"〇\",OFFSET(登録名簿!$C$54,0,2,,),\"\")","v":""},{"$f":"IF(登録名簿!$O$54=\"〇\",OFFSET(登録名簿!$C$54,0,4,,),\"\")","v":""},null,null,null,null,null,null,null,null,null,null,null,null,null,null,null,null,null,null,null,null,null,null,44,null,{"$f":"IF(登録名簿!$P$54=\"〇\",登録名簿!$C$54,\"\")","v":""},{"$f":"IF(登録名簿!$P$54=\"〇\",OFFSET(登録名簿!$C$54,0,2,,),\"\")","v":""},{"$f":"IF(登録名簿!$P$54=\"〇\",OFFSET(登録名簿!$C$54,0,4,,),\"\")","v":""},null,null,null,null,null,null,null,null,null,null,null,null,null,null,null,null,null,null,null,null,null,null,44,null,{"$f":"IF(登録名簿!$Q$54=\"〇\",登録名簿!$C$54,\"\")","v":""},{"$f":"IF(登録名簿!$Q$54=\"〇\",OFFSET(登録名簿!$C$54,0,2,,),\"\")","v":""},{"$f":"IF(登録名簿!$Q$54=\"〇\",OFFSET(登録名簿!$C$54,0,4,,),\"\")","v":""},null,null,null,null,null,null,null,null,null,null,null,null,null,null,null,null,null,null,null,null,null,null,44,null,{"$f":"IF(登録名簿!$R$54=\"〇\",登録名簿!$C$54,\"\")","v":""},{"$f":"IF(登録名簿!$R$54=\"〇\",OFFSET(登録名簿!$C$54,0,2,,),\"\")","v":""},{"$f":"IF(登録名簿!$R$54=\"〇\",OFFSET(登録名簿!$C$54,0,4,,),\"\")","v":""}]
[null,45,null,{"$f":"IF(登録名簿!$O$55=\"〇\",登録名簿!$C$55,\"\")","v":""},{"$f":"IF(登録名簿!$O$55=\"〇\",OFFSET(登録名簿!$C$55,0,2,,),\"\")","v":""},{"$f":"IF(登録名簿!$O$55=\"〇\",OFFSET(登録名簿!$C$55,0,4,,),\"\")","v":""},null,null,null,null,null,null,null,null,null,null,null,null,null,null,null,null,null,null,null,null,null,null,45,null,{"$f":"IF(登録名簿!$P$55=\"〇\",登録名簿!$C$55,\"\")","v":""},{"$f":"IF(登録名簿!$P$55=\"〇\",OFFSET(登録名簿!$C$55,0,2,,),\"\")","v":""},{"$f":"IF(登録名簿!$P$55=\"〇\",OFFSET(登録名簿!$C$55,0,4,,),\"\")","v":""},null,null,null,null,null,null,null,null,null,null,null,null,null,null,null,null,null,null,null,null,null,null,45,null,{"$f":"IF(登録名簿!$Q$55=\"〇\",登録名簿!$C$55,\"\")","v":""},{"$f":"IF(登録名簿!$Q$55=\"〇\",OFFSET(登録名簿!$C$55,0,2,,),\"\")","v":""},{"$f":"IF(登録名簿!$Q$55=\"〇\",OFFSET(登録名簿!$C$55,0,4,,),\"\")","v":""},null,null,null,null,null,null,null,null,null,null,null,null,null,null,null,null,null,null,null,null,null,null,45,null,{"$f":"IF(登録名簿!$R$55=\"〇\",登録名簿!$C$55,\"\")","v":""},{"$f":"IF(登録名簿!$R$55=\"〇\",OFFSET(登録名簿!$C$55,0,2,,),\"\")","v":""},{"$f":"IF(登録名簿!$R$55=\"〇\",OFFSET(登録名簿!$C$55,0,4,,),\"\")","v":""}]
[null,46,null,{"$f":"IF(登録名簿!$O$56=\"〇\",登録名簿!$C$56,\"\")","v":""},{"$f":"IF(登録名簿!$O$56=\"〇\",OFFSET(登録名簿!$C$56,0,2,,),\"\")","v":""},{"$f":"IF(登録名簿!$O$56=\"〇\",OFFSET(登録名簿!$C$56,0,4,,),\"\")","v":""},null,null,null,null,null,null,null,null,null,null,null,null,null,null,null,null,null,null,null,null,null,null,46,null,{"$f":"IF(登録名簿!$P$56=\"〇\",登録名簿!$C$56,\"\")","v":""},{"$f":"IF(登録名簿!$P$56=\"〇\",OFFSET(登録名簿!$C$56,0,2,,),\"\")","v":""},{"$f":"IF(登録名簿!$P$56=\"〇\",OFFSET(登録名簿!$C$56,0,4,,),\"\")","v":""},null,null,null,null,null,null,null,null,null,null,null,null,null,null,null,null,null,null,null,null,null,null,46,null,{"$f":"IF(登録名簿!$Q$56=\"〇\",登録名簿!$C$56,\"\")","v":""},{"$f":"IF(登録名簿!$Q$56=\"〇\",OFFSET(登録名簿!$C$56,0,2,,),\"\")","v":""},{"$f":"IF(登録名簿!$Q$56=\"〇\",OFFSET(登録名簿!$C$56,0,4,,),\"\")","v":""},null,null,null,null,null,null,null,null,null,null,null,null,null,null,null,null,null,null,null,null,null,null,46,null,{"$f":"IF(登録名簿!$R$56=\"〇\",登録名簿!$C$56,\"\")","v":""},{"$f":"IF(登録名簿!$R$56=\"〇\",OFFSET(登録名簿!$C$56,0,2,,),\"\")","v":""},{"$f":"IF(登録名簿!$R$56=\"〇\",OFFSET(登録名簿!$C$56,0,4,,),\"\")","v":""}]
[null,47,null,{"$f":"IF(登録名簿!$O$57=\"〇\",登録名簿!$C$57,\"\")","v":""},{"$f":"IF(登録名簿!$O$57=\"〇\",OFFSET(登録名簿!$C$57,0,2,,),\"\")","v":""},{"$f":"IF(登録名簿!$O$57=\"〇\",OFFSET(登録名簿!$C$57,0,4,,),\"\")","v":""},null,null,null,null,null,null,null,null,null,null,null,null,null,null,null,null,null,null,null,null,null,null,47,null,{"$f":"IF(登録名簿!$P$57=\"〇\",登録名簿!$C$57,\"\")","v":""},{"$f":"IF(登録名簿!$P$57=\"〇\",OFFSET(登録名簿!$C$57,0,2,,),\"\")","v":""},{"$f":"IF(登録名簿!$P$57=\"〇\",OFFSET(登録名簿!$C$57,0,4,,),\"\")","v":""},null,null,null,null,null,null,null,null,null,null,null,null,null,null,null,null,null,null,null,null,null,null,47,null,{"$f":"IF(登録名簿!$Q$57=\"〇\",登録名簿!$C$57,\"\")","v":""},{"$f":"IF(登録名簿!$Q$57=\"〇\",OFFSET(登録名簿!$C$57,0,2,,),\"\")","v":""},{"$f":"IF(登録名簿!$Q$57=\"〇\",OFFSET(登録名簿!$C$57,0,4,,),\"\")","v":""},null,null,null,null,null,null,null,null,null,null,null,null,null,null,null,null,null,null,null,null,null,null,47,null,{"$f":"IF(登録名簿!$R$57=\"〇\",登録名簿!$C$57,\"\")","v":""},{"$f":"IF(登録名簿!$R$57=\"〇\",OFFSET(登録名簿!$C$57,0,2,,),\"\")","v":""},{"$f":"IF(登録名簿!$R$57=\"〇\",OFFSET(登録名簿!$C$57,0,4,,),\"\")","v":""}]
[null,48,null,{"$f":"IF(登録名簿!$O$58=\"〇\",登録名簿!$C$58,\"\")","v":""},{"$f":"IF(登録名簿!$O$58=\"〇\",OFFSET(登録名簿!$C$58,0,2,,),\"\")","v":""},{"$f":"IF(登録名簿!$O$58=\"〇\",OFFSET(登録名簿!$C$58,0,4,,),\"\")","v":""},null,null,null,null,null,null,null,null,null,null,null,null,null,null,null,null,null,null,null,null,null,null,48,null,{"$f":"IF(登録名簿!$P$58=\"〇\",登録名簿!$C$58,\"\")","v":""},{"$f":"IF(登録名簿!$P$58=\"〇\",OFFSET(登録名簿!$C$58,0,2,,),\"\")","v":""},{"$f":"IF(登録名簿!$P$58=\"〇\",OFFSET(登録名簿!$C$58,0,4,,),\"\")","v":""},null,null,null,null,null,null,null,null,null,null,null,null,null,null,null,null,null,null,null,null,null,null,48,null,{"$f":"IF(登録名簿!$Q$58=\"〇\",登録名簿!$C$58,\"\")","v":""},{"$f":"IF(登録名簿!$Q$58=\"〇\",OFFSET(登録名簿!$C$58,0,2,,),\"\")","v":""},{"$f":"IF(登録名簿!$Q$58=\"〇\",OFFSET(登録名簿!$C$58,0,4,,),\"\")","v":""},null,null,null,null,null,null,null,null,null,null,null,null,null,null,null,null,null,null,null,null,null,null,48,null,{"$f":"IF(登録名簿!$R$58=\"〇\",登録名簿!$C$58,\"\")","v":""},{"$f":"IF(登録名簿!$R$58=\"〇\",OFFSET(登録名簿!$C$58,0,2,,),\"\")","v":""},{"$f":"IF(登録名簿!$R$58=\"〇\",OFFSET(登録名簿!$C$58,0,4,,),\"\")","v":""}]
[null,49,null,{"$f":"IF(登録名簿!$O$59=\"〇\",登録名簿!$C$59,\"\")","v":""},{"$f":"IF(登録名簿!$O$59=\"〇\",OFFSET(登録名簿!$C$59,0,2,,),\"\")","v":""},{"$f":"IF(登録名簿!$O$59=\"〇\",OFFSET(登録名簿!$C$59,0,4,,),\"\")","v":""},null,null,null,null,null,null,null,null,null,null,null,null,null,null,null,null,null,null,null,null,null,null,49,null,{"$f":"IF(登録名簿!$P$59=\"〇\",登録名簿!$C$59,\"\")","v":""},{"$f":"IF(登録名簿!$P$59=\"〇\",OFFSET(登録名簿!$C$59,0,2,,),\"\")","v":""},{"$f":"IF(登録名簿!$P$59=\"〇\",OFFSET(登録名簿!$C$59,0,4,,),\"\")","v":""},null,null,null,null,null,null,null,null,null,null,null,null,null,null,null,null,null,null,null,null,null,null,49,null,{"$f":"IF(登録名簿!$Q$59=\"〇\",登録名簿!$C$59,\"\")","v":""},{"$f":"IF(登録名簿!$Q$59=\"〇\",OFFSET(登録名簿!$C$59,0,2,,),\"\")","v":""},{"$f":"IF(登録名簿!$Q$59=\"〇\",OFFSET(登録名簿!$C$59,0,4,,),\"\")","v":""},null,null,null,null,null,null,null,null,null,null,null,null,null,null,null,null,null,null,null,null,null,null,49,null,{"$f":"IF(登録名簿!$R$59=\"〇\",登録名簿!$C$59,\"\")","v":""},{"$f":"IF(登録名簿!$R$59=\"〇\",OFFSET(登録名簿!$C$59,0,2,,),\"\")","v":""},{"$f":"IF(登録名簿!$R$59=\"〇\",OFFSET(登録名簿!$C$59,0,4,,),\"\")","v":""}]
[null,50,null,{"$f":"IF(登録名簿!$O$60=\"〇\",登録名簿!$C$60,\"\")","v":""},{"$f":"IF(登録名簿!$O$60=\"〇\",OFFSET(登録名簿!$C$60,0,2,,),\"\")","v":""},{"$f":"IF(登録名簿!$O$60=\"〇\",OFFSET(登録名簿!$C$60,0,4,,),\"\")","v":""},null,null,null,null,null,null,null,null,null,null,null,null,null,null,null,null,null,null,null,null,null,null,50,null,{"$f":"IF(登録名簿!$P$60=\"〇\",登録名簿!$C$60,\"\")","v":""},{"$f":"IF(登録名簿!$P$60=\"〇\",OFFSET(登録名簿!$C$60,0,2,,),\"\")","v":""},{"$f":"IF(登録名簿!$P$60=\"〇\",OFFSET(登録名簿!$C$60,0,4,,),\"\")","v":""},null,null,null,null,null,null,null,null,null,null,null,null,null,null,null,null,null,null,null,null,null,null,50,null,{"$f":"IF(登録名簿!$Q$60=\"〇\",登録名簿!$C$60,\"\")","v":""},{"$f":"IF(登録名簿!$Q$60=\"〇\",OFFSET(登録名簿!$C$60,0,2,,),\"\")","v":""},{"$f":"IF(登録名簿!$Q$60=\"〇\",OFFSET(登録名簿!$C$60,0,4,,),\"\")","v":""},null,null,null,null,null,null,null,null,null,null,null,null,null,null,null,null,null,null,null,null,null,null,50,null,{"$f":"IF(登録名簿!$R$60=\"〇\",登録名簿!$C$60,\"\")","v":""},{"$f":"IF(登録名簿!$R$60=\"〇\",OFFSET(登録名簿!$C$60,0,2,,),\"\")","v":""},{"$f":"IF(登録名簿!$R$60=\"〇\",OFFSET(登録名簿!$C$60,0,4,,),\"\")","v":""}]
[null,"ＮＯ記入注意",null,"監督・コーチ・マネージャーは黄色いところにクラブ登録名簿の左端ＮＯを入れる",null,null,null,null,null,null,null,null,null,null,null,null,null,null,null,null,null,null,null,null,null,null,null,null,"ＮＯ記入注意",null,"監督・コーチ・マネージャーは黄色いところにクラブ登録名簿の左端ＮＯを入れる",null,null,null,null,null,null,null,null,null,null,null,null,null,null,null,null,null,null,null,null,null,null,null,null,"ＮＯ記入注意",null,"監督・コーチ・マネージャーは黄色いところにクラブ登録名簿の左端ＮＯを入れる",null,null,null,null,null,null,null,null,null,null,null,null,null,null,null,null,null,null,null,null,null,null,null,null,"ＮＯ記入注意",null,"監督・コーチ・マネージャーは黄色いところにクラブ登録名簿の左端ＮＯを入れる"]
[null,"ＮＯ記入注意",null,"主審、副審、記録係は水色のところにクラブ登録名簿の左端NOを入れる。",null,null,null,null,null,null,null,null,null,null,null,null,null,null,null,null,null,null,null,null,null,null,null,null,"ＮＯ記入注意",null,"主審、副審、記録係は水色のところにクラブ登録名簿の左端NOを入れる。",null,null,null,null,null,null,null,null,null,null,null,null,null,null,null,null,null,null,null,null,null,null,null,null,"ＮＯ記入注意",null,"主審、副審、記録係は水色のところにクラブ登録名簿の左端NOを入れる。",null,null,null,null,null,null,null,null,null,null,null,null,null,null,null,null,null,null,null,null,null,null,null,null,"ＮＯ記入注意",null,"主審、副審、記録係は水色のところにクラブ登録名簿の左端NOを入れる。"]

{"sheet":"②７．5（17回会長杯）","index":2,"n_rows":93,"n_cols":106,"rows_kept":93,"cut":false,"hidden":false,"merged":[[5,95,5,98],[5,103,5,106],[8,93,8,94],[8,95,8,98],[8,101,8,102],[8,103,8,106],[0,93,0,94],[0,97,0,98],[0,101,0,102],[0,105,0,106],[1,93,1,98],[1,101,1,106],[2,93,2,98],[2,101,2,106],[3,93,3,98],[3,101,3,106],[9,93,9,94],[9,95,9,98],[9,101,9,102],[9,103,9,106],[10,66,10,67],[10,68,10,71],[10,74,10,75],[10,76,10,79],[8,84,8,85],[9,84,9,85],[10,84,10,85],[10,93,10,94],[10,95,10,98],[10,101,10,102],[10,103,10,106],[0,78,0,79],[1,66,1,71],[1,74,1,79],[2,66,2,71],[2,74,2,79],[3,66,3,71],[3,74,3,79],[11,84,11,85],[12,84,12,85],[5,68,5,71],[5,76,5,79],[8,66,8,67],[8,68,8,71],[8,74,8,75],[8,76,8,79],[9,66,9,67],[9,68,9,71],[9,74,9,75],[9,76,9,79],[0,84,0,91],[1,86,1,87],[1,90,1,91],[2,82,2,91],[3,84,3,91],[11,57,11,58],[12,57,12,58],[13,57,13,58],[14,57,14,58],[15,57,15,58],[16,57,16,58],[0,66,0,67],[0,70,0,71],[0,74,0,75],[15,63,15,64],[13,63,13,64],[14,63,14,64],[9,47,9,48],[9,49,9,52],[10,39,10,40],[10,41,10,44],[10,47,10,48],[10,49,10,52],[8,57,8,58],[9,57,9,58],[10,57,10,58],[1,47,1,52],[2,39,2,44],[2,47,2,52],[3,39,3,44],[3,47,3,52],[5,41,5,44],[5,49,5,52],[8,47,8,48],[8,49,8,52],[27,30,27,31],[28,30,28,31],[29,30,29,31],[30,30,30,31],[31,30,31,31],[8,30,8,31],[0,39,0,40],[0,43,0,44],[8,39,8,40],[8,41,8,44],[17,30,17,31],[18,30,18,31],[19,30,19,31],[20,30,20,31],[21,30,21,31],[22,30,22,31],[23,30,23,31],[24,30,24,31],[25,30,25,31],[1,39,1,44],[9,39,9,40],[9,41,9,44],[9,30,9,31],[10,30,10,31],[11,30,11,31],[12,30,12,31],[13,30,13,31],[14,30,14,31],[15,30,15,31],[16,30,16,31],[26,30,26,31],[31,3,31,4],[0,12,0,13],[0,16,0,17],[0,20,0,21],[0,24,0,25],[1,12,1,17],[1,20,1,25],[2,12,2,17],[2,20,2,25],[3,12,3,17],[3,20,3,25],[5,14,5,17],[5,22,5,25],[8,12,8,13],[8,14,8,17],[8,20,8,21],[8,22,8,25],[9,12,9,13],[9,14,9,17],[9,20,9,21],[9,22,9,25],[10,12,10,13],[10,14,10,17],[10,20,10,21],[10,3,10,4],[11,3,11,4],[12,3,12,4],[13,3,13,4],[14,3,14,4],[15,3,15,4],[16,3,16,4],[17,3,17,4],[18,3,18,4],[37,89,37,91],[38,89,38,91],[31,90,31,91],[37,62,37,64],[38,62,38,64],[31,63,31,64],[19,90,19,91],[20,90,20,91],[21,90,21,91],[16,90,16,91],[17,90,17,91],[33,57,33,58],[33,60,33,61],[33,63,33,64],[33,84,33,85],[33,87,33,88],[33,90,33,91],[4,84,4,86],[4,87,5,87],[4,89,4,91],[5,84,5,86],[5,88,5,91],[15,90,15,91],[10,90,10,91],[11,90,11,91],[12,90,12,91],[6,84,6,86],[6,88,6,91],[8,90,8,91],[9,90,9,91],[13,90,13,91],[14,90,14,91],[13,84,13,85],[14,84,14,85],[15,84,15,85],[18,90,18,91],[25,90,25,91],[26,90,26,91],[27,90,27,91],[25,63,25,64],[26,63,26,64],[27,63,27,64],[22,90,22,91],[24,63,24,64],[19,63,19,64],[20,63,20,64],[21,63,21,64],[22,63,22,64],[23,63,23,64],[18,63,18,64],[25,84,25,85],[26,84,26,85],[27,84,27,85],[37,35,37,37],[38,35,38,37],[0,57,0,64],[1,59,1,60],[1,63,1,64],[10,63,10,64],[11,63,11,64],[12,63,12,64],[6,57,6,59],[6,61,6,64],[8,63,8,64],[9,63,9,64],[16,63,16,64],[17,63,17,64],[31,36,31,37],[2,55,2,64],[3,57,3,64],[4,57,4,59],[4,60,5,60],[4,62,4,64],[5,57,5,59],[5,61,5,64],[0,47,0,48],[0,51,0,52],[33,30,33,31],[33,33,33,34],[33,36,33,37],[28,36,28,37],[29,36,29,37],[30,36,30,37],[28,63,28,64],[29,63,29,64],[30,63,30,64],[28,57,28,58],[29,57,29,58],[30,57,30,58],[31,57,31,58],[38,8,38,10],[31,9,31,10],[33,3,33,4],[33,6,33,7],[33,9,33,10],[37,8,37,10],[6,30,6,32],[6,34,6,37],[8,36,8,37],[9,36,9,37],[13,36,13,37],[14,36,14,37],[15,36,15,37],[10,36,10,37],[11,36,11,37],[12,36,12,37],[19,36,19,37],[20,36,20,37],[21,36,21,37],[16,36,16,37],[28,9,28,10],[29,9,29,10],[30,9,30,10],[25,9,25,10],[27,9,27,10],[0,30,0,37],[1,32,1,33],[1,36,1,37],[2,28,2,37],[3,30,3,37],[4,30,4,32],[4,33,5,33],[4,35,4,37],[5,30,5,32],[5,34,5,37],[17,36,17,37],[18,36,18,37],[25,36,25,37],[26,36,26,37],[27,36,27,37],[22,36,22,37],[23,36,23,37],[24,36,24,37],[16,9,16,10],[17,9,17,10],[18,9,18,10],[13,9,13,10],[10,22,10,25],[14,9,14,10],[15,9,15,10],[22,9,22,10],[23,9,23,10],[24,9,24,10],[19,9,19,10],[20,9,20,10],[21,9,21,10],[10,9,10,10],[11,9,11,10],[12,9,12,10],[6,3,6,5],[6,7,6,10],[8,9,8,10],[9,9,9,10],[0,3,0,10],[1,5,1,6],[1,9,1,10],[2,1,2,10],[3,3,3,10],[4,3,4,5],[4,6,5,6],[4,8,4,10],[5,3,5,5],[5,7,5,10],[8,3,8,4],[9,3,9,4],[28,3,28,4],[29,3,29,4],[30,3,30,4],[17,57,17,58],[18,57,18,58],[19,57,19,58],[20,57,20,58],[21,57,21,58],[22,57,22,58],[23,57,23,58],[24,57,24,58],[25,57,25,58],[26,57,26,58],[27,57,27,58],[19,3,19,4],[20,3,20,4],[21,3,21,4],[22,3,22,4],[23,3,23,4],[24,3,24,4],[25,3,25,4],[26,3,26,4],[27,3,27,4],[26,9,26,10],[16,84,16,85],[17,84,17,85],[18,84,18,85],[19,84,19,85],[20,84,20,85],[21,84,21,85],[22,84,22,85],[23,84,23,85],[24,84,24,85],[34,84,34,85],[34,87,34,88],[34,90,34,91],[23,90,23,91],[24,90,24,91],[28,84,28,85],[29,84,29,85],[30,84,30,85],[31,84,31,85],[28,90,28,91],[29,90,29,91],[30,90,30,91],[34,3,34,4],[34,6,34,7],[34,9,34,10],[34,30,34,31],[34,33,34,34],[34,36,34,37],[34,57,34,58],[34,60,34,61],[34,63,34,64]]}
[null,"【R8年度】",null,"第17回会長杯争奪トリムバレ-ボ-ル大会　　【参加申込書】",null,null,null,null,null,null,null,null,{"$f":"B1","v":"【R8年度】"},null,null,null,"2026-07-05",null,null,null,{"$f":"B1","v":"【R8年度】"},null,null,null,{"$f":"Q1","v":"2026-07-05"},null,null,null,{"$f":"B1","v":"【R8年度】"},null,{"$f":"D1","v":"第17回会長杯争奪トリムバレ-ボ-ル大会　　【参加申込書】"},null,null,null,null,null,null,null,null,{"$f":"B1","v":"【R8年度】"},null,null,null,{"$f":"Y1","v":"2026-07-05"},null,null,null,{"$f":"B1","v":"【R8年度】"},null,null,null,{"$f":"AR1","v":"2026-07-05"},null,null,null,{"$f":"B1","v":"【R8年度】"},null,{"$f":"D1","v":"第17回会長杯争奪トリムバレ-ボ-ル大会　　【参加申込書】"},null,null,null,null,null,null,null,null,{"$f":"B1","v":"【R8年度】"},null,null,null,{"$f":"AZ1","v":"2026-07-05"},null,null,null,{"$f":"B1","v":"【R8年度】"},null,null,null,{"$f":"Q1","v":"2026-07-05"},null,null,null,{"$f":"AC1","v":"【R8年度】"},null,{"$f":"AE1","v":"第17回会長杯争奪トリムバレ-ボ-ル大会　　【参加申込書】"},null,null,null,null,null,null,null,null,{"$f":"B1","v":"【R8年度】"},null,null,null,{"$f":"CA1","v":"2026-07-05"},null,null,null,{"$f":"B1","v":"【R8年度】"},null,null,null,{"$f":"CT1","v":"2026-07-05"}]
[null,null,null,null,"開催日:","2025-07-06",null,{"$f":"WEEKDAY(F2,1)","v":1},"申込日:",null,null,null,"　　　第１7回",null,null,null,null,null,null,null,{"$f":"M2","v":"　　　第１7回"},null,null,null,null,null,null,null,null,null,null,"開催日:",{"$f":"F2","v":"2025-07-06"},null,{"$f":"WEEKDAY(AG2,1)","v":1},"申込日:",null,null,null,{"$f":"U2","v":"　　　第１7回"},null,null,null,null,null,null,null,{"$f":"AN2","v":"　　　第１7回"},null,null,null,null,null,null,null,null,null,null,"開催日:",{"$f":"F2","v":"2025-07-06"},null,{"$f":"WEEKDAY(BH2,1)","v":1},"申込日:",null,null,null,{"$f":"AV2","v":"　　　第１7回"},null,null,null,null,null,null,null,{"$f":"M2","v":"　　　第１7回"},null,null,null,null,null,null,null,null,null,null,"開催日:",{"$f":"AG2","v":"2025-07-06"},null,{"$f":"WEEKDAY(CI2,1)","v":1},"申込日:",null,null,null,{"$f":"BW2","v":"　　　第１7回"},null,null,null,null,null,null,null,{"$f":"CP2","v":"　　　第１7回"}]
[null,"下記メンバーを登録し、表記トリムバレーボール大会の参加を申し込みます。",null,null,null,null,null,null,null,null,null,null,"会長杯争奪トリムバレ-ボ-ル大会",null,null,null,null,null,null,null,{"$f":"M3","v":"会長杯争奪トリムバレ-ボ-ル大会"},null,null,null,null,null,null,null,"下記メンバーを登録し、表記トリムバレーボール大会の参加を申し込みます。",null,null,null,null,null,null,null,null,null,null,{"$f":"U3","v":"会長杯争奪トリムバレ-ボ-ル大会"},null,null,null,null,null,null,null,{"$f":"AN3","v":"会長杯争奪トリムバレ-ボ-ル大会"},null,null,null,null,null,null,null,"下記メンバーを登録し、表記トリムバレーボール大会の参加を申し込みます。",null,null,null,null,null,null,null,null,null,null,{"$f":"AV3","v":"会長杯争奪トリムバレ-ボ-ル大会"},null,null,null,null,null,null,null,{"$f":"M3","v":"会長杯争奪トリムバレ-ボ-ル大会"},null,null,null,null,null,null,null,"下記メンバーを登録し、表記トリムバレーボール大会の参加を申し込みます。",null,null,null,null,null,null,null,null,null,null,{"$f":"BW3","v":"会長杯争奪トリムバレ-ボ-ル大会"},null,null,null,null,null,null,null,{"$f":"CP3","v":"会長杯争奪トリムバレ-ボ-ル大会"}]
[null,"種　　　目",null,"シ　ル　バ　ー　　　　",null,null,null,null,null,null,null,null,"構成メンバー表",null,null,null,null,null,null,null,"構成メンバー表",null,null,null,null,null,null,null,"種　　　目",null,"ゴ　ー　ル　ド　　A　",null,null,null,null,null,null,null,null,"構成メンバー表",null,null,null,null,null,null,null,"構成メンバー表",null,null,null,null,null,null,null,"種　　　目",null,"ゴ　ー　ル　ド　　B　",null,null,null,null,null,null,null,null,"構成メンバー表",null,null,null,null,null,null,null,"構成メンバー表",null,null,null,null,null,null,null,"種　　　目",null,"ゴ　ー　ル　ド　　C",null,null,null,null,null,null,null,null,"構成メンバー表",null,null,null,null,null,null,null,"構成メンバー表"]
[null,"チーム名",null,null,null,null,"住　 所","　〒",null,null,null,null,null,null,null,null,null,null,null,null,null,null,null,null,null,null,null,null,"チーム名",null,null,null,null,"住　 所","　〒",null,null,null,null,null,null,null,null,null,null,null,null,null,null,null,null,null,null,null,null,"チーム名",null,null,null,null,"住　 所","　〒",null,null,null,null,null,null,null,null,null,null,null,null,null,null,null,null,null,null,null,null,"チーム名",null,null,null,null,"住　 所","　〒"]
[null,"代 表 者",null,{"$f":"登録名簿!J4","v":0},null,null,null,{"$f":"登録名簿!J6","v":0},null,null,null,null,"チーム名",null,{"$f":"D5","v":0},null,null,null,null,null,"チーム名",null,{"$f":"D5","v":0},null,null,null,null,null,"代 表 者",null,{"$f":"登録名簿!J4","v":0},null,null,null,{"$f":"登録名簿!J6","v":0},null,null,null,null,"チーム名",null,{"$f":"AE5","v":0},null,null,null,null,null,"チーム名",null,{"$f":"AE5","v":0},null,null,null,null,null,"代 表 者",null,{"$f":"登録名簿!J4","v":0},null,null,null,{"$f":"登録名簿!J6","v":0},null,null,null,null,"チーム名",null,{"$f":"BF5","v":0},null,null,null,null,null,"チーム名",null,{"$f":"BF5","v":0},null,null,null,null,null,"代 表 者",null,{"$f":"登録名簿!J4","v":0},null,null,null,{"$f":"登録名簿!J6","v":0},null,null,null,null,"チーム名",null,{"$f":"CG5","v":0},null,null,null,null,null,"チーム名",null,{"$f":"CG5","v":0}]
[null,"T  E  L",null,{"$f":"登録名簿!J7","v":0},null,null,"mail",{"$f":"登録名簿!J8","v":0},null,null,null,null,null,null,null,null,null,null,null,null,null,null,null,null,null,null,null,null,"T  E  L",null,{"$f":"登録名簿!J7","v":0},null,null,"mail",{"$f":"登録名簿!J8","v":0},null,null,null,null,null,null,null,null,null,null,null,null,null,null,null,null,null,null,null,null,"T  E  L",null,{"$f":"登録名簿!J7","v":0},null,null,"mail",{"$f":"登録名簿!J8","v":0},null,null,null,null,null,null,null,null,null,null,null,null,null,null,null,null,null,null,null,null,"T  E  L",null,{"$f":"登録名簿!J7","v":0},null,null,"mail",{"$f":"登録名簿!J8","v":0}]
[]
["※下記に注釈","No.",null,"氏　　　　名",null,"背番号","性　別","年　齢","申告欄","摘　　　　要",null,null,"監督",null,{"$f":"IFERROR(VLOOKUP(A10, 登録名簿!A11:G60, 3, FALSE), \"\")","v":""},null,null,null,null,null,"監督",null,{"$f":"IFERROR(VLOOKUP(A10, 登録名簿!A11:G60, 3, FALSE), \"\")","v":""},null,null,null,null,"※下記に注釈","No.",null,"氏　　　　名",null,"背番号","性　別","年　齢","申告欄","摘　　　　要",null,null,"監督",null,{"$f":"IFERROR(VLOOKUP(AB10, 登録名簿!AB11:AH60, 3, FALSE), \"\")","v":""},null,null,null,null,null,"監督",null,{"$f":"IFERROR(VLOOKUP(AB10, 登録名簿!AB11:AH60, 3, FALSE), \"\")","v":""},null,null,null,null,"※下記に注釈","No.",null,"氏　　　　名",null,"背番号","性　別","年　齢","申告欄","摘　　　　要",null,null,"監督",null,{"$f":"IFERROR(VLOOKUP(BC10, 登録名簿!BC11:BI60, 3, FALSE), \"\")","v":""},null,null,null,null,null,"監督",null,{"$f":"IFERROR(VLOOKUP(BC10, 登録名簿!BC11:BI60, 3, FALSE), \"\")","v":""},null,null,null,null,"※下記に注釈","No.",null,"氏　　　　名",null,"背番号","性　別","年　齢","申告欄","摘　　　　要",null,null,"監督",null,{"$f":"IFERROR(VLOOKUP(CC10, 登録名簿!CC11:CI60, 3, FALSE), \"\")","v":""},null,null,null,null,null,"監督",null,{"$f":"IFERROR(VLOOKUP(CC10, 登録名簿!CC11:CI60, 3, FALSE), \"\")","v":""}]
[null,"監　　　督",{"$f":"F10","v":0},{"$f":"IFERROR(VLOOKUP(A10, 登録名簿!A11:G60, 3, FALSE), \"\")","v":""},null,{"$f":"IFERROR(VLOOKUP(D10, D13:F32, 3, FALSE), \"\")","v":0},{"$f":"IFERROR(VLOOKUP(A10, 登録名簿!A11:G60, 5, FALSE), \"\")","v":""},{"$f":"IFERROR(VLOOKUP(A10, 登録名簿!A11:G60, 7, FALSE), \"\")","v":""},null,null,null,null,"コーチ",null,{"$f":"IFERROR(VLOOKUP(A11, 登録名簿!A11:G60, 3, FALSE), \"\")","v":""},null,null,null,null,null,"コーチ",null,{"$f":"IFERROR(VLOOKUP(A11, 登録名簿!A11:G60, 3, FALSE), \"\")","v":""},null,null,null,null,null,"監　　　督",{"$f":"AG10","v":0},{"$f":"IFERROR(VLOOKUP(AB10, 登録名簿!A11:G60, 3, FALSE), \"\")","v":""},null,{"$f":"IFERROR(VLOOKUP(AE10, AE13:AG32, 3, FALSE), \"\")","v":0},{"$f":"IFERROR(VLOOKUP(AB10, 登録名簿!A11:G60, 5, FALSE), \"\")","v":""},{"$f":"IFERROR(VLOOKUP(AB10, 登録名簿!A11:G60, 7, FALSE), \"\")","v":""},null,null,null,null,"コーチ",null,{"$f":"IFERROR(VLOOKUP(AB11, 登録名簿!AB11:AH60, 3, FALSE), \"\")","v":""},null,null,null,null,null,"コーチ",null,{"$f":"IFERROR(VLOOKUP(AB11, 登録名簿!AB11:AH60, 3, FALSE), \"\")","v":""},null,null,null,null,null,"監　　　督",{"$f":"BH10","v":0},{"$f":"IFERROR(VLOOKUP(BC10, 登録名簿!A11:G60, 3, FALSE), \"\")","v":""},null,{"$f":"IFERROR(VLOOKUP(BF10, BF13:BH32, 3, FALSE), \"\")","v":0},{"$f":"IFERROR(VLOOKUP(BC10, 登録名簿!A11:G60, 5, FALSE), \"\")","v":""},{"$f":"IFERROR(VLOOKUP(BC10, 登録名簿!A11:G60, 7, FALSE), \"\")","v":""},null,null,null,null,"コーチ",null,{"$f":"IFERROR(VLOOKUP(BC11, 登録名簿!BC11:BI60, 3, FALSE), \"\")","v":""},null,null,null,null,null,"コーチ",null,{"$f":"IFERROR(VLOOKUP(BC11, 登録名簿!BC11:BI60, 3, FALSE), \"\")","v":""},null,null,null,null,null,"監　　　督",{"$f":"CI10","v":0},{"$f":"IFERROR(VLOOKUP(CD10, 登録名簿!A11:G60, 3, FALSE), \"\")","v":""},null,{"$f":"IFERROR(VLOOKUP(CG10, CG13:CI32, 3, FALSE), \"\")","v":0},{"$f":"IFERROR(VLOOKUP(CD10, 登録名簿!A11:G60, 5, FALSE), \"\")","v":""},{"$f":"IFERROR(VLOOKUP(CD10, 登録名簿!A11:G60,7, FALSE), \"\")","v":""},null,null,null,null,"コーチ",null,{"$f":"IFERROR(VLOOKUP(CC11, 登録名簿!CC11:CI60, 3, FALSE), \"\")","v":""},null,null,null,null,null,"コーチ",null,{"$f":"IFERROR(VLOOKUP(CC11, 登録名簿!CC11:CI60, 3, FALSE), \"\")","v":""}]
[null,"コ　ー　チ",{"$f":"F11","v":0},{"$f":"IFERROR(VLOOKUP(A11, 登録名簿!A11:G60, 3, FALSE), \"\")","v":""},null,{"$f":"IFERROR(VLOOKUP(D11, D13:F32, 3, FALSE), \"\")","v":0},{"$f":"IFERROR(VLOOKUP(A11, 登録名簿!A11:G60, 5, FALSE), \"\")","v":""},{"$f":"IFERROR(VLOOKUP(A11, 登録名簿!A11:G60, 7, FALSE), \"\")","v":""},null,null,null,null,"マネージャー",null,{"$f":"IFERROR(VLOOKUP(A12, 登録名簿!A11:G60, 3, FALSE), \"\")","v":""},null,null,null,null,null,"マネージャー",null,{"$f":"IFERROR(VLOOKUP(A12, 登録名簿!A11:G60, 3, FALSE), \"\")","v":""},null,null,null,null,null,"コ　ー　チ",{"$f":"AG11","v":0},{"$f":"IFERROR(VLOOKUP(AB11, 登録名簿!A11:G60, 3, FALSE), \"\")","v":""},null,{"$f":"IFERROR(VLOOKUP(AE11, AE13:AG32, 3, FALSE), \"\")","v":0},{"$f":"IFERROR(VLOOKUP(AB11, 登録名簿!A11:G60, 5, FALSE), \"\")","v":""},{"$f":"IFERROR(VLOOKUP(AB11, 登録名簿!A11:G60, 7, FALSE), \"\")","v":""},null,null,null,null,"マネージャー",null,{"$f":"IFERROR(VLOOKUP(AB12, 登録名簿!AB11:AH60, 3, FALSE), \"\")","v":""},null,null,null,null,null,"マネージャー",null,{"$f":"IFERROR(VLOOKUP(AB12, 登録名簿!AB11:AH60, 3, FALSE), \"\")","v":""},null,null,null,null,null,"コ　ー　チ",{"$f":"BH11","v":0},{"$f":"IFERROR(VLOOKUP(BC11, 登録名簿!A11:G60, 3, FALSE), \"\")","v":""},null,{"$f":"IFERROR(VLOOKUP(BF11, BF13:BH32, 3, FALSE), \"\")","v":0},{"$f":"IFERROR(VLOOKUP(BC11, 登録名簿!A11:G60, 5, FALSE), \"\")","v":""},{"$f":"IFERROR(VLOOKUP(BC11, 登録名簿!A11:G60, 7, FALSE), \"\")","v":""},null,null,null,null,"マネージャー",null,{"$f":"IFERROR(VLOOKUP(BC12, 登録名簿!BC11:BI60, 3, FALSE), \"\")","v":""},null,null,null,null,null,"マネージャー",null,{"$f":"IFERROR(VLOOKUP(BC12, 登録名簿!BC11:BI60, 3, FALSE), \"\")","v":""},null,null,null,null,null,"コ　ー　チ",{"$f":"CI11","v":0},{"$f":"IFERROR(VLOOKUP(CD11, 登録名簿!A11:G60, 3, FALSE), \"\")","v":""},null,{"$f":"IFERROR(VLOOKUP(CG11, CG13:CI32, 3, FALSE), \"\")","v":0},{"$f":"IFERROR(VLOOKUP(CD11, 登録名簿!A11:G60, 5, FALSE), \"\")","v":""},{"$f":"IFERROR(VLOOKUP(CD11, 登録名簿!A11:G60, 7, FALSE), \"\")","v":""},null,null,null,null,"マネージャー",null,{"$f":"IFERROR(VLOOKUP(CC12, 登録名簿!CC11:CI60, 3, FALSE), \"\")","v":""},null,null,null,null,null,"マネージャー",null,{"$f":"IFERROR(VLOOKUP(CC12, 登録名簿!CC11:CI60, 3, FALSE), \"\")","v":""}]
[null,"マネージャー",0,{"$f":"IFERROR(VLOOKUP(A12, 登録名簿!A11:G60, 3, FALSE), \"\")","v":""},null,{"$f":"IFERROR(VLOOKUP(D12, D13:F32, 3, FALSE), \"\")","v":0},{"$f":"IFERROR(VLOOKUP(A12, 登録名簿!A11:G60, 5, FALSE), \"\")","v":""},{"$f":"IFERROR(VLOOKUP(A12, 登録名簿!A11:G60, 7, FALSE), \"\")","v":""},null,null,null,null,null,null,null,null,null,null,null,null,null,null,null,null,null,null,null,null,"マネージャー",0,{"$f":"IFERROR(VLOOKUP(AB12, 登録名簿!A11:G60, 3, FALSE), \"\")","v":""},null,{"$f":"IFERROR(VLOOKUP(AE12, AE13:AG32, 3, FALSE), \"\")","v":0},{"$f":"IFERROR(VLOOKUP(AB12, 登録名簿!A11:G60, 5, FALSE), \"\")","v":""},{"$f":"IFERROR(VLOOKUP(AB12, 登録名簿!A11:G60, 7, FALSE), \"\")","v":""},null,null,null,null,null,null,null,null,null,null,null,null,null,null,null,null,null,null,null,null,"マネージャー",0,{"$f":"IFERROR(VLOOKUP(BC12, 登録名簿!A11:G60, 3, FALSE), \"\")","v":""},null,{"$f":"IFERROR(VLOOKUP(BF12, BF13:BH32, 3, FALSE), \"\")","v":0},{"$f":"IFERROR(VLOOKUP(BC12, 登録名簿!A11:G60, 5, FALSE), \"\")","v":""},{"$f":"IFERROR(VLOOKUP(BC12, 登録名簿!A11:G60, 7, FALSE), \"\")","v":""},null,null,null,null,null,null,null,null,null,null,null,null,null,null,null,null,null,null,null,null,"マネージャー",0,{"$f":"IFERROR(VLOOKUP(CD12, 登録名簿!A11:G60, 3, FALSE), \"\")","v":""},null,{"$f":"IFERROR(VLOOKUP(CG12, CG13:CI32, 3, FALSE), \"\")","v":0},{"$f":"IFERROR(VLOOKUP(CD12, 登録名簿!A11:G60, 5, FALSE), \"\")","v":""},{"$f":"IFERROR(VLOOKUP(CD12, 登録名簿!A11:G60, 7, FALSE), \"\")","v":""}]
[null,"選手　1",{"$f":"F13","v":0},{"$f":"IFERROR(INDEX($D$42:$D$91, SMALL(IF($D$42:$D$91<>\"\", ROW($D$42:$D$91)-ROW($D$42)+1), ROW(A1))), \"\")","v":""},null,null,{"$f":"IFERROR(INDEX($E$42:$E$91, SMALL(IF($E$42:$E$91<>\"\", ROW($E$42:$E$91)-ROW($E$42)+1), ROW(E1))), \"\")","v":""},{"$f":"IFERROR(INDEX($F$42:$F$91, SMALL(IF($F$42:$F$91<>\"\", ROW($F$42:$F$91)-ROW($F$42)+1), ROW(B1))), \"\")","v":""},null,null,null,null,"背番号","キ","競技者氏名","性別","年齢",null,null,null,"背番号","キ","競技者氏名","性別","年齢",null,null,null,"選手　1",{"$f":"AG13","v":0},{"$f":"IFERROR(INDEX($AE$42:$AE$91, SMALL(IF($AE$42:$AE$91<>\"\", ROW($AE$42:$AE$91)-ROW($AE$42)+1), ROW(A1))), \"\")","v":""},null,null,{"$f":"IFERROR(INDEX($AF$42:$AF$91, SMALL(IF($AF$42:$AF$91<>\"\", ROW($AF$42:$AF$91)-ROW($AF$42)+1), ROW(A1))), \"\")","v":""},{"$f":"IFERROR(INDEX($AG$42:$AG$91, SMALL(IF($AG$42:$AG$91<>\"\", ROW($AG$42:$AG$91)-ROW($AG$42)+1), ROW(B1))), \"\")","v":""},null,null,null,null,"背番号","キ","競技者氏名","性別","年齢",null,null,null,"背番号","キ","競技者氏名","性別","年齢",null,null,null,"選手　1",0,{"$f":"IFERROR(INDEX($BF$42:$BF$91, SMALL(IF($BF$42:$BF$91<>\"\", ROW($BF$42:$BF$91)-ROW($BF$42)+1), ROW(BC1))), \"\")","v":""},null,null,{"$f":"IFERROR(INDEX($BG$42:$BG$91, SMALL(IF($BG$42:$BG$91<>\"\", ROW($BG$42:$BG$91)-ROW($BG$42)+1), ROW(AB1))), \"\")","v":""},{"$f":"IFERROR(INDEX($BH$42:$BH$91, SMALL(IF($BH$42:$BH$91<>\"\", ROW($BH$42:$BH$91)-ROW($BH$42)+1), ROW(AC1))), \"\")","v":""},null,null,null,null,"背番号","キ","競技者氏名","性別","年齢",null,null,null,"背番号","キ","競技者氏名","性別","年齢",null,null,null,"選手　1",{"$f":"CI13","v":0},{"$f":"IFERROR(INDEX($CG$42:$CG$91, SMALL(IF($CG$42:$CG$91<>\"\", ROW($CG$42:$CG$91)-ROW($CG$42)+1), ROW(CD1))), \"\")","v":""},null,null,{"$f":"IFERROR(INDEX($CH$42:$CH$91, SMALL(IF($CH$42:$CH$91<>\"\", ROW($CH$42:$CH$91)-ROW($CH$42)+1), ROW(BC1))), \"\")","v":""},{"$f":"IFERROR(INDEX($CI$42:$CI$91, SMALL(IF($CI$42:$CI$91<>\"\", ROW($CI$42:$CI$91)-ROW($CI$42)+1), ROW(BD1))), \"\")","v":""},null,null,null,null,"背番号","キ","競技者氏名","性別","年齢",null,null,null,"背番号","キ","競技者氏名","性別","年齢"]
[null,"選手　2",{"$f":"F14","v":0},{"$f":"IFERROR(INDEX($D$42:$D$91, SMALL(IF($D$42:$D$91<>\"\", ROW($D$42:$D$91)-ROW($D$42)+1), ROW(A2))), \"\")","v":""},null,null,{"$f":"IFERROR(INDEX($E$42:$E$91, SMALL(IF($E$42:$E$91<>\"\", ROW($E$42:$E$91)-ROW($E$42)+1), ROW(A2))), \"\")","v":""},{"$f":"IFERROR(INDEX($F$42:$F$91, SMALL(IF($F$42:$F$91<>\"\", ROW($F$42:$F$91)-ROW($F$42)+1), ROW(B2))), \"\")","v":""},null,null,null,null,1,null,{"$f":"IFERROR(VLOOKUP(M14, C13:H32, 2, FALSE), \"\")","v":""},{"$f":"IFERROR(VLOOKUP(M14, C13:H32, 5, FALSE), \"\")","v":""},{"$f":"IFERROR(VLOOKUP(M14, C13:H32, 6, FALSE), \"\")","v":""},null,null,null,1,{"$f":"IF(N14>0,N14,\"\")","v":""},{"$f":"IF(O14>0,O14,\"\")","v":""},"","",null,null,null,"選手　2",{"$f":"AG14","v":0},{"$f":"IFERROR(INDEX($AE$42:$AE$91, SMALL(IF($AE$42:$AE$91<>\"\", ROW($AE$42:$AE$91)-ROW($AE$42)+1), ROW(A2))), \"\")","v":""},null,null,{"$f":"IFERROR(INDEX($AF$42:$AF$91, SMALL(IF($AF$42:$AF$91<>\"\", ROW($AF$42:$AF$91)-ROW($AF$42)+1), ROW(A2))), \"\")","v":""},{"$f":"IFERROR(INDEX($AG$42:$AG$91, SMALL(IF($AG$42:$AG$91<>\"\", ROW($AG$42:$AG$91)-ROW($AG$42)+1), ROW(B2))), \"\")","v":""},null,null,null,null,1,null,{"$f":"IFERROR(VLOOKUP(AN14, AD13:AI32, 2, FALSE), \"\")","v":""},{"$f":"IFERROR(VLOOKUP(AN14, AD13:AI32, 5, FALSE), \"\")","v":""},{"$f":"IFERROR(VLOOKUP(AN14, AD13:AI32, 6, FALSE), \"\")","v":""},null,null,null,1,{"$f":"IF(AO14>0,AO14,\"\")","v":""},{"$f":"IF(AP14>0,AP14,\"\")","v":""},"","",null,null,null,"選手　2",0,{"$f":"IFERROR(INDEX($BF$42:$BF$91, SMALL(IF($BF$42:$BF$91<>\"\", ROW($BF$42:$BF$91)-ROW($BF$42)+1), ROW(BC2))), \"\")","v":""},null,null,{"$f":"IFERROR(INDEX($BG$42:$BG$91, SMALL(IF($BG$42:$BG$91<>\"\", ROW($BG$42:$BG$91)-ROW($BG$42)+1), ROW(AB2))), \"\")","v":""},{"$f":"IFERROR(INDEX($BH$42:$BH$91, SMALL(IF($BH$42:$BH$91<>\"\", ROW($BH$42:$BH$91)-ROW($BH$42)+1), ROW(AC2))), \"\")","v":""},null,null,null,null,1,null,{"$f":"IFERROR(VLOOKUP(BO14, BE13:BJ32, 2, FALSE), \"\")","v":""},{"$f":"IFERROR(VLOOKUP(BO14, BE13:BJ32, 5, FALSE), \"\")","v":""},{"$f":"IFERROR(VLOOKUP(BO14, BE13:BJ32, 6, FALSE), \"\")","v":""},null,null,null,1,{"$f":"IF(BP14>0,BP14,\"\")","v":""},{"$f":"IF(BQ14>0,BQ14,\"\")","v":""},"","",null,null,null,"選手　2",{"$f":"CI14","v":0},{"$f":"IFERROR(INDEX($CG$42:$CG$91, SMALL(IF($CG$42:$CG$91<>\"\", ROW($CG$42:$CG$91)-ROW($CG$42)+1), ROW(CD2))), \"\")","v":""},null,null,{"$f":"IFERROR(INDEX($CH$42:$CH$91, SMALL(IF($CH$42:$CH$91<>\"\", ROW($CH$42:$CH$91)-ROW($CH$42)+1), ROW(BC2))), \"\")","v":""},{"$f":"IFERROR(INDEX($CI$42:$CI$91, SMALL(IF($CI$42:$CI$91<>\"\", ROW($CI$42:$CI$91)-ROW($CI$42)+1), ROW(BD2))), \"\")","v":""},null,null,null,null,1,null,{"$f":"IFERROR(VLOOKUP(CP14, CF13:CK32, 2, FALSE), \"\")","v":""},{"$f":"IFERROR(VLOOKUP(CP14, CF13:CK32, 5, FALSE), \"\")","v":""},{"$f":"IFERROR(VLOOKUP(CP14, CF13:CK32, 6, FALSE), \"\")","v":""},null,null,null,1,{"$f":"IF(CQ14>0,CQ14,\"\")","v":""},{"$f":"IF(CR14>0,CR14,\"\")","v":""},"",""]
[null,"選手　3",0,{"$f":"IFERROR(INDEX($D$42:$D$91, SMALL(IF($D$42:$D$91<>\"\", ROW($D$42:$D$91)-ROW($D$42)+1), ROW(A3))), \"\")","v":""},null,null,{"$f":"IFERROR(INDEX($E$42:$E$91, SMALL(IF($E$42:$E$91<>\"\", ROW($E$42:$E$91)-ROW($E$42)+1), ROW(A3))), \"\")","v":""},{"$f":"IFERROR(INDEX($F$42:$F$91, SMALL(IF($F$42:$F$91<>\"\", ROW($F$42:$F$91)-ROW($F$42)+1), ROW(B3))), \"\")","v":""},null,null,null,null,2,null,{"$f":"IFERROR(VLOOKUP(M15,C13:H32, 2, FALSE), \"\")","v":""},{"$f":"IFERROR(VLOOKUP(M15, C13:H32, 5, FALSE), \"\")","v":""},{"$f":"IFERROR(VLOOKUP(M15, C13:H32, 6, FALSE), \"\")","v":""},null,null,null,2,{"$f":"IF(N15>0,N15,\"\")","v":""},"","","",null,null,null,"選手　3",0,{"$f":"IFERROR(INDEX($AE$42:$AE$91, SMALL(IF($AE$42:$AE$91<>\"\", ROW($AE$42:$AE$91)-ROW($AE$42)+1), ROW(A3))), \"\")","v":""},null,null,{"$f":"IFERROR(INDEX($AF$42:$AF$91, SMALL(IF($AF$42:$AF$91<>\"\", ROW($AF$42:$AF$91)-ROW($AF$42)+1), ROW(A3))), \"\")","v":""},{"$f":"IFERROR(INDEX($AG$42:$AG$91, SMALL(IF($AG$42:$AG$91<>\"\", ROW($AG$42:$AG$91)-ROW($AG$42)+1), ROW(B3))), \"\")","v":""},null,null,null,null,2,null,{"$f":"IFERROR(VLOOKUP(AN15,AD13:AI32, 2, FALSE), \"\")","v":""},{"$f":"IFERROR(VLOOKUP(AN15, AD13:AI32, 5, FALSE), \"\")","v":""},{"$f":"IFERROR(VLOOKUP(AN15, AD13:AI32, 6, FALSE), \"\")","v":""},null,null,null,2,{"$f":"IF(AO15>0,AO15,\"\")","v":""},"","","",null,null,null,"選手　3",0,{"$f":"IFERROR(INDEX($BF$42:$BF$91, SMALL(IF($BF$42:$BF$91<>\"\", ROW($BF$42:$BF$91)-ROW($BF$42)+1), ROW(BC3))), \"\")","v":""},null,null,{"$f":"IFERROR(INDEX($BG$42:$BG$91, SMALL(IF($BG$42:$BG$91<>\"\", ROW($BG$42:$BG$91)-ROW($BG$42)+1), ROW(AB3))), \"\")","v":""},{"$f":"IFERROR(INDEX($BH$42:$BH$91, SMALL(IF($BH$42:$BH$91<>\"\", ROW($BH$42:$BH$91)-ROW($BH$42)+1), ROW(AC3))), \"\")","v":""},null,null,null,null,2,null,{"$f":"IFERROR(VLOOKUP(BO15,BE13:BJ32, 2, FALSE), \"\")","v":""},{"$f":"IFERROR(VLOOKUP(BO15, BE13:BJ32, 5, FALSE), \"\")","v":""},{"$f":"IFERROR(VLOOKUP(BO15, BE13:BJ32, 6, FALSE), \"\")","v":""},null,null,null,2,{"$f":"IF(BP15>0,BP15,\"\")","v":""},"","","",null,null,null,"選手　3",0,{"$f":"IFERROR(INDEX($CG$42:$CG$91, SMALL(IF($CG$42:$CG$91<>\"\", ROW($CG$42:$CG$91)-ROW($CG$42)+1), ROW(CD3))), \"\")","v":""},null,null,{"$f":"IFERROR(INDEX($CH$42:$CH$91, SMALL(IF($CH$42:$CH$91<>\"\", ROW($CH$42:$CH$91)-ROW($CH$42)+1), ROW(BC3))), \"\")","v":""},{"$f":"IFERROR(INDEX($CI$42:$CI$91, SMALL(IF($CI$42:$CI$91<>\"\", ROW($CI$42:$CI$91)-ROW($CI$42)+1), ROW(BD3))), \"\")","v":""},null,null,null,null,2,null,{"$f":"IFERROR(VLOOKUP(CP15,CF13:CK32, 2, FALSE), \"\")","v":""},{"$f":"IFERROR(VLOOKUP(CP15, CF13:CK32, 5, FALSE), \"\")","v":""},{"$f":"IFERROR(VLOOKUP(CP15, CF13:CK32, 6, FALSE), \"\")","v":""},null,null,null,2,{"$f":"IF(CQ15>0,CQ15,\"\")","v":""},"","",""]
[null,"選手　4",0,{"$f":"IFERROR(INDEX($D$42:$D$91, SMALL(IF($D$42:$D$91<>\"\", ROW($D$42:$D$91)-ROW($D$42)+1), ROW(A4))), \"\")","v":""},null,null,{"$f":"IFERROR(INDEX($E$42:$E$91, SMALL(IF($E$42:$E$91<>\"\", ROW($E$42:$E$91)-ROW($E$42)+1), ROW(A4))), \"\")","v":""},{"$f":"IFERROR(INDEX($F$42:$F$91, SMALL(IF($F$42:$F$91<>\"\", ROW($F$42:$F$91)-ROW($F$42)+1), ROW(B4))), \"\")","v":""},null,null,null,null,3,null,{"$f":"IFERROR(VLOOKUP(M16, C13:H32, 2, FALSE), \"\")","v":""},{"$f":"IFERROR(VLOOKUP(M16, C13:H32, 5, FALSE), \"\")","v":""},{"$f":"IFERROR(VLOOKUP(M16, C13:H32, 6, FALSE), \"\")","v":""},null,null,null,3,"","","","",null,null,null,"選手　4",0,{"$f":"IFERROR(INDEX($AE$42:$AE$91, SMALL(IF($AE$42:$AE$91<>\"\", ROW($AE$42:$AE$91)-ROW($AE$42)+1), ROW(A4))), \"\")","v":""},null,null,{"$f":"IFERROR(INDEX($AF$42:$AF$91, SMALL(IF($AF$42:$AF$91<>\"\", ROW($AF$42:$AF$91)-ROW($AF$42)+1), ROW(A4))), \"\")","v":""},{"$f":"IFERROR(INDEX($AG$42:$AG$91, SMALL(IF($AG$42:$AG$91<>\"\", ROW($AG$42:$AG$91)-ROW($AG$42)+1), ROW(B4))), \"\")","v":""},null,null,null,null,3,null,{"$f":"IFERROR(VLOOKUP(AN16, AD13:AI32, 2, FALSE), \"\")","v":""},{"$f":"IFERROR(VLOOKUP(AN16, AD13:AI32, 5, FALSE), \"\")","v":""},{"$f":"IFERROR(VLOOKUP(AN16, AD13:AI32, 6, FALSE), \"\")","v":""},null,null,null,3,"","","","",null,null,null,"選手　4",0,{"$f":"IFERROR(INDEX($BF$42:$BF$91, SMALL(IF($BF$42:$BF$91<>\"\", ROW($BF$42:$BF$91)-ROW($BF$42)+1), ROW(BC4))), \"\")","v":""},null,null,{"$f":"IFERROR(INDEX($BG$42:$BG$91, SMALL(IF($BG$42:$BG$91<>\"\", ROW($BG$42:$BG$91)-ROW($BG$42)+1), ROW(AB4))), \"\")","v":""},{"$f":"IFERROR(INDEX($BH$42:$BH$91, SMALL(IF($BH$42:$BH$91<>\"\", ROW($BH$42:$BH$91)-ROW($BH$42)+1), ROW(AC4))), \"\")","v":""},null,null,null,null,3,null,{"$f":"IFERROR(VLOOKUP(BO16, BE13:BJ32, 2, FALSE), \"\")","v":""},{"$f":"IFERROR(VLOOKUP(BO16, BE13:BJ32, 5, FALSE), \"\")","v":""},{"$f":"IFERROR(VLOOKUP(BO16, BE13:BJ32, 6, FALSE), \"\")","v":""},null,null,null,3,"","","","",null,null,null,"選手　4",0,{"$f":"IFERROR(INDEX($CG$42:$CG$91, SMALL(IF($CG$42:$CG$91<>\"\", ROW($CG$42:$CG$91)-ROW($CG$42)+1), ROW(CD4))), \"\")","v":""},null,null,{"$f":"IFERROR(INDEX($CH$42:$CH$91, SMALL(IF($CH$42:$CH$91<>\"\", ROW($CH$42:$CH$91)-ROW($CH$42)+1), ROW(BC4))), \"\")","v":""},{"$f":"IFERROR(INDEX($CI$42:$CI$91, SMALL(IF($CI$42:$CI$91<>\"\", ROW($CI$42:$CI$91)-ROW($CI$42)+1), ROW(BD4))), \"\")","v":""},null,null,null,null,3,null,{"$f":"IFERROR(VLOOKUP(CP16, CF13:CK32, 2, FALSE), \"\")","v":""},{"$f":"IFERROR(VLOOKUP(CP16, CF13:CK32, 5, FALSE), \"\")","v":""},{"$f":"IFERROR(VLOOKUP(CP16, CF13:CK32, 6, FALSE), \"\")","v":""},null,null,null,3,"","","",""]
[null,"選手　5",0,{"$f":"IFERROR(INDEX($D$42:$D$91, SMALL(IF($D$42:$D$91<>\"\", ROW($D$42:$D$91)-ROW($D$42)+1), ROW(A5))), \"\")","v":""},null,null,{"$f":"IFERROR(INDEX($E$42:$E$91, SMALL(IF($E$42:$E$91<>\"\", ROW($E$42:$E$91)-ROW($E$42)+1), ROW(A5))), \"\")","v":""},{"$f":"IFERROR(INDEX($F$42:$F$91, SMALL(IF($F$42:$F$91<>\"\", ROW($F$42:$F$91)-ROW($F$42)+1), ROW(B5))), \"\")","v":""},null,null,null,null,4,null,{"$f":"IFERROR(VLOOKUP(M17, C13:H32, 2, FALSE), \"\")","v":""},{"$f":"IFERROR(VLOOKUP(M17, C13:H32, 5, FALSE), \"\")","v":""},{"$f":"IFERROR(VLOOKUP(M17, C13:H32, 6, FALSE), \"\")","v":""},null,null,null,4,"","","","",null,null,null,"選手　5",0,{"$f":"IFERROR(INDEX($AE$42:$AE$91, SMALL(IF($AE$42:$AE$91<>\"\", ROW($AE$42:$AE$91)-ROW($AE$42)+1), ROW(A5))), \"\")","v":""},null,null,{"$f":"IFERROR(INDEX($AF$42:$AF$91, SMALL(IF($AF$42:$AF$91<>\"\", ROW($AF$42:$AF$91)-ROW($AF$42)+1), ROW(A5))), \"\")","v":""},{"$f":"IFERROR(INDEX($AG$42:$AG$91, SMALL(IF($AG$42:$AG$91<>\"\", ROW($AG$42:$AG$91)-ROW($AG$42)+1), ROW(B5))), \"\")","v":""},null,null,null,null,4,null,{"$f":"IFERROR(VLOOKUP(AN17, AD13:AI32, 2, FALSE), \"\")","v":""},{"$f":"IFERROR(VLOOKUP(AN17, AD13:AI32, 5, FALSE), \"\")","v":""},{"$f":"IFERROR(VLOOKUP(AN17, AD13:AI32, 6, FALSE), \"\")","v":""},null,null,null,4,"","","","",null,null,null,"選手　5",0,{"$f":"IFERROR(INDEX($BF$42:$BF$91, SMALL(IF($BF$42:$BF$91<>\"\", ROW($BF$42:$BF$91)-ROW($BF$42)+1), ROW(BC5))), \"\")","v":""},null,null,{"$f":"IFERROR(INDEX($BG$42:$BG$91, SMALL(IF($BG$42:$BG$91<>\"\", ROW($BG$42:$BG$91)-ROW($BG$42)+1), ROW(AB5))), \"\")","v":""},{"$f":"IFERROR(INDEX($BH$42:$BH$91, SMALL(IF($BH$42:$BH$91<>\"\", ROW($BH$42:$BH$91)-ROW($BH$42)+1), ROW(AC5))), \"\")","v":""},null,null,null,null,4,null,{"$f":"IFERROR(VLOOKUP(BO17, BE13:BJ32, 2, FALSE), \"\")","v":""},{"$f":"IFERROR(VLOOKUP(BO17, BE13:BJ32, 5, FALSE), \"\")","v":""},{"$f":"IFERROR(VLOOKUP(BO17, BE13:BJ32, 6, FALSE), \"\")","v":""},null,null,null,4,"","","","",null,null,null,"選手　5",0,{"$f":"IFERROR(INDEX($CG$42:$CG$91, SMALL(IF($CG$42:$CG$91<>\"\", ROW($CG$42:$CG$91)-ROW($CG$42)+1), ROW(CD5))), \"\")","v":""},null,null,{"$f":"IFERROR(INDEX($CH$42:$CH$91, SMALL(IF($CH$42:$CH$91<>\"\", ROW($CH$42:$CH$91)-ROW($CH$42)+1), ROW(BC5))), \"\")","v":""},{"$f":"IFERROR(INDEX($CI$42:$CI$91, SMALL(IF($CI$42:$CI$91<>\"\", ROW($CI$42:$CI$91)-ROW($CI$42)+1), ROW(BD5))), \"\")","v":""},null,null,null,null,4,null,{"$f":"IFERROR(VLOOKUP(CP17, CF13:CK32, 2, FALSE), \"\")","v":""},{"$f":"IFERROR(VLOOKUP(CP17, CF13:CK32, 5, FALSE), \"\")","v":""},{"$f":"IFERROR(VLOOKUP(CP17, CF13:CK32, 6, FALSE), \"\")","v":""},null,null,null,4,"","","",""]
[null,"選手　6",0,{"$f":"IFERROR(INDEX($D$42:$D$91, SMALL(IF($D$42:$D$91<>\"\", ROW($D$42:$D$91)-ROW($D$42)+1), ROW(A6))), \"\")","v":""},null,null,{"$f":"IFERROR(INDEX($E$42:$E$91, SMALL(IF($E$42:$E$91<>\"\", ROW($E$42:$E$91)-ROW($E$42)+1), ROW(A6))), \"\")","v":""},{"$f":"IFERROR(INDEX($F$42:$F$91, SMALL(IF($F$42:$F$91<>\"\", ROW($F$42:$F$91)-ROW($F$42)+1), ROW(B6))), \"\")","v":""},null,null,null,null,5,null,{"$f":"IFERROR(VLOOKUP(M18, C13:H32, 2, FALSE), \"\")","v":""},{"$f":"IFERROR(VLOOKUP(M18, C13:H32, 5, FALSE), \"\")","v":""},{"$f":"IFERROR(VLOOKUP(M18, C13:H32, 6, FALSE), \"\")","v":""},null,null,null,5,"","","","",null,null,null,"選手　6",0,{"$f":"IFERROR(INDEX($AE$42:$AE$91, SMALL(IF($AE$42:$AE$91<>\"\", ROW($AE$42:$AE$91)-ROW($AE$42)+1), ROW(A6))), \"\")","v":""},null,null,{"$f":"IFERROR(INDEX($AF$42:$AF$91, SMALL(IF($AF$42:$AF$91<>\"\", ROW($AF$42:$AF$91)-ROW($AF$42)+1), ROW(A6))), \"\")","v":""},{"$f":"IFERROR(INDEX($AG$42:$AG$91, SMALL(IF($AG$42:$AG$91<>\"\", ROW($AG$42:$AG$91)-ROW($AG$42)+1), ROW(B6))), \"\")","v":""},null,null,null,null,5,null,{"$f":"IFERROR(VLOOKUP(AN18, AD13:AI32, 2, FALSE), \"\")","v":""},{"$f":"IFERROR(VLOOKUP(AN18, AD13:AI32, 5, FALSE), \"\")","v":""},{"$f":"IFERROR(VLOOKUP(AN18, AD13:AI32, 6, FALSE), \"\")","v":""},null,null,null,5,"","","","",null,null,null,"選手　6",0,{"$f":"IFERROR(INDEX($BF$42:$BF$91, SMALL(IF($BF$42:$BF$91<>\"\", ROW($BF$42:$BF$91)-ROW($BF$42)+1), ROW(BC6))), \"\")","v":""},null,null,{"$f":"IFERROR(INDEX($BG$42:$BG$91, SMALL(IF($BG$42:$BG$91<>\"\", ROW($BG$42:$BG$91)-ROW($BG$42)+1), ROW(AB6))), \"\")","v":""},{"$f":"IFERROR(INDEX($BH$42:$BH$91, SMALL(IF($BH$42:$BH$91<>\"\", ROW($BH$42:$BH$91)-ROW($BH$42)+1), ROW(AC6))), \"\")","v":""},null,null,null,null,5,null,{"$f":"IFERROR(VLOOKUP(BO18, BE13:BJ32, 2, FALSE), \"\")","v":""},{"$f":"IFERROR(VLOOKUP(BO18, BE13:BJ32, 5, FALSE), \"\")","v":""},{"$f":"IFERROR(VLOOKUP(BO18, BE13:BJ32, 6, FALSE), \"\")","v":""},null,null,null,5,"","","","",null,null,null,"選手　6",0,{"$f":"IFERROR(INDEX($CG$42:$CG$91, SMALL(IF($CG$42:$CG$91<>\"\", ROW($CG$42:$CG$91)-ROW($CG$42)+1), ROW(CD6))), \"\")","v":""},null,null,{"$f":"IFERROR(INDEX($CH$42:$CH$91, SMALL(IF($CH$42:$CH$91<>\"\", ROW($CH$42:$CH$91)-ROW($CH$42)+1), ROW(BC6))), \"\")","v":""},{"$f":"IFERROR(INDEX($CI$42:$CI$91, SMALL(IF($CI$42:$CI$91<>\"\", ROW($CI$42:$CI$91)-ROW($CI$42)+1), ROW(BD6))), \"\")","v":""},null,null,null,null,5,null,{"$f":"IFERROR(VLOOKUP(CP18, CF13:CK32, 2, FALSE), \"\")","v":""},{"$f":"IFERROR(VLOOKUP(CP18, CF13:CK32, 5, FALSE), \"\")","v":""},{"$f":"IFERROR(VLOOKUP(CP18, CF13:CK32, 6, FALSE), \"\")","v":""},null,null,null,5,"","","",""]
[null,"選手　7",0,{"$f":"IFERROR(INDEX($D$42:$D$91, SMALL(IF($D$42:$D$91<>\"\", ROW($D$42:$D$91)-ROW($D$42)+1), ROW(A7))), \"\")","v":""},null,null,{"$f":"IFERROR(INDEX($E$42:$E$91, SMALL(IF($E$42:$E$91<>\"\", ROW($E$42:$E$91)-ROW($E$42)+1), ROW(A7))), \"\")","v":""},{"$f":"IFERROR(INDEX($F$42:$F$91, SMALL(IF($F$42:$F$91<>\"\", ROW($F$42:$F$91)-ROW($F$42)+1), ROW(B7))), \"\")","v":""},null,null,null,null,6,null,{"$f":"IFERROR(VLOOKUP(M19, C13:H32, 2, FALSE), \"\")","v":""},{"$f":"IFERROR(VLOOKUP(M19, C13:H32, 5, FALSE), \"\")","v":""},{"$f":"IFERROR(VLOOKUP(M19, C13:H32, 6, FALSE), \"\")","v":""},null,null,null,6,"","","","",null,null,null,"選手　7",0,{"$f":"IFERROR(INDEX($AE$42:$AE$91, SMALL(IF($AE$42:$AE$91<>\"\", ROW($AE$42:$AE$91)-ROW($AE$42)+1), ROW(A7))), \"\")","v":""},null,null,{"$f":"IFERROR(INDEX($AF$42:$AF$91, SMALL(IF($AF$42:$AF$91<>\"\", ROW($AF$42:$AF$91)-ROW($AF$42)+1), ROW(A7))), \"\")","v":""},{"$f":"IFERROR(INDEX($AG$42:$AG$91, SMALL(IF($AG$42:$AG$91<>\"\", ROW($AG$42:$AG$91)-ROW($AG$42)+1), ROW(B7))), \"\")","v":""},null,null,null,null,6,null,{"$f":"IFERROR(VLOOKUP(AN19, AD13:AI32, 2, FALSE), \"\")","v":""},{"$f":"IFERROR(VLOOKUP(AN19, AD13:AI32, 5, FALSE), \"\")","v":""},{"$f":"IFERROR(VLOOKUP(AN19, AD13:AI32, 6, FALSE), \"\")","v":""},null,null,null,6,"","","","",null,null,null,"選手　7",0,{"$f":"IFERROR(INDEX($BF$42:$BF$91, SMALL(IF($BF$42:$BF$91<>\"\", ROW($BF$42:$BF$91)-ROW($BF$42)+1), ROW(BC7))), \"\")","v":""},null,null,{"$f":"IFERROR(INDEX($BG$42:$BG$91, SMALL(IF($BG$42:$BG$91<>\"\", ROW($BG$42:$BG$91)-ROW($BG$42)+1), ROW(AB7))), \"\")","v":""},{"$f":"IFERROR(INDEX($BH$42:$BH$91, SMALL(IF($BH$42:$BH$91<>\"\", ROW($BH$42:$BH$91)-ROW($BH$42)+1), ROW(AC7))), \"\")","v":""},null,null,null,null,6,null,{"$f":"IFERROR(VLOOKUP(BO19, BE13:BJ32, 2, FALSE), \"\")","v":""},{"$f":"IFERROR(VLOOKUP(BO19, BE13:BJ32, 5, FALSE), \"\")","v":""},{"$f":"IFERROR(VLOOKUP(BO19, BE13:BJ32, 6, FALSE), \"\")","v":""},null,null,null,6,"","","","",null,null,null,"選手　7",0,{"$f":"IFERROR(INDEX($CG$42:$CG$91, SMALL(IF($CG$42:$CG$91<>\"\", ROW($CG$42:$CG$91)-ROW($CG$42)+1), ROW(CD7))), \"\")","v":""},null,null,{"$f":"IFERROR(INDEX($CH$42:$CH$91, SMALL(IF($CH$42:$CH$91<>\"\", ROW($CH$42:$CH$91)-ROW($CH$42)+1), ROW(BC7))), \"\")","v":""},{"$f":"IFERROR(INDEX($CI$42:$CI$91, SMALL(IF($CI$42:$CI$91<>\"\", ROW($CI$42:$CI$91)-ROW($CI$42)+1), ROW(BD7))), \"\")","v":""},null,null,null,null,6,null,{"$f":"IFERROR(VLOOKUP(CP19, CF13:CK32, 2, FALSE), \"\")","v":""},{"$f":"IFERROR(VLOOKUP(CP19, CF13:CK32, 5, FALSE), \"\")","v":""},{"$f":"IFERROR(VLOOKUP(CP19, CF13:CK32, 6, FALSE), \"\")","v":""},null,null,null,6,"","","",""]
[null,"選手　8",0,{"$f":"IFERROR(INDEX($D$42:$D$91, SMALL(IF($D$42:$D$91<>\"\", ROW($D$42:$D$91)-ROW($D$42)+1), ROW(A8))), \"\")","v":""},null,null,{"$f":"IFERROR(INDEX($E$42:$E$91, SMALL(IF($E$42:$E$91<>\"\", ROW($E$42:$E$91)-ROW($E$42)+1), ROW(A8))), \"\")","v":""},{"$f":"IFERROR(INDEX($F$42:$F$91, SMALL(IF($F$42:$F$91<>\"\", ROW($F$42:$F$91)-ROW($F$42)+1), ROW(B8))), \"\")","v":""},null,null,null,null,7,null,{"$f":"IFERROR(VLOOKUP(M20, C13:H32, 2, FALSE), \"\")","v":""},{"$f":"IFERROR(VLOOKUP(M20, C13:H32, 5, FALSE), \"\")","v":""},{"$f":"IFERROR(VLOOKUP(M20, C13:H32, 6, FALSE), \"\")","v":""},null,null,null,7,"","","","",null,null,null,"選手　8",0,{"$f":"IFERROR(INDEX($AE$42:$AE$91, SMALL(IF($AE$42:$AE$91<>\"\", ROW($AE$42:$AE$91)-ROW($AE$42)+1), ROW(A8))), \"\")","v":""},null,null,{"$f":"IFERROR(INDEX($AF$42:$AF$91, SMALL(IF($AF$42:$AF$91<>\"\", ROW($AF$42:$AF$91)-ROW($AF$42)+1), ROW(A8))), \"\")","v":""},{"$f":"IFERROR(INDEX($AG$42:$AG$91, SMALL(IF($AG$42:$AG$91<>\"\", ROW($AG$42:$AG$91)-ROW($AG$42)+1), ROW(B8))), \"\")","v":""},null,null,null,null,7,null,{"$f":"IFERROR(VLOOKUP(AN20, AD13:AI32, 2, FALSE), \"\")","v":""},{"$f":"IFERROR(VLOOKUP(AN20, AD13:AI32, 5, FALSE), \"\")","v":""},{"$f":"IFERROR(VLOOKUP(AN20, AD13:AI32, 6, FALSE), \"\")","v":""},null,null,null,7,"","","","",null,null,null,"選手　8",0,{"$f":"IFERROR(INDEX($BF$42:$BF$91, SMALL(IF($BF$42:$BF$91<>\"\", ROW($BF$42:$BF$91)-ROW($BF$42)+1), ROW(BC8))), \"\")","v":""},null,null,{"$f":"IFERROR(INDEX($BG$42:$BG$91, SMALL(IF($BG$42:$BG$91<>\"\", ROW($BG$42:$BG$91)-ROW($BG$42)+1), ROW(AB8))), \"\")","v":""},{"$f":"IFERROR(INDEX($BH$42:$BH$91, SMALL(IF($BH$42:$BH$91<>\"\", ROW($BH$42:$BH$91)-ROW($BH$42)+1), ROW(AC8))), \"\")","v":""},null,null,null,null,7,null,{"$f":"IFERROR(VLOOKUP(BO20, BE13:BJ32, 2, FALSE), \"\")","v":""},{"$f":"IFERROR(VLOOKUP(BO20, BE13:BJ32, 5, FALSE), \"\")","v":""},{"$f":"IFERROR(VLOOKUP(BO20, BE13:BJ32, 6, FALSE), \"\")","v":""},null,null,null,7,"","","","",null,null,null,"選手　8",0,{"$f":"IFERROR(INDEX($CG$42:$CG$91, SMALL(IF($CG$42:$CG$91<>\"\", ROW($CG$42:$CG$91)-ROW($CG$42)+1), ROW(CD8))), \"\")","v":""},null,null,{"$f":"IFERROR(INDEX($CH$42:$CH$91, SMALL(IF($CH$42:$CH$91<>\"\", ROW($CH$42:$CH$91)-ROW($CH$42)+1), ROW(BC8))), \"\")","v":""},{"$f":"IFERROR(INDEX($CI$42:$CI$91, SMALL(IF($CI$42:$CI$91<>\"\", ROW($CI$42:$CI$91)-ROW($CI$42)+1), ROW(BD8))), \"\")","v":""},null,null,null,null,7,null,{"$f":"IFERROR(VLOOKUP(CP20, CF13:CK32, 2, FALSE), \"\")","v":""},{"$f":"IFERROR(VLOOKUP(CP20, CF13:CK32, 5, FALSE), \"\")","v":""},{"$f":"IFERROR(VLOOKUP(CP20, CF13:CK32, 6, FALSE), \"\")","v":""},null,null,null,7,"","","",""]
[null,"選手　9",0,{"$f":"IFERROR(INDEX($D$42:$D$91, SMALL(IF($D$42:$D$91<>\"\", ROW($D$42:$D$91)-ROW($D$42)+1), ROW(A9))), \"\")","v":""},null,null,{"$f":"IFERROR(INDEX($E$42:$E$91, SMALL(IF($E$42:$E$91<>\"\", ROW($E$42:$E$91)-ROW($E$42)+1), ROW(A9))), \"\")","v":""},{"$f":"IFERROR(INDEX($F$42:$F$91, SMALL(IF($F$42:$F$91<>\"\", ROW($F$42:$F$91)-ROW($F$42)+1), ROW(B9))), \"\")","v":""},null,null,null,null,8,null,{"$f":"IFERROR(VLOOKUP(M21, C13:H32, 2, FALSE), \"\")","v":""},{"$f":"IFERROR(VLOOKUP(M21, C13:H32, 5, FALSE), \"\")","v":""},{"$f":"IFERROR(VLOOKUP(M21, C13:H32, 6, FALSE), \"\")","v":""},null,null,null,8,"","","","",null,null,null,"選手　9",0,{"$f":"IFERROR(INDEX($AE$42:$AE$91, SMALL(IF($AE$42:$AE$91<>\"\", ROW($AE$42:$AE$91)-ROW($AE$42)+1), ROW(A9))), \"\")","v":""},null,null,{"$f":"IFERROR(INDEX($AF$42:$AF$91, SMALL(IF($AF$42:$AF$91<>\"\", ROW($AF$42:$AF$91)-ROW($AF$42)+1), ROW(A9))), \"\")","v":""},{"$f":"IFERROR(INDEX($AG$42:$AG$91, SMALL(IF($AG$42:$AG$91<>\"\", ROW($AG$42:$AG$91)-ROW($AG$42)+1), ROW(B9))), \"\")","v":""},null,null,null,null,8,null,{"$f":"IFERROR(VLOOKUP(AN21, AD13:AI32, 2, FALSE), \"\")","v":""},{"$f":"IFERROR(VLOOKUP(AN21, AD13:AI32, 5, FALSE), \"\")","v":""},{"$f":"IFERROR(VLOOKUP(AN21, AD13:AI32, 6, FALSE), \"\")","v":""},null,null,null,8,"","","","",null,null,null,"選手　9",0,{"$f":"IFERROR(INDEX($BF$42:$BF$91, SMALL(IF($BF$42:$BF$91<>\"\", ROW($BF$42:$BF$91)-ROW($BF$42)+1), ROW(BC9))), \"\")","v":""},null,null,{"$f":"IFERROR(INDEX($BG$42:$BG$91, SMALL(IF($BG$42:$BG$91<>\"\", ROW($BG$42:$BG$91)-ROW($BG$42)+1), ROW(AB9))), \"\")","v":""},{"$f":"IFERROR(INDEX($BH$42:$BH$91, SMALL(IF($BH$42:$BH$91<>\"\", ROW($BH$42:$BH$91)-ROW($BH$42)+1), ROW(AC9))), \"\")","v":""},null,null,null,null,8,null,{"$f":"IFERROR(VLOOKUP(BO21, BE13:BJ32, 2, FALSE), \"\")","v":""},{"$f":"IFERROR(VLOOKUP(BO21, BE13:BJ32, 5, FALSE), \"\")","v":""},{"$f":"IFERROR(VLOOKUP(BO21, BE13:BJ32, 6, FALSE), \"\")","v":""},null,null,null,8,"","","","",null,null,null,"選手　9",0,{"$f":"IFERROR(INDEX($CG$42:$CG$91, SMALL(IF($CG$42:$CG$91<>\"\", ROW($CG$42:$CG$91)-ROW($CG$42)+1), ROW(CD9))), \"\")","v":""},null,null,{"$f":"IFERROR(INDEX($CH$42:$CH$91, SMALL(IF($CH$42:$CH$91<>\"\", ROW($CH$42:$CH$91)-ROW($CH$42)+1), ROW(BC9))), \"\")","v":""},{"$f":"IFERROR(INDEX($CI$42:$CI$91, SMALL(IF($CI$42:$CI$91<>\"\", ROW($CI$42:$CI$91)-ROW($CI$42)+1), ROW(BD9))), \"\")","v":""},null,null,null,null,8,null,{"$f":"IFERROR(VLOOKUP(CP21, CF13:CK32, 2, FALSE), \"\")","v":""},{"$f":"IFERROR(VLOOKUP(CP21, CF13:CK32, 5, FALSE), \"\")","v":""},{"$f":"IFERROR(VLOOKUP(CP21, CF13:CK32, 6, FALSE), \"\")","v":""},null,null,null,8,"","","",""]
[null,"選手　10",0,{"$f":"IFERROR(INDEX($D$42:$D$91, SMALL(IF($D$42:$D$91<>\"\", ROW($D$42:$D$91)-ROW($D$42)+1), ROW(A10))), \"\")","v":""},null,null,{"$f":"IFERROR(INDEX($E$42:$E$91, SMALL(IF($E$42:$E$91<>\"\", ROW($E$42:$E$91)-ROW($E$42)+1), ROW(A10))), \"\")","v":""},{"$f":"IFERROR(INDEX($F$42:$F$91, SMALL(IF($F$42:$F$91<>\"\", ROW($F$42:$F$91)-ROW($F$42)+1), ROW(B10))), \"\")","v":""},null,null,null,null,9,null,{"$f":"IFERROR(VLOOKUP(M22, C13:H32, 2, FALSE), \"\")","v":""},{"$f":"IFERROR(VLOOKUP(M22, C13:H32, 5, FALSE), \"\")","v":""},{"$f":"IFERROR(VLOOKUP(M22, C13:H32, 6, FALSE), \"\")","v":""},null,null,null,9,"","","","",null,null,null,"選手　10",0,{"$f":"IFERROR(INDEX($AE$42:$AE$91, SMALL(IF($AE$42:$AE$91<>\"\", ROW($AE$42:$AE$91)-ROW($AE$42)+1), ROW(A10))), \"\")","v":""},null,null,{"$f":"IFERROR(INDEX($AF$42:$AF$91, SMALL(IF($AF$42:$AF$91<>\"\", ROW($AF$42:$AF$91)-ROW($AF$42)+1), ROW(A10))), \"\")","v":""},{"$f":"IFERROR(INDEX($AG$42:$AG$91, SMALL(IF($AG$42:$AG$91<>\"\", ROW($AG$42:$AG$91)-ROW($AG$42)+1), ROW(B10))), \"\")","v":""},null,null,null,null,9,null,{"$f":"IFERROR(VLOOKUP(AN22, AD13:AI32, 2, FALSE), \"\")","v":""},{"$f":"IFERROR(VLOOKUP(AN22, AD13:AI32, 5, FALSE), \"\")","v":""},{"$f":"IFERROR(VLOOKUP(AN22, AD13:AI32, 6, FALSE), \"\")","v":""},null,null,null,9,"","","","",null,null,null,"選手　10",0,{"$f":"IFERROR(INDEX($BF$42:$BF$91, SMALL(IF($BF$42:$BF$91<>\"\", ROW($BF$42:$BF$91)-ROW($BF$42)+1), ROW(BC10))), \"\")","v":""},null,null,{"$f":"IFERROR(INDEX($BG$42:$BG$91, SMALL(IF($BG$42:$BG$91<>\"\", ROW($BG$42:$BG$91)-ROW($BG$42)+1), ROW(AB10))), \"\")","v":""},{"$f":"IFERROR(INDEX($BH$42:$BH$91, SMALL(IF($BH$42:$BH$91<>\"\", ROW($BH$42:$BH$91)-ROW($BH$42)+1), ROW(AC10))), \"\")","v":""},null,null,null,null,9,null,{"$f":"IFERROR(VLOOKUP(BO22, BE13:BJ32, 2, FALSE), \"\")","v":""},{"$f":"IFERROR(VLOOKUP(BO22, BE13:BJ32, 5, FALSE), \"\")","v":""},{"$f":"IFERROR(VLOOKUP(BO22, BE13:BJ32, 6, FALSE), \"\")","v":""},null,null,null,9,"","","","",null,null,null,"選手　10",0,{"$f":"IFERROR(INDEX($CG$42:$CG$91, SMALL(IF($CG$42:$CG$91<>\"\", ROW($CG$42:$CG$91)-ROW($CG$42)+1), ROW(CD10))), \"\")","v":""},null,null,{"$f":"IFERROR(INDEX($CH$42:$CH$91, SMALL(IF($CH$42:$CH$91<>\"\", ROW($CH$42:$CH$91)-ROW($CH$42)+1), ROW(BC10))), \"\")","v":""},{"$f":"IFERROR(INDEX($CI$42:$CI$91, SMALL(IF($CI$42:$CI$91<>\"\", ROW($CI$42:$CI$91)-ROW($CI$42)+1), ROW(BD10))), \"\")","v":""},null,null,null,null,9,null,{"$f":"IFERROR(VLOOKUP(CP22, CF13:CK32, 2, FALSE), \"\")","v":""},{"$f":"IFERROR(VLOOKUP(CP22, CF13:CK32, 5, FALSE), \"\")","v":""},{"$f":"IFERROR(VLOOKUP(CP22, CF13:CK32, 6, FALSE), \"\")","v":""},null,null,null,9,"","","",""]
[null,"選手　11",0,{"$f":"IFERROR(INDEX($D$42:$D$91, SMALL(IF($D$42:$D$91<>\"\", ROW($D$42:$D$91)-ROW($D$42)+1), ROW(A11))), \"\")","v":""},null,null,{"$f":"IFERROR(INDEX($E$42:$E$91, SMALL(IF($E$42:$E$91<>\"\", ROW($E$42:$E$91)-ROW($E$42)+1), ROW(A11))), \"\")","v":""},{"$f":"IFERROR(INDEX($F$42:$F$91, SMALL(IF($F$42:$F$91<>\"\", ROW($F$42:$F$91)-ROW($F$42)+1), ROW(B11))), \"\")","v":""},null,null,null,null,10,null,{"$f":"IFERROR(VLOOKUP(M23,C13:H32, 2, FALSE), \"\")","v":""},{"$f":"IFERROR(VLOOKUP(M23, C13:H32, 5, FALSE), \"\")","v":""},{"$f":"IFERROR(VLOOKUP(M23, C13:H32, 6, FALSE), \"\")","v":""},null,null,null,10,"","","","",null,null,null,"選手　11",0,{"$f":"IFERROR(INDEX($AE$42:$AE$91, SMALL(IF($AE$42:$AE$91<>\"\", ROW($AE$42:$AE$91)-ROW($AE$42)+1), ROW(A11))), \"\")","v":""},null,null,{"$f":"IFERROR(INDEX($AF$42:$AF$91, SMALL(IF($AF$42:$AF$91<>\"\", ROW($AF$42:$AF$91)-ROW($AF$42)+1), ROW(A11))), \"\")","v":""},{"$f":"IFERROR(INDEX($AG$42:$AG$91, SMALL(IF($AG$42:$AG$91<>\"\", ROW($AG$42:$AG$91)-ROW($AG$42)+1), ROW(B11))), \"\")","v":""},null,null,null,null,10,null,{"$f":"IFERROR(VLOOKUP(AN23,AD13:AI32, 2, FALSE), \"\")","v":""},{"$f":"IFERROR(VLOOKUP(AN23, AD13:AI32, 5, FALSE), \"\")","v":""},{"$f":"IFERROR(VLOOKUP(AN23, AD13:AI32, 6, FALSE), \"\")","v":""},null,null,null,10,"","","","",null,null,null,"選手　11",0,{"$f":"IFERROR(INDEX($BF$42:$BF$91, SMALL(IF($BF$42:$BF$91<>\"\", ROW($BF$42:$BF$91)-ROW($BF$42)+1), ROW(BC11))), \"\")","v":""},null,null,{"$f":"IFERROR(INDEX($BG$42:$BG$91, SMALL(IF($BG$42:$BG$91<>\"\", ROW($BG$42:$BG$91)-ROW($BG$42)+1), ROW(AB11))), \"\")","v":""},{"$f":"IFERROR(INDEX($BH$42:$BH$91, SMALL(IF($BH$42:$BH$91<>\"\", ROW($BH$42:$BH$91)-ROW($BH$42)+1), ROW(AC11))), \"\")","v":""},null,null,null,null,10,null,{"$f":"IFERROR(VLOOKUP(BO23,BE13:BJ32, 2, FALSE), \"\")","v":""},{"$f":"IFERROR(VLOOKUP(BO23, BE13:BJ32, 5, FALSE), \"\")","v":""},{"$f":"IFERROR(VLOOKUP(BO23, BE13:BJ32, 6, FALSE), \"\")","v":""},null,null,null,10,"","","","",null,null,null,"選手　11",0,{"$f":"IFERROR(INDEX($CG$42:$CG$91, SMALL(IF($CG$42:$CG$91<>\"\", ROW($CG$42:$CG$91)-ROW($CG$42)+1), ROW(CD11))), \"\")","v":""},null,null,{"$f":"IFERROR(INDEX($CH$42:$CH$91, SMALL(IF($CH$42:$CH$91<>\"\", ROW($CH$42:$CH$91)-ROW($CH$42)+1), ROW(BC11))), \"\")","v":""},{"$f":"IFERROR(INDEX($CI$42:$CI$91, SMALL(IF($CI$42:$CI$91<>\"\", ROW($CI$42:$CI$91)-ROW($CI$42)+1), ROW(BD11))), \"\")","v":""},null,null,null,null,10,null,{"$f":"IFERROR(VLOOKUP(CP23,CF13:CK32, 2, FALSE), \"\")","v":""},{"$f":"IFERROR(VLOOKUP(CP23, CF13:CK32, 5, FALSE), \"\")","v":""},{"$f":"IFERROR(VLOOKUP(CP23, CF13:CK32, 6, FALSE), \"\")","v":""},null,null,null,10,"","","",""]
[null,"選手　12",0,{"$f":"IFERROR(INDEX($D$42:$D$91, SMALL(IF($D$42:$D$91<>\"\", ROW($D$42:$D$91)-ROW($D$42)+1), ROW(A12))), \"\")","v":""},null,null,{"$f":"IFERROR(INDEX($E$42:$E$91, SMALL(IF($E$42:$E$91<>\"\", ROW($E$42:$E$91)-ROW($E$42)+1), ROW(A12))), \"\")","v":""},{"$f":"IFERROR(INDEX($F$42:$F$91, SMALL(IF($F$42:$F$91<>\"\", ROW($F$42:$F$91)-ROW($F$42)+1), ROW(B12))), \"\")","v":""},null,null,null,null,11,null,{"$f":"IFERROR(VLOOKUP(M24, C13:H32, 2, FALSE), \"\")","v":""},{"$f":"IFERROR(VLOOKUP(M24, C13:H32, 5, FALSE), \"\")","v":""},{"$f":"IFERROR(VLOOKUP(M24, C13:H32, 6, FALSE), \"\")","v":""},null,null,null,11,"","","","",null,null,null,"選手　12",0,{"$f":"IFERROR(INDEX($AE$42:$AE$91, SMALL(IF($AE$42:$AE$91<>\"\", ROW($AE$42:$AE$91)-ROW($AE$42)+1), ROW(A12))), \"\")","v":""},null,null,{"$f":"IFERROR(INDEX($AF$42:$AF$91, SMALL(IF($AF$42:$AF$91<>\"\", ROW($AF$42:$AF$91)-ROW($AF$42)+1), ROW(A12))), \"\")","v":""},{"$f":"IFERROR(INDEX($AG$42:$AG$91, SMALL(IF($AG$42:$AG$91<>\"\", ROW($AG$42:$AG$91)-ROW($AG$42)+1), ROW(B12))), \"\")","v":""},null,null,null,null,11,null,{"$f":"IFERROR(VLOOKUP(AN24, AD13:AI32, 2, FALSE), \"\")","v":""},{"$f":"IFERROR(VLOOKUP(AN24, AD13:AI32, 5, FALSE), \"\")","v":""},{"$f":"IFERROR(VLOOKUP(AN24, AD13:AI32, 6, FALSE), \"\")","v":""},null,null,null,11,"","","","",null,null,null,"選手　12",0,{"$f":"IFERROR(INDEX($BF$42:$BF$91, SMALL(IF($BF$42:$BF$91<>\"\", ROW($BF$42:$BF$91)-ROW($BF$42)+1), ROW(BC12))), \"\")","v":""},null,null,{"$f":"IFERROR(INDEX($BG$42:$BG$91, SMALL(IF($BG$42:$BG$91<>\"\", ROW($BG$42:$BG$91)-ROW($BG$42)+1), ROW(AB12))), \"\")","v":""},{"$f":"IFERROR(INDEX($BH$42:$BH$91, SMALL(IF($BH$42:$BH$91<>\"\", ROW($BH$42:$BH$91)-ROW($BH$42)+1), ROW(AC12))), \"\")","v":""},null,null,null,null,11,null,{"$f":"IFERROR(VLOOKUP(BO24, BE13:BJ32, 2, FALSE), \"\")","v":""},{"$f":"IFERROR(VLOOKUP(BO24, BE13:BJ32, 5, FALSE), \"\")","v":""},{"$f":"IFERROR(VLOOKUP(BO24, BE13:BJ32, 6, FALSE), \"\")","v":""},null,null,null,11,"","","","",null,null,null,"選手　12",0,{"$f":"IFERROR(INDEX($CG$42:$CG$91, SMALL(IF($CG$42:$CG$91<>\"\", ROW($CG$42:$CG$91)-ROW($CG$42)+1), ROW(CD12))), \"\")","v":""},null,null,{"$f":"IFERROR(INDEX($CH$42:$CH$91, SMALL(IF($CH$42:$CH$91<>\"\", ROW($CH$42:$CH$91)-ROW($CH$42)+1), ROW(BC12))), \"\")","v":""},{"$f":"IFERROR(INDEX($CI$42:$CI$91, SMALL(IF($CI$42:$CI$91<>\"\", ROW($CI$42:$CI$91)-ROW($CI$42)+1), ROW(BD12))), \"\")","v":""},null,null,null,null,11,null,{"$f":"IFERROR(VLOOKUP(CP24, CF13:CK32, 2, FALSE), \"\")","v":""},{"$f":"IFERROR(VLOOKUP(CP24, CF13:CK32, 5, FALSE), \"\")","v":""},{"$f":"IFERROR(VLOOKUP(CP24, CF13:CK32, 6, FALSE), \"\")","v":""},null,null,null,11,"","","",""]
[null,"選手　13",0,{"$f":"IFERROR(INDEX($D$42:$D$91, SMALL(IF($D$42:$D$91<>\"\", ROW($D$42:$D$91)-ROW($D$42)+1), ROW(A13))), \"\")","v":""},null,null,{"$f":"IFERROR(INDEX($E$42:$E$91, SMALL(IF($E$42:$E$91<>\"\", ROW($E$42:$E$91)-ROW($E$42)+1), ROW(A13))), \"\")","v":""},{"$f":"IFERROR(INDEX($F$42:$F$91, SMALL(IF($F$42:$F$91<>\"\", ROW($F$42:$F$91)-ROW($F$42)+1), ROW(B13))), \"\")","v":""},null,null,null,null,12,null,{"$f":"IFERROR(VLOOKUP(M25, C13:H32, 2, FALSE), \"\")","v":""},{"$f":"IFERROR(VLOOKUP(M25, C13:H32, 5, FALSE), \"\")","v":""},{"$f":"IFERROR(VLOOKUP(M25, C13:H32, 6, FALSE), \"\")","v":""},null,null,null,12,"","","","",null,null,null,"選手　13",0,{"$f":"IFERROR(INDEX($AE$42:$AE$91, SMALL(IF($AE$42:$AE$91<>\"\", ROW($AE$42:$AE$91)-ROW($AE$42)+1), ROW(A13))), \"\")","v":""},null,null,{"$f":"IFERROR(INDEX($AF$42:$AF$91, SMALL(IF($AF$42:$AF$91<>\"\", ROW($AF$42:$AF$91)-ROW($AF$42)+1), ROW(A13))), \"\")","v":""},{"$f":"IFERROR(INDEX($AG$42:$AG$91, SMALL(IF($AG$42:$AG$91<>\"\", ROW($AG$42:$AG$91)-ROW($AG$42)+1), ROW(B13))), \"\")","v":""},null,null,null,null,12,null,{"$f":"IFERROR(VLOOKUP(AN25, AD13:AI32, 2, FALSE), \"\")","v":""},{"$f":"IFERROR(VLOOKUP(AN25, AD13:AI32, 5, FALSE), \"\")","v":""},{"$f":"IFERROR(VLOOKUP(AN25, AD13:AI32, 6, FALSE), \"\")","v":""},null,null,null,12,"","","","",null,null,null,"選手　13",0,{"$f":"IFERROR(INDEX($BF$42:$BF$91, SMALL(IF($BF$42:$BF$91<>\"\", ROW($BF$42:$BF$91)-ROW($BF$42)+1), ROW(BC13))), \"\")","v":""},null,null,{"$f":"IFERROR(INDEX($BG$42:$BG$91, SMALL(IF($BG$42:$BG$91<>\"\", ROW($BG$42:$BG$91)-ROW($BG$42)+1), ROW(AB13))), \"\")","v":""},{"$f":"IFERROR(INDEX($BH$42:$BH$91, SMALL(IF($BH$42:$BH$91<>\"\", ROW($BH$42:$BH$91)-ROW($BH$42)+1), ROW(AC13))), \"\")","v":""},null,null,null,null,12,null,{"$f":"IFERROR(VLOOKUP(BO25, BE13:BJ32, 2, FALSE), \"\")","v":""},{"$f":"IFERROR(VLOOKUP(BO25, BE13:BJ32, 5, FALSE), \"\")","v":""},{"$f":"IFERROR(VLOOKUP(BO25, BE13:BJ32, 6, FALSE), \"\")","v":""},null,null,null,12,"","","","",null,null,null,"選手　13",0,{"$f":"IFERROR(INDEX($CG$42:$CG$91, SMALL(IF($CG$42:$CG$91<>\"\", ROW($CG$42:$CG$91)-ROW($CG$42)+1), ROW(CD13))), \"\")","v":""},null,null,{"$f":"IFERROR(INDEX($CH$42:$CH$91, SMALL(IF($CH$42:$CH$91<>\"\", ROW($CH$42:$CH$91)-ROW($CH$42)+1), ROW(BC13))), \"\")","v":""},{"$f":"IFERROR(INDEX($CI$42:$CI$91, SMALL(IF($CI$42:$CI$91<>\"\", ROW($CI$42:$CI$91)-ROW($CI$42)+1), ROW(BD13))), \"\")","v":""},null,null,null,null,12,null,{"$f":"IFERROR(VLOOKUP(CP25, CF13:CK32, 2, FALSE), \"\")","v":""},{"$f":"IFERROR(VLOOKUP(CP25, CF13:CK32, 5, FALSE), \"\")","v":""},{"$f":"IFERROR(VLOOKUP(CP25, CF13:CK32, 6, FALSE), \"\")","v":""},null,null,null,12,"","","",""]
[null,"選手　14",0,{"$f":"IFERROR(INDEX($D$42:$D$91, SMALL(IF($D$42:$D$91<>\"\", ROW($D$42:$D$91)-ROW($D$42)+1), ROW(A14))), \"\")","v":""},null,null,{"$f":"IFERROR(INDEX($E$42:$E$91, SMALL(IF($E$42:$E$91<>\"\", ROW($E$42:$E$91)-ROW($E$42)+1), ROW(A14))), \"\")","v":""},{"$f":"IFERROR(INDEX($F$42:$F$91, SMALL(IF($F$42:$F$91<>\"\", ROW($F$42:$F$91)-ROW($F$42)+1), ROW(B14))), \"\")","v":""},null,null,null,null,13,null,{"$f":"IFERROR(VLOOKUP(M26, C13:H32, 2, FALSE), \"\")","v":""},{"$f":"IFERROR(VLOOKUP(M26, C13:H32, 5, FALSE), \"\")","v":""},{"$f":"IFERROR(VLOOKUP(M26, C13:H32, 6, FALSE), \"\")","v":""},null,null,null,13,"","","","",null,null,null,"選手　14",0,{"$f":"IFERROR(INDEX($AE$42:$AE$91, SMALL(IF($AE$42:$AE$91<>\"\", ROW($AE$42:$AE$91)-ROW($AE$42)+1), ROW(A14))), \"\")","v":""},null,null,{"$f":"IFERROR(INDEX($AF$42:$AF$91, SMALL(IF($AF$42:$AF$91<>\"\", ROW($AF$42:$AF$91)-ROW($AF$42)+1), ROW(A14))), \"\")","v":""},{"$f":"IFERROR(INDEX($AG$42:$AG$91, SMALL(IF($AG$42:$AG$91<>\"\", ROW($AG$42:$AG$91)-ROW($AG$42)+1), ROW(B14))), \"\")","v":""},null,null,null,null,13,null,{"$f":"IFERROR(VLOOKUP(AN26, AD13:AI32, 2, FALSE), \"\")","v":""},{"$f":"IFERROR(VLOOKUP(AN26, AD13:AI32, 5, FALSE), \"\")","v":""},{"$f":"IFERROR(VLOOKUP(AN26, AD13:AI32, 6, FALSE), \"\")","v":""},null,null,null,13,"","","","",null,null,null,"選手　14",0,{"$f":"IFERROR(INDEX($BF$42:$BF$91, SMALL(IF($BF$42:$BF$91<>\"\", ROW($BF$42:$BF$91)-ROW($BF$42)+1), ROW(BC14))), \"\")","v":""},null,null,{"$f":"IFERROR(INDEX($BG$42:$BG$91, SMALL(IF($BG$42:$BG$91<>\"\", ROW($BG$42:$BG$91)-ROW($BG$42)+1), ROW(AB14))), \"\")","v":""},{"$f":"IFERROR(INDEX($BH$42:$BH$91, SMALL(IF($BH$42:$BH$91<>\"\", ROW($BH$42:$BH$91)-ROW($BH$42)+1), ROW(AC14))), \"\")","v":""},null,null,null,null,13,null,{"$f":"IFERROR(VLOOKUP(BO26, BE13:BJ32, 2, FALSE), \"\")","v":""},{"$f":"IFERROR(VLOOKUP(BO26, BE13:BJ32, 5, FALSE), \"\")","v":""},{"$f":"IFERROR(VLOOKUP(BO26, BE13:BJ32, 6, FALSE), \"\")","v":""},null,null,null,13,"","","","",null,null,null,"選手　14",0,{"$f":"IFERROR(INDEX($CG$42:$CG$91, SMALL(IF($CG$42:$CG$91<>\"\", ROW($CG$42:$CG$91)-ROW($CG$42)+1), ROW(CD14))), \"\")","v":""},null,null,{"$f":"IFERROR(INDEX($CH$42:$CH$91, SMALL(IF($CH$42:$CH$91<>\"\", ROW($CH$42:$CH$91)-ROW($CH$42)+1), ROW(BC14))), \"\")","v":""},{"$f":"IFERROR(INDEX($CI$42:$CI$91, SMALL(IF($CI$42:$CI$91<>\"\", ROW($CI$42:$CI$91)-ROW($CI$42)+1), ROW(BD14))), \"\")","v":""},null,null,null,null,13,null,{"$f":"IFERROR(VLOOKUP(CP26, CF13:CK32, 2, FALSE), \"\")","v":""},{"$f":"IFERROR(VLOOKUP(CP26, CF13:CK32, 5, FALSE), \"\")","v":""},{"$f":"IFERROR(VLOOKUP(CP26, CF13:CK32, 6, FALSE), \"\")","v":""},null,null,null,13,"","","",""]
[null,"選手　15",0,{"$f":"IFERROR(INDEX($D$42:$D$91, SMALL(IF($D$42:$D$91<>\"\", ROW($D$42:$D$91)-ROW($D$42)+1), ROW(A15))), \"\")","v":""},null,null,{"$f":"IFERROR(INDEX($E$42:$E$91, SMALL(IF($E$42:$E$91<>\"\", ROW($E$42:$E$91)-ROW($E$42)+1), ROW(A15))), \"\")","v":""},{"$f":"IFERROR(INDEX($F$42:$F$91, SMALL(IF($F$42:$F$91<>\"\", ROW($F$42:$F$91)-ROW($F$42)+1), ROW(B15))), \"\")","v":""},null,null,null,null,14,null,{"$f":"IFERROR(VLOOKUP(M27,C13:H32, 2, FALSE), \"\")","v":""},{"$f":"IFERROR(VLOOKUP(M27, C13:H32, 5, FALSE), \"\")","v":""},{"$f":"IFERROR(VLOOKUP(M27, C13:H32, 6, FALSE), \"\")","v":""},null,null,null,14,"","","","",null,null,null,"選手　15",0,{"$f":"IFERROR(INDEX($AE$42:$AE$91, SMALL(IF($AE$42:$AE$91<>\"\", ROW($AE$42:$AE$91)-ROW($AE$42)+1), ROW(A15))), \"\")","v":""},null,null,{"$f":"IFERROR(INDEX($AF$42:$AF$91, SMALL(IF($AF$42:$AF$91<>\"\", ROW($AF$42:$AF$91)-ROW($AF$42)+1), ROW(A15))), \"\")","v":""},{"$f":"IFERROR(INDEX($AG$42:$AG$91, SMALL(IF($AG$42:$AG$91<>\"\", ROW($AG$42:$AG$91)-ROW($AG$42)+1), ROW(B15))), \"\")","v":""},null,null,null,null,14,null,{"$f":"IFERROR(VLOOKUP(AN27,AD13:AI32, 2, FALSE), \"\")","v":""},{"$f":"IFERROR(VLOOKUP(AN27, AD13:AI32, 5, FALSE), \"\")","v":""},{"$f":"IFERROR(VLOOKUP(AN27, AD13:AI32, 6, FALSE), \"\")","v":""},null,null,null,14,"","","","",null,null,null,"選手　15",0,{"$f":"IFERROR(INDEX($BF$42:$BF$91, SMALL(IF($BF$42:$BF$91<>\"\", ROW($BF$42:$BF$91)-ROW($BF$42)+1), ROW(BC15))), \"\")","v":""},null,null,{"$f":"IFERROR(INDEX($BG$42:$BG$91, SMALL(IF($BG$42:$BG$91<>\"\", ROW($BG$42:$BG$91)-ROW($BG$42)+1), ROW(AB15))), \"\")","v":""},{"$f":"IFERROR(INDEX($BH$42:$BH$91, SMALL(IF($BH$42:$BH$91<>\"\", ROW($BH$42:$BH$91)-ROW($BH$42)+1), ROW(AC15))), \"\")","v":""},null,null,null,null,14,null,{"$f":"IFERROR(VLOOKUP(BO27,BE13:BJ32, 2, FALSE), \"\")","v":""},{"$f":"IFERROR(VLOOKUP(BO27, BE13:BJ32, 5, FALSE), \"\")","v":""},{"$f":"IFERROR(VLOOKUP(BO27, BE13:BJ32, 6, FALSE), \"\")","v":""},null,null,null,14,"","","","",null,null,null,"選手　15",0,{"$f":"IFERROR(INDEX($CG$42:$CG$91, SMALL(IF($CG$42:$CG$91<>\"\", ROW($CG$42:$CG$91)-ROW($CG$42)+1), ROW(CD15))), \"\")","v":""},null,null,{"$f":"IFERROR(INDEX($CH$42:$CH$91, SMALL(IF($CH$42:$CH$91<>\"\", ROW($CH$42:$CH$91)-ROW($CH$42)+1), ROW(BC15))), \"\")","v":""},{"$f":"IFERROR(INDEX($CI$42:$CI$91, SMALL(IF($CI$42:$CI$91<>\"\", ROW($CI$42:$CI$91)-ROW($CI$42)+1), ROW(BD15))), \"\")","v":""},null,null,null,null,14,null,{"$f":"IFERROR(VLOOKUP(CP27,CF13:CK32, 2, FALSE), \"\")","v":""},{"$f":"IFERROR(VLOOKUP(CP27, CF13:CK32, 5, FALSE), \"\")","v":""},{"$f":"IFERROR(VLOOKUP(CP27, CF13:CK32, 6, FALSE), \"\")","v":""},null,null,null,14,"","","",""]
[null,"選手　16",0,{"$f":"IFERROR(INDEX($D$42:$D$91, SMALL(IF($D$42:$D$91<>\"\", ROW($D$42:$D$91)-ROW($D$42)+1), ROW(A16))), \"\")","v":""},null,null,{"$f":"IFERROR(INDEX($E$42:$E$91, SMALL(IF($E$42:$E$91<>\"\", ROW($E$42:$E$91)-ROW($E$42)+1), ROW(A16))), \"\")","v":""},{"$f":"IFERROR(INDEX($F$42:$F$91, SMALL(IF($F$42:$F$91<>\"\", ROW($F$42:$F$91)-ROW($F$42)+1), ROW(B16))), \"\")","v":""},null,null,null,null,15,null,{"$f":"IFERROR(VLOOKUP(M28, C13:H32, 2, FALSE), \"\")","v":""},{"$f":"IFERROR(VLOOKUP(M28, C13:H32, 5, FALSE), \"\")","v":""},{"$f":"IFERROR(VLOOKUP(M28, C13:H32, 6, FALSE), \"\")","v":""},null,null,null,15,"","","","",null,null,null,"選手　16",0,{"$f":"IFERROR(INDEX($AE$42:$AE$91, SMALL(IF($AE$42:$AE$91<>\"\", ROW($AE$42:$AE$91)-ROW($AE$42)+1), ROW(A16))), \"\")","v":""},null,null,{"$f":"IFERROR(INDEX($AF$42:$AF$91, SMALL(IF($AF$42:$AF$91<>\"\", ROW($AF$42:$AF$91)-ROW($AF$42)+1), ROW(A16))), \"\")","v":""},{"$f":"IFERROR(INDEX($AG$42:$AG$91, SMALL(IF($AG$42:$AG$91<>\"\", ROW($AG$42:$AG$91)-ROW($AG$42)+1), ROW(B16))), \"\")","v":""},null,null,null,null,15,null,{"$f":"IFERROR(VLOOKUP(AN28, AD13:AI32, 2, FALSE), \"\")","v":""},{"$f":"IFERROR(VLOOKUP(AN28, AD13:AI32, 5, FALSE), \"\")","v":""},{"$f":"IFERROR(VLOOKUP(AN28, AD13:AI32, 6, FALSE), \"\")","v":""},null,null,null,15,"","","","",null,null,null,"選手　16",0,{"$f":"IFERROR(INDEX($BF$42:$BF$91, SMALL(IF($BF$42:$BF$91<>\"\", ROW($BF$42:$BF$91)-ROW($BF$42)+1), ROW(BC16))), \"\")","v":""},null,null,{"$f":"IFERROR(INDEX($BG$42:$BG$91, SMALL(IF($BG$42:$BG$91<>\"\", ROW($BG$42:$BG$91)-ROW($BG$42)+1), ROW(AB16))), \"\")","v":""},{"$f":"IFERROR(INDEX($BH$42:$BH$91, SMALL(IF($BH$42:$BH$91<>\"\", ROW($BH$42:$BH$91)-ROW($BH$42)+1), ROW(AC16))), \"\")","v":""},null,null,null,null,15,null,{"$f":"IFERROR(VLOOKUP(BO28, BE13:BJ32, 2, FALSE), \"\")","v":""},{"$f":"IFERROR(VLOOKUP(BO28, BE13:BJ32, 5, FALSE), \"\")","v":""},{"$f":"IFERROR(VLOOKUP(BO28, BE13:BJ32, 6, FALSE), \"\")","v":""},null,null,null,15,"","","","",null,null,null,"選手　16",0,{"$f":"IFERROR(INDEX($CG$42:$CG$91, SMALL(IF($CG$42:$CG$91<>\"\", ROW($CG$42:$CG$91)-ROW($CG$42)+1), ROW(CD16))), \"\")","v":""},null,null,{"$f":"IFERROR(INDEX($CH$42:$CH$91, SMALL(IF($CH$42:$CH$91<>\"\", ROW($CH$42:$CH$91)-ROW($CH$42)+1), ROW(BC16))), \"\")","v":""},{"$f":"IFERROR(INDEX($CI$42:$CI$91, SMALL(IF($CI$42:$CI$91<>\"\", ROW($CI$42:$CI$91)-ROW($CI$42)+1), ROW(BD16))), \"\")","v":""},null,null,null,null,15,null,{"$f":"IFERROR(VLOOKUP(CP28, CF13:CK32, 2, FALSE), \"\")","v":""},{"$f":"IFERROR(VLOOKUP(CP28, CF13:CK32, 5, FALSE), \"\")","v":""},{"$f":"IFERROR(VLOOKUP(CP28, CF13:CK32, 6, FALSE), \"\")","v":""},null,null,null,15,"","","",""]
[null,"選手　17",0,{"$f":"IFERROR(INDEX($D$42:$D$91, SMALL(IF($D$42:$D$91<>\"\", ROW($D$42:$D$91)-ROW($D$42)+1), ROW(A17))), \"\")","v":""},null,null,{"$f":"IFERROR(INDEX($E$42:$E$91, SMALL(IF($E$42:$E$91<>\"\", ROW($E$42:$E$91)-ROW($E$42)+1), ROW(A17))), \"\")","v":""},{"$f":"IFERROR(INDEX($F$42:$F$91, SMALL(IF($F$42:$F$91<>\"\", ROW($F$42:$F$91)-ROW($F$42)+1), ROW(B17))), \"\")","v":""},null,null,null,null,16,null,{"$f":"IFERROR(VLOOKUP(M29, C13:H32, 2, FALSE), \"\")","v":""},{"$f":"IFERROR(VLOOKUP(M29, C13:H32, 5, FALSE), \"\")","v":""},{"$f":"IFERROR(VLOOKUP(M29, C13:H32, 6, FALSE), \"\")","v":""},null,null,null,16,"","","","",null,null,null,"選手　17",0,{"$f":"IFERROR(INDEX($AE$42:$AE$91, SMALL(IF($AE$42:$AE$91<>\"\", ROW($AE$42:$AE$91)-ROW($AE$42)+1), ROW(A17))), \"\")","v":""},null,null,{"$f":"IFERROR(INDEX($AF$42:$AF$91, SMALL(IF($AF$42:$AF$91<>\"\", ROW($AF$42:$AF$91)-ROW($AF$42)+1), ROW(A17))), \"\")","v":""},{"$f":"IFERROR(INDEX($AG$42:$AG$91, SMALL(IF($AG$42:$AG$91<>\"\", ROW($AG$42:$AG$91)-ROW($AG$42)+1), ROW(B17))), \"\")","v":""},null,null,null,null,16,null,{"$f":"IFERROR(VLOOKUP(AN29, AD13:AI32, 2, FALSE), \"\")","v":""},{"$f":"IFERROR(VLOOKUP(AN29, AD13:AI32, 5, FALSE), \"\")","v":""},{"$f":"IFERROR(VLOOKUP(AN29, AD13:AI32, 6, FALSE), \"\")","v":""},null,null,null,16,"","","","",null,null,null,"選手　17",0,{"$f":"IFERROR(INDEX($BF$42:$BF$91, SMALL(IF($BF$42:$BF$91<>\"\", ROW($BF$42:$BF$91)-ROW($BF$42)+1), ROW(BC17))), \"\")","v":""},null,null,{"$f":"IFERROR(INDEX($BG$42:$BG$91, SMALL(IF($BG$42:$BG$91<>\"\", ROW($BG$42:$BG$91)-ROW($BG$42)+1), ROW(AB17))), \"\")","v":""},{"$f":"IFERROR(INDEX($BH$42:$BH$91, SMALL(IF($BH$42:$BH$91<>\"\", ROW($BH$42:$BH$91)-ROW($BH$42)+1), ROW(AC17))), \"\")","v":""},null,null,null,null,16,null,{"$f":"IFERROR(VLOOKUP(BO29, BE13:BJ32, 2, FALSE), \"\")","v":""},{"$f":"IFERROR(VLOOKUP(BO29, BE13:BJ32, 5, FALSE), \"\")","v":""},{"$f":"IFERROR(VLOOKUP(BO29, BE13:BJ32, 6, FALSE), \"\")","v":""},null,null,null,16,"","","","",null,null,null,"選手　17",0,{"$f":"IFERROR(INDEX($CG$42:$CG$91, SMALL(IF($CG$42:$CG$91<>\"\", ROW($CG$42:$CG$91)-ROW($CG$42)+1), ROW(CD17))), \"\")","v":""},null,null,{"$f":"IFERROR(INDEX($CH$42:$CH$91, SMALL(IF($CH$42:$CH$91<>\"\", ROW($CH$42:$CH$91)-ROW($CH$42)+1), ROW(BC17))), \"\")","v":""},{"$f":"IFERROR(INDEX($CI$42:$CI$91, SMALL(IF($CI$42:$CI$91<>\"\", ROW($CI$42:$CI$91)-ROW($CI$42)+1), ROW(BD17))), \"\")","v":""},null,null,null,null,16,null,{"$f":"IFERROR(VLOOKUP(CP29, CF13:CK32, 2, FALSE), \"\")","v":""},{"$f":"IFERROR(VLOOKUP(CP29, CF13:CK32, 5, FALSE), \"\")","v":""},{"$f":"IFERROR(VLOOKUP(CP29, CF13:CK32, 6, FALSE), \"\")","v":""},null,null,null,16,"","","",""]
[null,"選手　18",0,{"$f":"IFERROR(INDEX($D$42:$D$91, SMALL(IF($D$42:$D$91<>\"\", ROW($D$42:$D$91)-ROW($D$42)+1), ROW(A18))), \"\")","v":""},null,null,{"$f":"IFERROR(INDEX($E$42:$E$91, SMALL(IF($E$42:$E$91<>\"\", ROW($E$42:$E$91)-ROW($E$42)+1), ROW(A18))), \"\")","v":""},{"$f":"IFERROR(INDEX($F$42:$F$91, SMALL(IF($F$42:$F$91<>\"\", ROW($F$42:$F$91)-ROW($F$42)+1), ROW(B18))), \"\")","v":""},null,null,null,null,17,null,{"$f":"IFERROR(VLOOKUP(M30, C13:H32, 2, FALSE), \"\")","v":""},{"$f":"IFERROR(VLOOKUP(M30, C13:H32, 5, FALSE), \"\")","v":""},{"$f":"IFERROR(VLOOKUP(M30, C13:H32, 6, FALSE), \"\")","v":""},null,null,null,17,"","","","",null,null,null,"選手　18",0,{"$f":"IFERROR(INDEX($AE$42:$AE$91, SMALL(IF($AE$42:$AE$91<>\"\", ROW($AE$42:$AE$91)-ROW($AE$42)+1), ROW(A18))), \"\")","v":""},null,null,{"$f":"IFERROR(INDEX($AF$42:$AF$91, SMALL(IF($AF$42:$AF$91<>\"\", ROW($AF$42:$AF$91)-ROW($AF$42)+1), ROW(A18))), \"\")","v":""},{"$f":"IFERROR(INDEX($AG$42:$AG$91, SMALL(IF($AG$42:$AG$91<>\"\", ROW($AG$42:$AG$91)-ROW($AG$42)+1), ROW(B18))), \"\")","v":""},null,null,null,null,17,null,{"$f":"IFERROR(VLOOKUP(AN30, AD13:AI32, 2, FALSE), \"\")","v":""},{"$f":"IFERROR(VLOOKUP(AN30, AD13:AI32, 5, FALSE), \"\")","v":""},{"$f":"IFERROR(VLOOKUP(AN30, AD13:AI32, 6, FALSE), \"\")","v":""},null,null,null,17,"","","","",null,null,null,"選手　18",0,{"$f":"IFERROR(INDEX($BF$42:$BF$91, SMALL(IF($BF$42:$BF$91<>\"\", ROW($BF$42:$BF$91)-ROW($BF$42)+1), ROW(BC18))), \"\")","v":""},null,null,{"$f":"IFERROR(INDEX($BG$42:$BG$91, SMALL(IF($BG$42:$BG$91<>\"\", ROW($BG$42:$BG$91)-ROW($BG$42)+1), ROW(AB18))), \"\")","v":""},{"$f":"IFERROR(INDEX($BH$42:$BH$91, SMALL(IF($BH$42:$BH$91<>\"\", ROW($BH$42:$BH$91)-ROW($BH$42)+1), ROW(AC18))), \"\")","v":""},null,null,null,null,17,null,{"$f":"IFERROR(VLOOKUP(BO30, BE13:BJ32, 2, FALSE), \"\")","v":""},{"$f":"IFERROR(VLOOKUP(BO30, BE13:BJ32, 5, FALSE), \"\")","v":""},{"$f":"IFERROR(VLOOKUP(BO30, BE13:BJ32, 6, FALSE), \"\")","v":""},null,null,null,17,"","","","",null,null,null,"選手　18",0,{"$f":"IFERROR(INDEX($CG$42:$CG$91, SMALL(IF($CG$42:$CG$91<>\"\", ROW($CG$42:$CG$91)-ROW($CG$42)+1), ROW(CD18))), \"\")","v":""},null,null,{"$f":"IFERROR(INDEX($CH$42:$CH$91, SMALL(IF($CH$42:$CH$91<>\"\", ROW($CH$42:$CH$91)-ROW($CH$42)+1), ROW(BC18))), \"\")","v":""},{"$f":"IFERROR(INDEX($CI$42:$CI$91, SMALL(IF($CI$42:$CI$91<>\"\", ROW($CI$42:$CI$91)-ROW($CI$42)+1), ROW(BD18))), \"\")","v":""},null,null,null,null,17,null,{"$f":"IFERROR(VLOOKUP(CP30, CF13:CK32, 2, FALSE), \"\")","v":""},{"$f":"IFERROR(VLOOKUP(CP30, CF13:CK32, 5, FALSE), \"\")","v":""},{"$f":"IFERROR(VLOOKUP(CP30, CF13:CK32, 6, FALSE), \"\")","v":""},null,null,null,17,"","","",""]
[null,"選手　19",0,{"$f":"IFERROR(INDEX($D$42:$D$91, SMALL(IF($D$42:$D$91<>\"\", ROW($D$42:$D$91)-ROW($D$42)+1), ROW(A19))), \"\")","v":""},null,null,{"$f":"IFERROR(INDEX($E$42:$E$91, SMALL(IF($E$42:$E$91<>\"\", ROW($E$42:$E$91)-ROW($E$42)+1), ROW(A19))), \"\")","v":""},{"$f":"IFERROR(INDEX($F$42:$F$91, SMALL(IF($F$42:$F$91<>\"\", ROW($F$42:$F$91)-ROW($F$42)+1), ROW(B19))), \"\")","v":""},null,null,null,null,18,null,{"$f":"IFERROR(VLOOKUP(M31, C13:H32, 2, FALSE), \"\")","v":""},{"$f":"IFERROR(VLOOKUP(M31, C13:H32, 5, FALSE), \"\")","v":""},{"$f":"IFERROR(VLOOKUP(M31, C13:H32, 6, FALSE), \"\")","v":""},null,null,null,18,"","","","",null,null,null,"選手　19",0,{"$f":"IFERROR(INDEX($AE$42:$AE$91, SMALL(IF($AE$42:$AE$91<>\"\", ROW($AE$42:$AE$91)-ROW($AE$42)+1), ROW(A19))), \"\")","v":""},null,null,{"$f":"IFERROR(INDEX($AF$42:$AF$91, SMALL(IF($AF$42:$AF$91<>\"\", ROW($AF$42:$AF$91)-ROW($AF$42)+1), ROW(A19))), \"\")","v":""},{"$f":"IFERROR(INDEX($AG$42:$AG$91, SMALL(IF($AG$42:$AG$91<>\"\", ROW($AG$42:$AG$91)-ROW($AG$42)+1), ROW(B19))), \"\")","v":""},null,null,null,null,18,null,{"$f":"IFERROR(VLOOKUP(AN31, AD13:AI32, 2, FALSE), \"\")","v":""},{"$f":"IFERROR(VLOOKUP(AN31, AD13:AI32, 5, FALSE), \"\")","v":""},{"$f":"IFERROR(VLOOKUP(AN31, AD13:AI32, 6, FALSE), \"\")","v":""},null,null,null,18,"","","","",null,null,null,"選手　19",0,{"$f":"IFERROR(INDEX($BF$42:$BF$91, SMALL(IF($BF$42:$BF$91<>\"\", ROW($BF$42:$BF$91)-ROW($BF$42)+1), ROW(BC19))), \"\")","v":""},null,null,{"$f":"IFERROR(INDEX($BG$42:$BG$91, SMALL(IF($BG$42:$BG$91<>\"\", ROW($BG$42:$BG$91)-ROW($BG$42)+1), ROW(AB19))), \"\")","v":""},{"$f":"IFERROR(INDEX($BH$42:$BH$91, SMALL(IF($BH$42:$BH$91<>\"\", ROW($BH$42:$BH$91)-ROW($BH$42)+1), ROW(AC19))), \"\")","v":""},null,null,null,null,18,null,{"$f":"IFERROR(VLOOKUP(BO31, BE13:BJ32, 2, FALSE), \"\")","v":""},{"$f":"IFERROR(VLOOKUP(BO31, BE13:BJ32, 5, FALSE), \"\")","v":""},{"$f":"IFERROR(VLOOKUP(BO31, BE13:BJ32, 6, FALSE), \"\")","v":""},null,null,null,18,"","","","",null,null,null,"選手　19",0,{"$f":"IFERROR(INDEX($CG$42:$CG$91, SMALL(IF($CG$42:$CG$91<>\"\", ROW($CG$42:$CG$91)-ROW($CG$42)+1), ROW(CD19))), \"\")","v":""},null,null,{"$f":"IFERROR(INDEX($CH$42:$CH$91, SMALL(IF($CH$42:$CH$91<>\"\", ROW($CH$42:$CH$91)-ROW($CH$42)+1), ROW(BC19))), \"\")","v":""},{"$f":"IFERROR(INDEX($CI$42:$CI$91, SMALL(IF($CI$42:$CI$91<>\"\", ROW($CI$42:$CI$91)-ROW($CI$42)+1), ROW(BD19))), \"\")","v":""},null,null,null,null,18,null,{"$f":"IFERROR(VLOOKUP(CP31, CF13:CK32, 2, FALSE), \"\")","v":""},{"$f":"IFERROR(VLOOKUP(CP31, CF13:CK32, 5, FALSE), \"\")","v":""},{"$f":"IFERROR(VLOOKUP(CP31, CF13:CK32, 6, FALSE), \"\")","v":""},null,null,null,18,"","","",""]
[null,"選手　20",0,{"$f":"IFERROR(INDEX($D$42:$D$91, SMALL(IF($D$42:$D$91<>\"\", ROW($D$42:$D$91)-ROW($D$42)+1), ROW(A20))), \"\")","v":""},null,null,{"$f":"IFERROR(INDEX($E$42:$E$91, SMALL(IF($E$42:$E$91<>\"\", ROW($E$42:$E$91)-ROW($E$42)+1), ROW(A20))), \"\")","v":""},{"$f":"IFERROR(INDEX($F$42:$F$91, SMALL(IF($F$42:$F$91<>\"\", ROW($F$42:$F$91)-ROW($F$42)+1), ROW(B20))), \"\")","v":""},null,null,null,null,null,null,null,null,null,null,null,null,null,null,null,null,null,null,null,null,"選手　20",0,{"$f":"IFERROR(INDEX($AE$42:$AE$91, SMALL(IF($AE$42:$AE$91<>\"\", ROW($AE$42:$AE$91)-ROW($AE$42)+1), ROW(A20))), \"\")","v":""},null,null,{"$f":"IFERROR(INDEX($AF$42:$AF$91, SMALL(IF($AF$42:$AF$91<>\"\", ROW($AF$42:$AF$91)-ROW($AF$42)+1), ROW(A20))), \"\")","v":""},{"$f":"IFERROR(INDEX($AG$42:$AG$91, SMALL(IF($AG$42:$AG$91<>\"\", ROW($AG$42:$AG$91)-ROW($AG$42)+1), ROW(B20))), \"\")","v":""},null,null,null,null,null,null,null,null,null,null,null,null,null,null,null,null,null,null,null,null,"選手　20",0,{"$f":"IFERROR(INDEX($BF$42:$BF$91, SMALL(IF($BF$42:$BF$91<>\"\", ROW($BF$42:$BF$91)-ROW($BF$42)+1), ROW(BC20))), \"\")","v":""},null,null,{"$f":"IFERROR(INDEX($BG$42:$BG$91, SMALL(IF($BG$42:$BG$91<>\"\", ROW($BG$42:$BG$91)-ROW($BG$42)+1), ROW(AB20))), \"\")","v":""},{"$f":"IFERROR(INDEX($BH$42:$BH$91, SMALL(IF($BH$42:$BH$91<>\"\", ROW($BH$42:$BH$91)-ROW($BH$42)+1), ROW(AC20))), \"\")","v":""},null,null,null,null,null,null,null,null,null,null,null,null,null,null,null,null,null,null,null,null,"選手　20",0,{"$f":"IFERROR(INDEX($CG$42:$CG$91, SMALL(IF($CG$42:$CG$91<>\"\", ROW($CG$42:$CG$91)-ROW($CG$42)+1), ROW(CD20))), \"\")","v":""},null,null,{"$f":"IFERROR(INDEX($CH$42:$CH$91, SMALL(IF($CH$42:$CH$91<>\"\", ROW($CH$42:$CH$91)-ROW($CH$42)+1), ROW(BC20))), \"\")","v":""},{"$f":"IFERROR(INDEX($CI$42:$CI$91, SMALL(IF($CI$42:$CI$91<>\"\", ROW($CI$42:$CI$91)-ROW($CI$42)+1), ROW(BD20))), \"\")","v":""}]
[]
[null,"主審氏名",null,{"$f":"IFERROR(VLOOKUP(D35, 登録名簿!A11:G60, 3, FALSE), \"\")","v":""},null,"副審氏名",{"$f":"IFERROR(VLOOKUP(G35, 登録名簿!A11:G60, 3, FALSE), \"\")","v":""},null,"記録係",{"$f":"IFERROR(VLOOKUP(J35, 登録名簿!A11:G60, 3, FALSE), \"\")","v":""},null,null,"キャプテンは番号右横に〇を付ける",null,null,null,null,null,null,null,"キャプテンは番号右横に〇を付ける",null,null,null,null,null,null,null,"主審氏名",null,{"$f":"IFERROR(VLOOKUP(AE35, 登録名簿!A11:G60, 3, FALSE), \"\")","v":""},null,"副審氏名",{"$f":"IFERROR(VLOOKUP(AH35, 登録名簿!A11:G60, 3, FALSE), \"\")","v":""},null,"記録係",{"$f":"IFERROR(VLOOKUP(AK35, 登録名簿!A11:G60, 3, FALSE), \"\")","v":""},null,null,"キャプテンは番号右横に〇を付ける",null,null,null,null,null,null,null,"キャプテンは番号右横に〇を付ける",null,null,null,null,null,null,null,"主審氏名",null,{"$f":"IFERROR(VLOOKUP(BF35, 登録名簿!A11:G60, 3, FALSE), \"\")","v":""},null,"副審氏名",{"$f":"IFERROR(VLOOKUP(BI35, 登録名簿!A11:G60, 3, FALSE), \"\")","v":""},null,"記録係",{"$f":"IFERROR(VLOOKUP(BL35, 登録名簿!A11:G60, 3, FALSE), \"\")","v":""},null,null,"キャプテンは番号右横に〇を付ける",null,null,null,null,null,null,null,"キャプテンは番号右横に〇を付ける",null,null,null,null,null,null,null,"主審氏名",null,{"$f":"IFERROR(VLOOKUP(CG35, 登録名簿!A11:G60, 3, FALSE), \"\")","v":""},null,"副審氏名",{"$f":"IFERROR(VLOOKUP(CJ35, 登録名簿!A11:G60, 3, FALSE), \"\")","v":""},null,"記録係",{"$f":"IFERROR(VLOOKUP(CM35, 登録名簿!A11:G60, 3, FALSE), \"\")","v":""},null,null,"キャプテンは番号右横に〇を付ける",null,null,null,null,null,null,null,"キャプテンは番号右横に〇を付ける"]
[null,"※下記に注釈",null,null,null,null,null,null,null,null,null,null,"キャプテンサイン",null,null,null,null,null,null,null,"キャプテンサイン",null,null,null,null,null,null,null,"※下記に注釈",null,null,null,null,null,null,null,null,null,null,"キャプテンサイン",null,null,null,null,null,null,null,"キャプテンサイン",null,null,null,null,null,null,null,"※下記に注釈",null,null,null,null,null,null,null,null,null,null,"キャプテンサイン",null,null,null,null,null,null,null,"キャプテンサイン",null,null,null,null,null,null,null,"※下記に注釈",null,null,null,null,null,null,null,null,null,null,"キャプテンサイン",null,null,null,null,null,null,null,"キャプテンサイン"]
[null,"※注1　種目の該当項目を○で囲み、選手名・大会審判員・記録係を記入して下さい。",null,null,null,null,null,null,null,null,null,null,null,null,null,null,null,null,null,null,null,null,null,null,null,null,null,null,"※注1　種目の該当項目を○で囲み、選手名・大会審判員・記録係を記入して下さい。",null,null,null,null,null,null,null,null,null,null,null,null,null,null,null,null,null,null,null,null,null,null,null,null,null,null,"※注1　種目の該当項目を○で囲み、選手名・大会審判員・記録係を記入して下さい。",null,null,null,null,null,null,null,null,null,null,null,null,null,null,null,null,null,null,null,null,null,null,null,null,null,null,"※注1　種目の該当項目を○で囲み、選手名・大会審判員・記録係を記入して下さい。"]
[null,"※注2　女子のゴールド45歳～49歳、シルバー30歳代の選手は申告欄に○印を記入して下さい。",null,null,null,null,null,null,null,null,null,null,null,null,null,null,null,null,null,null,null,null,null,null,null,null,null,null,"※注2　女子のゴールド45歳～49歳、シルバー30歳代の選手は申告欄に○印を記入して下さい。",null,null,null,null,null,null,null,null,null,null,null,null,null,null,null,null,null,null,null,null,null,null,null,null,null,null,"※注2　女子のゴールド45歳～49歳、シルバー30歳代の選手は申告欄に○印を記入して下さい。",null,null,null,null,null,null,null,null,null,null,null,null,null,null,null,null,null,null,null,null,null,null,null,null,null,null,"※注2　女子のゴールド45歳～49歳、シルバー30歳代の選手は申告欄に○印を記入して下さい。"]
[null,"※注3　キャプテンは申告欄に◎印を記入して下さい。",null,null,null,null,null,null,null,null,null,null,null,null,null,null,null,null,null,null,null,null,null,null,null,null,null,null,"※注3　キャプテンは申告欄に◎印を記入して下さい。",null,null,null,null,null,null,null,null,null,null,null,null,null,null,null,null,null,null,null,null,null,null,null,null,null,null,"※注3　キャプテンは申告欄に◎印を記入して下さい。",null,null,null,null,null,null,null,null,null,null,null,null,null,null,null,null,null,null,null,null,null,null,null,null,null,null,"※注3　キャプテンは申告欄に◎印を記入して下さい。"]
[null,null,null,null,null,null,null,null,"金沢市中高年トリムバレーボール連盟",null,null,null,null,null,null,null,null,null,null,null,null,null,null,null,null,null,null,null,null,null,null,null,null,null,null,"金沢市中高年トリムバレーボール連盟",null,null,null,null,null,null,null,null,null,null,null,null,null,null,null,null,null,null,null,null,null,null,null,null,null,null,"金沢市中高年トリムバレーボール連盟",null,null,null,null,null,null,null,null,null,null,null,null,null,null,null,null,null,null,null,null,null,null,null,null,null,null,"金沢市中高年トリムバレーボール連盟"]
[]
[]
[null,1,null,{"$f":"IF(登録名簿!$T$11=\"〇\",登録名簿!$C$11,\"\")","v":""},{"$f":"IF(登録名簿!$T$11=\"〇\",OFFSET(登録名簿!$C$11,0,2,,),\"\")","v":""},{"$f":"IF(登録名簿!$T$11=\"〇\",OFFSET(登録名簿!$C$11,0,4,,),\"\")","v":""},null,null,null,null,null,null,null,null,null,null,null,null,null,null,null,null,null,null,null,null,null,null,1,null,{"$f":"IF(登録名簿!$U$11=\"〇\",登録名簿!$C$11,\"\")","v":""},{"$f":"IF(登録名簿!$U$11=\"〇\",OFFSET(登録名簿!$C$11,0,2,,),\"\")","v":""},{"$f":"IF(登録名簿!$U$11=\"〇\",OFFSET(登録名簿!$C$11,0,4,,),\"\")","v":""},null,null,null,null,null,null,null,null,null,null,null,null,null,null,null,null,null,null,null,null,null,null,1,null,{"$f":"IF(登録名簿!$V$11=\"〇\",登録名簿!$C$11,\"\")","v":""},{"$f":"IF(登録名簿!$V$11=\"〇\",OFFSET(登録名簿!$C$11,0,2,,),\"\")","v":""},{"$f":"IF(登録名簿!$V$11=\"〇\",OFFSET(登録名簿!$C$11,0,4,,),\"\")","v":""},null,null,null,null,null,null,null,null,null,null,null,null,null,null,null,null,null,null,null,null,null,null,1,null,{"$f":"IF(登録名簿!$W$11=\"〇\",登録名簿!$C$11,\"\")","v":""},{"$f":"IF(登録名簿!$W$11=\"〇\",OFFSET(登録名簿!$C$11,0,2,,),\"\")","v":""},{"$f":"IF(登録名簿!$W$11=\"〇\",OFFSET(登録名簿!$C$11,0,4,,),\"\")","v":""}]
[null,2,null,{"$f":"IF(登録名簿!$T$12=\"〇\",登録名簿!$C$12,\"\")","v":""},{"$f":"IF(登録名簿!$T$12=\"〇\",OFFSET(登録名簿!$C$12,0,2,,),\"\")","v":""},{"$f":"IF(登録名簿!$T$12=\"〇\",OFFSET(登録名簿!$C$12,0,4,,),\"\")","v":""},null,null,null,null,null,null,null,null,null,null,null,null,null,null,null,null,null,null,null,null,null,null,2,null,{"$f":"IF(登録名簿!$U$12=\"〇\",登録名簿!$C$12,\"\")","v":""},{"$f":"IF(登録名簿!$U$12=\"〇\",OFFSET(登録名簿!$C$12,0,2,,),\"\")","v":""},{"$f":"IF(登録名簿!$U$12=\"〇\",OFFSET(登録名簿!$C$12,0,4,,),\"\")","v":""},null,null,null,null,null,null,null,null,null,null,null,null,null,null,null,null,null,null,null,null,null,null,2,null,{"$f":"IF(登録名簿!$V$12=\"〇\",登録名簿!$C$12,\"\")","v":""},{"$f":"IF(登録名簿!$V$12=\"〇\",OFFSET(登録名簿!$C$12,0,2,,),\"\")","v":""},{"$f":"IF(登録名簿!$V$12=\"〇\",OFFSET(登録名簿!$C$12,0,4,,),\"\")","v":""},null,null,null,null,null,null,null,null,null,null,null,null,null,null,null,null,null,null,null,null,null,null,2,null,{"$f":"IF(登録名簿!$W$12=\"〇\",登録名簿!$C$12,\"\")","v":""},{"$f":"IF(登録名簿!$W$12=\"〇\",OFFSET(登録名簿!$C$12,0,2,,),\"\")","v":""},{"$f":"IF(登録名簿!$W$12=\"〇\",OFFSET(登録名簿!$C$12,0,4,,),\"\")","v":""}]
[null,3,null,{"$f":"IF(登録名簿!$T$13=\"〇\",登録名簿!$C$13,\"\")","v":""},{"$f":"IF(登録名簿!$T$13=\"〇\",OFFSET(登録名簿!$C$13,0,2,,),\"\")","v":""},{"$f":"IF(登録名簿!$T$13=\"〇\",OFFSET(登録名簿!$C$13,0,4,,),\"\")","v":""},null,null,null,null,null,null,null,null,null,null,null,null,null,null,null,null,null,null,null,null,null,null,3,null,{"$f":"IF(登録名簿!$U$13=\"〇\",登録名簿!$C$13,\"\")","v":""},{"$f":"IF(登録名簿!$U$13=\"〇\",OFFSET(登録名簿!$C$13,0,2,,),\"\")","v":""},{"$f":"IF(登録名簿!$U$13=\"〇\",OFFSET(登録名簿!$C$13,0,4,,),\"\")","v":""},null,null,null,null,null,null,null,null,null,null,null,null,null,null,null,null,null,null,null,null,null,null,3,null,{"$f":"IF(登録名簿!$V$13=\"〇\",登録名簿!$C$13,\"\")","v":""},{"$f":"IF(登録名簿!$V$13=\"〇\",OFFSET(登録名簿!$C$13,0,2,,),\"\")","v":""},{"$f":"IF(登録名簿!$V$13=\"〇\",OFFSET(登録名簿!$C$13,0,4,,),\"\")","v":""},null,null,null,null,null,null,null,null,null,null,null,null,null,null,null,null,null,null,null,null,null,null,3,null,{"$f":"IF(登録名簿!$W$13=\"〇\",登録名簿!$C$13,\"\")","v":""},{"$f":"IF(登録名簿!$W$13=\"〇\",OFFSET(登録名簿!$C$13,0,2,,),\"\")","v":""},{"$f":"IF(登録名簿!$W$13=\"〇\",OFFSET(登録名簿!$C$13,0,4,,),\"\")","v":""}]
[null,4,null,{"$f":"IF(登録名簿!$T$14=\"〇\",登録名簿!$C$14,\"\")","v":""},{"$f":"IF(登録名簿!$T$14=\"〇\",OFFSET(登録名簿!$C$14,0,2,,),\"\")","v":""},{"$f":"IF(登録名簿!$T$14=\"〇\",OFFSET(登録名簿!$C$14,0,4,,),\"\")","v":""},null,null,null,null,null,null,null,null,null,null,null,null,null,null,null,null,null,null,null,null,null,null,4,null,{"$f":"IF(登録名簿!$U$14=\"〇\",登録名簿!$C$14,\"\")","v":""},{"$f":"IF(登録名簿!$U$14=\"〇\",OFFSET(登録名簿!$C$14,0,2,,),\"\")","v":""},{"$f":"IF(登録名簿!$U$14=\"〇\",OFFSET(登録名簿!$C$14,0,4,,),\"\")","v":""},null,null,null,null,null,null,null,null,null,null,null,null,null,null,null,null,null,null,null,null,null,null,4,null,{"$f":"IF(登録名簿!$V$14=\"〇\",登録名簿!$C$14,\"\")","v":""},{"$f":"IF(登録名簿!$V$14=\"〇\",OFFSET(登録名簿!$C$14,0,2,,),\"\")","v":""},{"$f":"IF(登録名簿!$V$14=\"〇\",OFFSET(登録名簿!$C$14,0,4,,),\"\")","v":""},null,null,null,null,null,null,null,null,null,null,null,null,null,null,null,null,null,null,null,null,null,null,4,null,{"$f":"IF(登録名簿!$W$14=\"〇\",登録名簿!$C$14,\"\")","v":""},{"$f":"IF(登録名簿!$W$14=\"〇\",OFFSET(登録名簿!$C$14,0,2,,),\"\")","v":""},{"$f":"IF(登録名簿!$W$14=\"〇\",OFFSET(登録名簿!$C$14,0,4,,),\"\")","v":""}]
[null,5,null,{"$f":"IF(登録名簿!$T$15=\"〇\",登録名簿!$C$15,\"\")","v":""},{"$f":"IF(登録名簿!$T$15=\"〇\",OFFSET(登録名簿!$C$15,0,2,,),\"\")","v":""},{"$f":"IF(登録名簿!$T$15=\"〇\",OFFSET(登録名簿!$C$15,0,4,,),\"\")","v":""},null,null,null,null,null,null,null,null,null,null,null,null,null,null,null,null,null,null,null,null,null,null,5,null,{"$f":"IF(登録名簿!$U$15=\"〇\",登録名簿!$C$15,\"\")","v":""},{"$f":"IF(登録名簿!$U$15=\"〇\",OFFSET(登録名簿!$C$15,0,2,,),\"\")","v":""},{"$f":"IF(登録名簿!$U$15=\"〇\",OFFSET(登録名簿!$C$15,0,4,,),\"\")","v":""},null,null,null,null,null,null,null,null,null,null,null,null,null,null,null,null,null,null,null,null,null,null,5,null,{"$f":"IF(登録名簿!$V$15=\"〇\",登録名簿!$C$15,\"\")","v":""},{"$f":"IF(登録名簿!$V$15=\"〇\",OFFSET(登録名簿!$C$15,0,2,,),\"\")","v":""},{"$f":"IF(登録名簿!$V$15=\"〇\",OFFSET(登録名簿!$C$15,0,4,,),\"\")","v":""},null,null,null,null,null,null,null,null,null,null,null,null,null,null,null,null,null,null,null,null,null,null,5,null,{"$f":"IF(登録名簿!$W$15=\"〇\",登録名簿!$C$15,\"\")","v":""},{"$f":"IF(登録名簿!$W$15=\"〇\",OFFSET(登録名簿!$C$15,0,2,,),\"\")","v":""},{"$f":"IF(登録名簿!$W$15=\"〇\",OFFSET(登録名簿!$C$15,0,4,,),\"\")","v":""}]
[null,6,null,{"$f":"IF(登録名簿!$T$16=\"〇\",登録名簿!$C$16,\"\")","v":""},{"$f":"IF(登録名簿!$T$16=\"〇\",OFFSET(登録名簿!$C$16,0,2,,),\"\")","v":""},{"$f":"IF(登録名簿!$T$16=\"〇\",OFFSET(登録名簿!$C$16,0,4,,),\"\")","v":""},null,null,null,null,null,null,null,null,null,null,null,null,null,null,null,null,null,null,null,null,null,null,6,null,{"$f":"IF(登録名簿!$U$16=\"〇\",登録名簿!$C$16,\"\")","v":""},{"$f":"IF(登録名簿!$U$16=\"〇\",OFFSET(登録名簿!$C$16,0,2,,),\"\")","v":""},{"$f":"IF(登録名簿!$U$16=\"〇\",OFFSET(登録名簿!$C$16,0,4,,),\"\")","v":""},null,null,null,null,null,null,null,null,null,null,null,null,null,null,null,null,null,null,null,null,null,null,6,null,{"$f":"IF(登録名簿!$V$16=\"〇\",登録名簿!$C$16,\"\")","v":""},{"$f":"IF(登録名簿!$V$16=\"〇\",OFFSET(登録名簿!$C$16,0,2,,),\"\")","v":""},{"$f":"IF(登録名簿!$V$16=\"〇\",OFFSET(登録名簿!$C$16,0,4,,),\"\")","v":""},null,null,null,null,null,null,null,null,null,null,null,null,null,null,null,null,null,null,null,null,null,null,6,null,{"$f":"IF(登録名簿!$W$16=\"〇\",登録名簿!$C$16,\"\")","v":""},{"$f":"IF(登録名簿!$W$16=\"〇\",OFFSET(登録名簿!$C$16,0,2,,),\"\")","v":""},{"$f":"IF(登録名簿!$W$16=\"〇\",OFFSET(登録名簿!$C$16,0,4,,),\"\")","v":""}]
[null,7,null,{"$f":"IF(登録名簿!$T$17=\"〇\",登録名簿!$C$17,\"\")","v":""},{"$f":"IF(登録名簿!$T$17=\"〇\",OFFSET(登録名簿!$C$17,0,2,,),\"\")","v":""},{"$f":"IF(登録名簿!$T$17=\"〇\",OFFSET(登録名簿!$C$17,0,4,,),\"\")","v":""},null,null,null,null,null,null,null,null,null,null,null,null,null,null,null,null,null,null,null,null,null,null,7,null,{"$f":"IF(登録名簿!$U$17=\"〇\",登録名簿!$C$17,\"\")","v":""},{"$f":"IF(登録名簿!$U$17=\"〇\",OFFSET(登録名簿!$C$17,0,2,,),\"\")","v":""},{"$f":"IF(登録名簿!$U$17=\"〇\",OFFSET(登録名簿!$C$17,0,4,,),\"\")","v":""},null,null,null,null,null,null,null,null,null,null,null,null,null,null,null,null,null,null,null,null,null,null,7,null,{"$f":"IF(登録名簿!$V$17=\"〇\",登録名簿!$C$17,\"\")","v":""},{"$f":"IF(登録名簿!$V$17=\"〇\",OFFSET(登録名簿!$C$17,0,2,,),\"\")","v":""},{"$f":"IF(登録名簿!$V$17=\"〇\",OFFSET(登録名簿!$C$17,0,4,,),\"\")","v":""},null,null,null,null,null,null,null,null,null,null,null,null,null,null,null,null,null,null,null,null,null,null,7,null,{"$f":"IF(登録名簿!$W$17=\"〇\",登録名簿!$C$17,\"\")","v":""},{"$f":"IF(登録名簿!$W$17=\"〇\",OFFSET(登録名簿!$C$17,0,2,,),\"\")","v":""},{"$f":"IF(登録名簿!$W$17=\"〇\",OFFSET(登録名簿!$C$17,0,4,,),\"\")","v":""}]
[null,8,null,{"$f":"IF(登録名簿!$T$18=\"〇\",登録名簿!$C$18,\"\")","v":""},{"$f":"IF(登録名簿!$T$18=\"〇\",OFFSET(登録名簿!$C$18,0,2,,),\"\")","v":""},{"$f":"IF(登録名簿!$T$18=\"〇\",OFFSET(登録名簿!$C$18,0,4,,),\"\")","v":""},null,null,null,null,null,null,null,null,null,null,null,null,null,null,null,null,null,null,null,null,null,null,8,null,{"$f":"IF(登録名簿!$U$18=\"〇\",登録名簿!$C$18,\"\")","v":""},{"$f":"IF(登録名簿!$U$18=\"〇\",OFFSET(登録名簿!$C$18,0,2,,),\"\")","v":""},{"$f":"IF(登録名簿!$U$18=\"〇\",OFFSET(登録名簿!$C$18,0,4,,),\"\")","v":""},null,null,null,null,null,null,null,null,null,null,null,null,null,null,null,null,null,null,null,null,null,null,8,null,{"$f":"IF(登録名簿!$V$18=\"〇\",登録名簿!$C$18,\"\")","v":""},{"$f":"IF(登録名簿!$V$18=\"〇\",OFFSET(登録名簿!$C$18,0,2,,),\"\")","v":""},{"$f":"IF(登録名簿!$V$18=\"〇\",OFFSET(登録名簿!$C$18,0,4,,),\"\")","v":""},null,null,null,null,null,null,null,null,null,null,null,null,null,null,null,null,null,null,null,null,null,null,8,null,{"$f":"IF(登録名簿!$W$18=\"〇\",登録名簿!$C$18,\"\")","v":""},{"$f":"IF(登録名簿!$W$18=\"〇\",OFFSET(登録名簿!$C$18,0,2,,),\"\")","v":""},{"$f":"IF(登録名簿!$W$18=\"〇\",OFFSET(登録名簿!$C$18,0,4,,),\"\")","v":""}]
[null,9,null,{"$f":"IF(登録名簿!$T$19=\"〇\",登録名簿!$C$19,\"\")","v":""},{"$f":"IF(登録名簿!$T$19=\"〇\",OFFSET(登録名簿!$C$19,0,2,,),\"\")","v":""},{"$f":"IF(登録名簿!$T$19=\"〇\",OFFSET(登録名簿!$C$19,0,4,,),\"\")","v":""},null,null,null,null,null,null,null,null,null,null,null,null,null,null,null,null,null,null,null,null,null,null,9,null,{"$f":"IF(登録名簿!$U$19=\"〇\",登録名簿!$C$19,\"\")","v":""},{"$f":"IF(登録名簿!$U$19=\"〇\",OFFSET(登録名簿!$C$19,0,2,,),\"\")","v":""},{"$f":"IF(登録名簿!$U$19=\"〇\",OFFSET(登録名簿!$C$19,0,4,,),\"\")","v":""},null,null,null,null,null,null,null,null,null,null,null,null,null,null,null,null,null,null,null,null,null,null,9,null,{"$f":"IF(登録名簿!$V$19=\"〇\",登録名簿!$C$19,\"\")","v":""},{"$f":"IF(登録名簿!$V$19=\"〇\",OFFSET(登録名簿!$C$19,0,2,,),\"\")","v":""},{"$f":"IF(登録名簿!$V$19=\"〇\",OFFSET(登録名簿!$C$19,0,4,,),\"\")","v":""},null,null,null,null,null,null,null,null,null,null,null,null,null,null,null,null,null,null,null,null,null,null,9,null,{"$f":"IF(登録名簿!$W$19=\"〇\",登録名簿!$C$19,\"\")","v":""},{"$f":"IF(登録名簿!$W$19=\"〇\",OFFSET(登録名簿!$C$19,0,2,,),\"\")","v":""},{"$f":"IF(登録名簿!$W$19=\"〇\",OFFSET(登録名簿!$C$19,0,4,,),\"\")","v":""}]
[null,10,null,{"$f":"IF(登録名簿!$T$20=\"〇\",登録名簿!$C$20,\"\")","v":""},{"$f":"IF(登録名簿!$T$20=\"〇\",OFFSET(登録名簿!$C$20,0,2,,),\"\")","v":""},{"$f":"IF(登録名簿!$T$20=\"〇\",OFFSET(登録名簿!$C$20,0,4,,),\"\")","v":""},null,null,null,null,null,null,null,null,null,null,null,null,null,null,null,null,null,null,null,null,null,null,10,null,{"$f":"IF(登録名簿!$U$20=\"〇\",登録名簿!$C$20,\"\")","v":""},{"$f":"IF(登録名簿!$U$20=\"〇\",OFFSET(登録名簿!$C$20,0,2,,),\"\")","v":""},{"$f":"IF(登録名簿!$U$20=\"〇\",OFFSET(登録名簿!$C$20,0,4,,),\"\")","v":""},null,null,null,null,null,null,null,null,null,null,null,null,null,null,null,null,null,null,null,null,null,null,10,null,{"$f":"IF(登録名簿!$V$20=\"〇\",登録名簿!$C$20,\"\")","v":""},{"$f":"IF(登録名簿!$V$20=\"〇\",OFFSET(登録名簿!$C$20,0,2,,),\"\")","v":""},{"$f":"IF(登録名簿!$V$20=\"〇\",OFFSET(登録名簿!$C$20,0,4,,),\"\")","v":""},null,null,null,null,null,null,null,null,null,null,null,null,null,null,null,null,null,null,null,null,null,null,10,null,{"$f":"IF(登録名簿!$W$20=\"〇\",登録名簿!$C$20,\"\")","v":""},{"$f":"IF(登録名簿!$W$20=\"〇\",OFFSET(登録名簿!$C$20,0,2,,),\"\")","v":""},{"$f":"IF(登録名簿!$W$20=\"〇\",OFFSET(登録名簿!$C$20,0,4,,),\"\")","v":""}]
[null,11,null,{"$f":"IF(登録名簿!$T$21=\"〇\",登録名簿!$C$21,\"\")","v":""},{"$f":"IF(登録名簿!$T$21=\"〇\",OFFSET(登録名簿!$C$21,0,2,,),\"\")","v":""},{"$f":"IF(登録名簿!$T$21=\"〇\",OFFSET(登録名簿!$C$21,0,4,,),\"\")","v":""},null,null,null,null,null,null,null,null,null,null,null,null,null,null,null,null,null,null,null,null,null,null,11,null,{"$f":"IF(登録名簿!$U$21=\"〇\",登録名簿!$C$21,\"\")","v":""},{"$f":"IF(登録名簿!$U$21=\"〇\",OFFSET(登録名簿!$C$21,0,2,,),\"\")","v":""},{"$f":"IF(登録名簿!$U$21=\"〇\",OFFSET(登録名簿!$C$21,0,4,,),\"\")","v":""},null,null,null,null,null,null,null,null,null,null,null,null,null,null,null,null,null,null,null,null,null,null,11,null,{"$f":"IF(登録名簿!$V$21=\"〇\",登録名簿!$C$21,\"\")","v":""},{"$f":"IF(登録名簿!$V$21=\"〇\",OFFSET(登録名簿!$C$21,0,2,,),\"\")","v":""},{"$f":"IF(登録名簿!$V$21=\"〇\",OFFSET(登録名簿!$C$21,0,4,,),\"\")","v":""},null,null,null,null,null,null,null,null,null,null,null,null,null,null,null,null,null,null,null,null,null,null,11,null,{"$f":"IF(登録名簿!$W$21=\"〇\",登録名簿!$C$21,\"\")","v":""},{"$f":"IF(登録名簿!$W$21=\"〇\",OFFSET(登録名簿!$C$21,0,2,,),\"\")","v":""},{"$f":"IF(登録名簿!$W$21=\"〇\",OFFSET(登録名簿!$C$21,0,4,,),\"\")","v":""}]
[null,12,null,{"$f":"IF(登録名簿!$T$22=\"〇\",登録名簿!$C$22,\"\")","v":""},{"$f":"IF(登録名簿!$T$22=\"〇\",OFFSET(登録名簿!$C$22,0,2,,),\"\")","v":""},{"$f":"IF(登録名簿!$T$22=\"〇\",OFFSET(登録名簿!$C$22,0,4,,),\"\")","v":""},null,null,null,null,null,null,null,null,null,null,null,null,null,null,null,null,null,null,null,null,null,null,12,null,{"$f":"IF(登録名簿!$U$22=\"〇\",登録名簿!$C$22,\"\")","v":""},{"$f":"IF(登録名簿!$U$22=\"〇\",OFFSET(登録名簿!$C$22,0,2,,),\"\")","v":""},{"$f":"IF(登録名簿!$U$22=\"〇\",OFFSET(登録名簿!$C$22,0,4,,),\"\")","v":""},null,null,null,null,null,null,null,null,null,null,null,null,null,null,null,null,null,null,null,null,null,null,12,null,{"$f":"IF(登録名簿!$V$22=\"〇\",登録名簿!$C$22,\"\")","v":""},{"$f":"IF(登録名簿!$V$22=\"〇\",OFFSET(登録名簿!$C$22,0,2,,),\"\")","v":""},{"$f":"IF(登録名簿!$V$22=\"〇\",OFFSET(登録名簿!$C$22,0,4,,),\"\")","v":""},null,null,null,null,null,null,null,null,null,null,null,null,null,null,null,null,null,null,null,null,null,null,12,null,{"$f":"IF(登録名簿!$W$22=\"〇\",登録名簿!$C$22,\"\")","v":""},{"$f":"IF(登録名簿!$W$22=\"〇\",OFFSET(登録名簿!$C$22,0,2,,),\"\")","v":""},{"$f":"IF(登録名簿!$W$22=\"〇\",OFFSET(登録名簿!$C$22,0,4,,),\"\")","v":""}]
[null,13,null,{"$f":"IF(登録名簿!$T$23=\"〇\",登録名簿!$C$23,\"\")","v":""},{"$f":"IF(登録名簿!$T$23=\"〇\",OFFSET(登録名簿!$C$23,0,2,,),\"\")","v":""},{"$f":"IF(登録名簿!$T$23=\"〇\",OFFSET(登録名簿!$C$23,0,4,,),\"\")","v":""},null,null,null,null,null,null,null,null,null,null,null,null,null,null,null,null,null,null,null,null,null,null,13,null,{"$f":"IF(登録名簿!$U$23=\"〇\",登録名簿!$C$23,\"\")","v":""},{"$f":"IF(登録名簿!$U$23=\"〇\",OFFSET(登録名簿!$C$23,0,2,,),\"\")","v":""},{"$f":"IF(登録名簿!$U$23=\"〇\",OFFSET(登録名簿!$C$23,0,4,,),\"\")","v":""},null,null,null,null,null,null,null,null,null,null,null,null,null,null,null,null,null,null,null,null,null,null,13,null,{"$f":"IF(登録名簿!$V$23=\"〇\",登録名簿!$C$23,\"\")","v":""},{"$f":"IF(登録名簿!$V$23=\"〇\",OFFSET(登録名簿!$C$23,0,2,,),\"\")","v":""},{"$f":"IF(登録名簿!$V$23=\"〇\",OFFSET(登録名簿!$C$23,0,4,,),\"\")","v":""},null,null,null,null,null,null,null,null,null,null,null,null,null,null,null,null,null,null,null,null,null,null,13,null,{"$f":"IF(登録名簿!$W$23=\"〇\",登録名簿!$C$23,\"\")","v":""},{"$f":"IF(登録名簿!$W$23=\"〇\",OFFSET(登録名簿!$C$23,0,2,,),\"\")","v":""},{"$f":"IF(登録名簿!$W$23=\"〇\",OFFSET(登録名簿!$C$23,0,4,,),\"\")","v":""}]
[null,14,null,{"$f":"IF(登録名簿!$T$24=\"〇\",登録名簿!$C$24,\"\")","v":""},{"$f":"IF(登録名簿!$T$24=\"〇\",OFFSET(登録名簿!$C$24,0,2,,),\"\")","v":""},{"$f":"IF(登録名簿!$T$24=\"〇\",OFFSET(登録名簿!$C$24,0,4,,),\"\")","v":""},null,null,null,null,null,null,null,null,null,null,null,null,null,null,null,null,null,null,null,null,null,null,14,null,{"$f":"IF(登録名簿!$U$24=\"〇\",登録名簿!$C$24,\"\")","v":""},{"$f":"IF(登録名簿!$U$24=\"〇\",OFFSET(登録名簿!$C$24,0,2,,),\"\")","v":""},{"$f":"IF(登録名簿!$U$24=\"〇\",OFFSET(登録名簿!$C$24,0,4,,),\"\")","v":""},null,null,null,null,null,null,null,null,null,null,null,null,null,null,null,null,null,null,null,null,null,null,14,null,{"$f":"IF(登録名簿!$V$24=\"〇\",登録名簿!$C$24,\"\")","v":""},{"$f":"IF(登録名簿!$V$24=\"〇\",OFFSET(登録名簿!$C$24,0,2,,),\"\")","v":""},{"$f":"IF(登録名簿!$V$24=\"〇\",OFFSET(登録名簿!$C$24,0,4,,),\"\")","v":""},null,null,null,null,null,null,null,null,null,null,null,null,null,null,null,null,null,null,null,null,null,null,14,null,{"$f":"IF(登録名簿!$W$24=\"〇\",登録名簿!$C$24,\"\")","v":""},{"$f":"IF(登録名簿!$W$24=\"〇\",OFFSET(登録名簿!$C$24,0,2,,),\"\")","v":""},{"$f":"IF(登録名簿!$W$24=\"〇\",OFFSET(登録名簿!$C$24,0,4,,),\"\")","v":""}]
[null,15,null,{"$f":"IF(登録名簿!$T$25=\"〇\",登録名簿!$C$25,\"\")","v":""},{"$f":"IF(登録名簿!$T$25=\"〇\",OFFSET(登録名簿!$C$25,0,2,,),\"\")","v":""},{"$f":"IF(登録名簿!$T$25=\"〇\",OFFSET(登録名簿!$C$25,0,4,,),\"\")","v":""},null,null,null,null,null,null,null,null,null,null,null,null,null,null,null,null,null,null,null,null,null,null,15,null,{"$f":"IF(登録名簿!$U$25=\"〇\",登録名簿!$C$25,\"\")","v":""},{"$f":"IF(登録名簿!$U$25=\"〇\",OFFSET(登録名簿!$C$25,0,2,,),\"\")","v":""},{"$f":"IF(登録名簿!$U$25=\"〇\",OFFSET(登録名簿!$C$25,0,4,,),\"\")","v":""},null,null,null,null,null,null,null,null,null,null,null,null,null,null,null,null,null,null,null,null,null,null,15,null,{"$f":"IF(登録名簿!$V$25=\"〇\",登録名簿!$C$25,\"\")","v":""},{"$f":"IF(登録名簿!$V$25=\"〇\",OFFSET(登録名簿!$C$25,0,2,,),\"\")","v":""},{"$f":"IF(登録名簿!$V$25=\"〇\",OFFSET(登録名簿!$C$25,0,4,,),\"\")","v":""},null,null,null,null,null,null,null,null,null,null,null,null,null,null,null,null,null,null,null,null,null,null,15,null,{"$f":"IF(登録名簿!$W$25=\"〇\",登録名簿!$C$25,\"\")","v":""},{"$f":"IF(登録名簿!$W$25=\"〇\",OFFSET(登録名簿!$C$25,0,2,,),\"\")","v":""},{"$f":"IF(登録名簿!$W$25=\"〇\",OFFSET(登録名簿!$C$25,0,4,,),\"\")","v":""}]
[null,16,null,{"$f":"IF(登録名簿!$T$26=\"〇\",登録名簿!$C$26,\"\")","v":""},{"$f":"IF(登録名簿!$T$26=\"〇\",OFFSET(登録名簿!$C$26,0,2,,),\"\")","v":""},{"$f":"IF(登録名簿!$T$26=\"〇\",OFFSET(登録名簿!$C$26,0,4,,),\"\")","v":""},null,null,null,null,null,null,null,null,null,null,null,null,null,null,null,null,null,null,null,null,null,null,16,null,{"$f":"IF(登録名簿!$U$26=\"〇\",登録名簿!$C$26,\"\")","v":""},{"$f":"IF(登録名簿!$U$26=\"〇\",OFFSET(登録名簿!$C$26,0,2,,),\"\")","v":""},{"$f":"IF(登録名簿!$U$26=\"〇\",OFFSET(登録名簿!$C$26,0,4,,),\"\")","v":""},null,null,null,null,null,null,null,null,null,null,null,null,null,null,null,null,null,null,null,null,null,null,16,null,{"$f":"IF(登録名簿!$V$26=\"〇\",登録名簿!$C$26,\"\")","v":""},{"$f":"IF(登録名簿!$V$26=\"〇\",OFFSET(登録名簿!$C$26,0,2,,),\"\")","v":""},{"$f":"IF(登録名簿!$V$26=\"〇\",OFFSET(登録名簿!$C$26,0,4,,),\"\")","v":""},null,null,null,null,null,null,null,null,null,null,null,null,null,null,null,null,null,null,null,null,null,null,16,null,{"$f":"IF(登録名簿!$W$26=\"〇\",登録名簿!$C$26,\"\")","v":""},{"$f":"IF(登録名簿!$W$26=\"〇\",OFFSET(登録名簿!$C$26,0,2,,),\"\")","v":""},{"$f":"IF(登録名簿!$W$26=\"〇\",OFFSET(登録名簿!$C$26,0,4,,),\"\")","v":""}]
[null,17,null,{"$f":"IF(登録名簿!$T$27=\"〇\",登録名簿!$C$27,\"\")","v":""},{"$f":"IF(登録名簿!$T$27=\"〇\",OFFSET(登録名簿!$C$27,0,2,,),\"\")","v":""},{"$f":"IF(登録名簿!$T$27=\"〇\",OFFSET(登録名簿!$C$27,0,4,,),\"\")","v":""},null,null,null,null,null,null,null,null,null,null,null,null,null,null,null,null,null,null,null,null,null,null,17,null,{"$f":"IF(登録名簿!$U$27=\"〇\",登録名簿!$C$27,\"\")","v":""},{"$f":"IF(登録名簿!$U$27=\"〇\",OFFSET(登録名簿!$C$27,0,2,,),\"\")","v":""},{"$f":"IF(登録名簿!$U$27=\"〇\",OFFSET(登録名簿!$C$27,0,4,,),\"\")","v":""},null,null,null,null,null,null,null,null,null,null,null,null,null,null,null,null,null,null,null,null,null,null,17,null,{"$f":"IF(登録名簿!$V$27=\"〇\",登録名簿!$C$27,\"\")","v":""},{"$f":"IF(登録名簿!$V$27=\"〇\",OFFSET(登録名簿!$C$27,0,2,,),\"\")","v":""},{"$f":"IF(登録名簿!$V$27=\"〇\",OFFSET(登録名簿!$C$27,0,4,,),\"\")","v":""},null,null,null,null,null,null,null,null,null,null,null,null,null,null,null,null,null,null,null,null,null,null,17,null,{"$f":"IF(登録名簿!$W$27=\"〇\",登録名簿!$C$27,\"\")","v":""},{"$f":"IF(登録名簿!$W$27=\"〇\",OFFSET(登録名簿!$C$27,0,2,,),\"\")","v":""},{"$f":"IF(登録名簿!$W$27=\"〇\",OFFSET(登録名簿!$C$27,0,4,,),\"\")","v":""}]
[null,18,null,{"$f":"IF(登録名簿!$T$28=\"〇\",登録名簿!$C$28,\"\")","v":""},{"$f":"IF(登録名簿!$T$28=\"〇\",OFFSET(登録名簿!$C$28,0,2,,),\"\")","v":""},{"$f":"IF(登録名簿!$T$28=\"〇\",OFFSET(登録名簿!$C$28,0,4,,),\"\")","v":""},null,null,null,null,null,null,null,null,null,null,null,null,null,null,null,null,null,null,null,null,null,null,18,null,{"$f":"IF(登録名簿!$U$28=\"〇\",登録名簿!$C$28,\"\")","v":""},{"$f":"IF(登録名簿!$U$28=\"〇\",OFFSET(登録名簿!$C$28,0,2,,),\"\")","v":""},{"$f":"IF(登録名簿!$U$28=\"〇\",OFFSET(登録名簿!$C$28,0,4,,),\"\")","v":""},null,null,null,null,null,null,null,null,null,null,null,null,null,null,null,null,null,null,null,null,null,null,18,null,{"$f":"IF(登録名簿!$V$28=\"〇\",登録名簿!$C$28,\"\")","v":""},{"$f":"IF(登録名簿!$V$28=\"〇\",OFFSET(登録名簿!$C$28,0,2,,),\"\")","v":""},{"$f":"IF(登録名簿!$V$28=\"〇\",OFFSET(登録名簿!$C$28,0,4,,),\"\")","v":""},null,null,null,null,null,null,null,null,null,null,null,null,null,null,null,null,null,null,null,null,null,null,18,null,{"$f":"IF(登録名簿!$W$28=\"〇\",登録名簿!$C$28,\"\")","v":""},{"$f":"IF(登録名簿!$W$28=\"〇\",OFFSET(登録名簿!$C$28,0,2,,),\"\")","v":""},{"$f":"IF(登録名簿!$W$28=\"〇\",OFFSET(登録名簿!$C$28,0,4,,),\"\")","v":""}]
[null,19,null,{"$f":"IF(登録名簿!$T$29=\"〇\",登録名簿!$C$29,\"\")","v":""},{"$f":"IF(登録名簿!$T$29=\"〇\",OFFSET(登録名簿!$C$29,0,2,,),\"\")","v":""},{"$f":"IF(登録名簿!$T$29=\"〇\",OFFSET(登録名簿!$C$29,0,4,,),\"\")","v":""},null,null,null,null,null,null,null,null,null,null,null,null,null,null,null,null,null,null,null,null,null,null,19,null,{"$f":"IF(登録名簿!$U$29=\"〇\",登録名簿!$C$29,\"\")","v":""},{"$f":"IF(登録名簿!$U$29=\"〇\",OFFSET(登録名簿!$C$29,0,2,,),\"\")","v":""},{"$f":"IF(登録名簿!$U$29=\"〇\",OFFSET(登録名簿!$C$29,0,4,,),\"\")","v":""},null,null,null,null,null,null,null,null,null,null,null,null,null,null,null,null,null,null,null,null,null,null,19,null,{"$f":"IF(登録名簿!$V$29=\"〇\",登録名簿!$C$29,\"\")","v":""},{"$f":"IF(登録名簿!$V$29=\"〇\",OFFSET(登録名簿!$C$29,0,2,,),\"\")","v":""},{"$f":"IF(登録名簿!$V$29=\"〇\",OFFSET(登録名簿!$C$29,0,4,,),\"\")","v":""},null,null,null,null,null,null,null,null,null,null,null,null,null,null,null,null,null,null,null,null,null,null,19,null,{"$f":"IF(登録名簿!$W$29=\"〇\",登録名簿!$C$29,\"\")","v":""},{"$f":"IF(登録名簿!$W$29=\"〇\",OFFSET(登録名簿!$C$29,0,2,,),\"\")","v":""},{"$f":"IF(登録名簿!$W$29=\"〇\",OFFSET(登録名簿!$C$29,0,4,,),\"\")","v":""}]
[null,20,null,{"$f":"IF(登録名簿!$T$30=\"〇\",登録名簿!$C$30,\"\")","v":""},{"$f":"IF(登録名簿!$T$30=\"〇\",OFFSET(登録名簿!$C$30,0,2,,),\"\")","v":""},{"$f":"IF(登録名簿!$T$30=\"〇\",OFFSET(登録名簿!$C$30,0,4,,),\"\")","v":""},null,null,null,null,null,null,null,null,null,null,null,null,null,null,null,null,null,null,null,null,null,null,20,null,{"$f":"IF(登録名簿!$U$30=\"〇\",登録名簿!$C$30,\"\")","v":""},{"$f":"IF(登録名簿!$U$30=\"〇\",OFFSET(登録名簿!$C$30,0,2,,),\"\")","v":""},{"$f":"IF(登録名簿!$U$30=\"〇\",OFFSET(登録名簿!$C$30,0,4,,),\"\")","v":""},null,null,null,null,null,null,null,null,null,null,null,null,null,null,null,null,null,null,null,null,null,null,20,null,{"$f":"IF(登録名簿!$V$30=\"〇\",登録名簿!$C$30,\"\")","v":""},{"$f":"IF(登録名簿!$V$30=\"〇\",OFFSET(登録名簿!$C$30,0,2,,),\"\")","v":""},{"$f":"IF(登録名簿!$V$30=\"〇\",OFFSET(登録名簿!$C$30,0,4,,),\"\")","v":""},null,null,null,null,null,null,null,null,null,null,null,null,null,null,null,null,null,null,null,null,null,null,20,null,{"$f":"IF(登録名簿!$W$30=\"〇\",登録名簿!$C$30,\"\")","v":""},{"$f":"IF(登録名簿!$W$30=\"〇\",OFFSET(登録名簿!$C$30,0,2,,),\"\")","v":""},{"$f":"IF(登録名簿!$W$30=\"〇\",OFFSET(登録名簿!$C$30,0,4,,),\"\")","v":""}]
[null,21,null,{"$f":"IF(登録名簿!$T$31=\"〇\",登録名簿!$C$31,\"\")","v":""},{"$f":"IF(登録名簿!$T$31=\"〇\",OFFSET(登録名簿!$C$31,0,2,,),\"\")","v":""},{"$f":"IF(登録名簿!$T$31=\"〇\",OFFSET(登録名簿!$C$31,0,4,,),\"\")","v":""},null,null,null,null,null,null,null,null,null,null,null,null,null,null,null,null,null,null,null,null,null,null,21,null,{"$f":"IF(登録名簿!$U$31=\"〇\",登録名簿!$C$31,\"\")","v":""},{"$f":"IF(登録名簿!$U$31=\"〇\",OFFSET(登録名簿!$C$31,0,2,,),\"\")","v":""},{"$f":"IF(登録名簿!$U$31=\"〇\",OFFSET(登録名簿!$C$31,0,4,,),\"\")","v":""},null,null,null,null,null,null,null,null,null,null,null,null,null,null,null,null,null,null,null,null,null,null,21,null,{"$f":"IF(登録名簿!$V$31=\"〇\",登録名簿!$C$31,\"\")","v":""},{"$f":"IF(登録名簿!$V$31=\"〇\",OFFSET(登録名簿!$C$31,0,2,,),\"\")","v":""},{"$f":"IF(登録名簿!$V$31=\"〇\",OFFSET(登録名簿!$C$31,0,4,,),\"\")","v":""},null,null,null,null,null,null,null,null,null,null,null,null,null,null,null,null,null,null,null,null,null,null,21,null,{"$f":"IF(登録名簿!$W$31=\"〇\",登録名簿!$C$31,\"\")","v":""},{"$f":"IF(登録名簿!$W$31=\"〇\",OFFSET(登録名簿!$C$31,0,2,,),\"\")","v":""},{"$f":"IF(登録名簿!$W$31=\"〇\",OFFSET(登録名簿!$C$31,0,4,,),\"\")","v":""}]
[null,22,null,{"$f":"IF(登録名簿!$T$32=\"〇\",登録名簿!$C$32,\"\")","v":""},{"$f":"IF(登録名簿!$T$32=\"〇\",OFFSET(登録名簿!$C$32,0,2,,),\"\")","v":""},{"$f":"IF(登録名簿!$T$32=\"〇\",OFFSET(登録名簿!$C$32,0,4,,),\"\")","v":""},null,null,null,null,null,null,null,null,null,null,null,null,null,null,null,null,null,null,null,null,null,null,22,null,{"$f":"IF(登録名簿!$U$32=\"〇\",登録名簿!$C$32,\"\")","v":""},{"$f":"IF(登録名簿!$U$32=\"〇\",OFFSET(登録名簿!$C$32,0,2,,),\"\")","v":""},{"$f":"IF(登録名簿!$U$32=\"〇\",OFFSET(登録名簿!$C$32,0,4,,),\"\")","v":""},null,null,null,null,null,null,null,null,null,null,null,null,null,null,null,null,null,null,null,null,null,null,22,null,{"$f":"IF(登録名簿!$V$32=\"〇\",登録名簿!$C$32,\"\")","v":""},{"$f":"IF(登録名簿!$V$32=\"〇\",OFFSET(登録名簿!$C$32,0,2,,),\"\")","v":""},{"$f":"IF(登録名簿!$V$32=\"〇\",OFFSET(登録名簿!$C$32,0,4,,),\"\")","v":""},null,null,null,null,null,null,null,null,null,null,null,null,null,null,null,null,null,null,null,null,null,null,22,null,{"$f":"IF(登録名簿!$W$32=\"〇\",登録名簿!$C$32,\"\")","v":""},{"$f":"IF(登録名簿!$W$32=\"〇\",OFFSET(登録名簿!$C$32,0,2,,),\"\")","v":""},{"$f":"IF(登録名簿!$W$32=\"〇\",OFFSET(登録名簿!$C$32,0,4,,),\"\")","v":""}]
[null,23,null,{"$f":"IF(登録名簿!$T$33=\"〇\",登録名簿!$C$33,\"\")","v":""},{"$f":"IF(登録名簿!$T$33=\"〇\",OFFSET(登録名簿!$C$33,0,2,,),\"\")","v":""},{"$f":"IF(登録名簿!$T$33=\"〇\",OFFSET(登録名簿!$C$33,0,4,,),\"\")","v":""},null,null,null,null,null,null,null,null,null,null,null,null,null,null,null,null,null,null,null,null,null,null,23,null,{"$f":"IF(登録名簿!$U$33=\"〇\",登録名簿!$C$33,\"\")","v":""},{"$f":"IF(登録名簿!$U$33=\"〇\",OFFSET(登録名簿!$C$33,0,2,,),\"\")","v":""},{"$f":"IF(登録名簿!$U$33=\"〇\",OFFSET(登録名簿!$C$33,0,4,,),\"\")","v":""},null,null,null,null,null,null,null,null,null,null,null,null,null,null,null,null,null,null,null,null,null,null,23,null,{"$f":"IF(登録名簿!$V$33=\"〇\",登録名簿!$C$33,\"\")","v":""},{"$f":"IF(登録名簿!$V$33=\"〇\",OFFSET(登録名簿!$C$33,0,2,,),\"\")","v":""},{"$f":"IF(登録名簿!$V$33=\"〇\",OFFSET(登録名簿!$C$33,0,4,,),\"\")","v":""},null,null,null,null,null,null,null,null,null,null,null,null,null,null,null,null,null,null,null,null,null,null,23,null,{"$f":"IF(登録名簿!$W$33=\"〇\",登録名簿!$C$33,\"\")","v":""},{"$f":"IF(登録名簿!$W$33=\"〇\",OFFSET(登録名簿!$C$33,0,2,,),\"\")","v":""},{"$f":"IF(登録名簿!$W$33=\"〇\",OFFSET(登録名簿!$C$33,0,4,,),\"\")","v":""}]
[null,24,null,{"$f":"IF(登録名簿!$T$34=\"〇\",登録名簿!$C$34,\"\")","v":""},{"$f":"IF(登録名簿!$T$34=\"〇\",OFFSET(登録名簿!$C$34,0,2,,),\"\")","v":""},{"$f":"IF(登録名簿!$T$34=\"〇\",OFFSET(登録名簿!$C$34,0,4,,),\"\")","v":""},null,null,null,null,null,null,null,null,null,null,null,null,null,null,null,null,null,null,null,null,null,null,24,null,{"$f":"IF(登録名簿!$U$34=\"〇\",登録名簿!$C$34,\"\")","v":""},{"$f":"IF(登録名簿!$U$34=\"〇\",OFFSET(登録名簿!$C$34,0,2,,),\"\")","v":""},{"$f":"IF(登録名簿!$U$34=\"〇\",OFFSET(登録名簿!$C$34,0,4,,),\"\")","v":""},null,null,null,null,null,null,null,null,null,null,null,null,null,null,null,null,null,null,null,null,null,null,24,null,{"$f":"IF(登録名簿!$V$34=\"〇\",登録名簿!$C$34,\"\")","v":""},{"$f":"IF(登録名簿!$V$34=\"〇\",OFFSET(登録名簿!$C$34,0,2,,),\"\")","v":""},{"$f":"IF(登録名簿!$V$34=\"〇\",OFFSET(登録名簿!$C$34,0,4,,),\"\")","v":""},null,null,null,null,null,null,null,null,null,null,null,null,null,null,null,null,null,null,null,null,null,null,24,null,{"$f":"IF(登録名簿!$W$34=\"〇\",登録名簿!$C$34,\"\")","v":""},{"$f":"IF(登録名簿!$W$34=\"〇\",OFFSET(登録名簿!$C$34,0,2,,),\"\")","v":""},{"$f":"IF(登録名簿!$W$34=\"〇\",OFFSET(登録名簿!$C$34,0,4,,),\"\")","v":""}]
[null,25,null,{"$f":"IF(登録名簿!$T$35=\"〇\",登録名簿!$C$35,\"\")","v":""},{"$f":"IF(登録名簿!$T$35=\"〇\",OFFSET(登録名簿!$C$35,0,2,,),\"\")","v":""},{"$f":"IF(登録名簿!$T$35=\"〇\",OFFSET(登録名簿!$C$35,0,4,,),\"\")","v":""},null,null,null,null,null,null,null,null,null,null,null,null,null,null,null,null,null,null,null,null,null,null,25,null,{"$f":"IF(登録名簿!$U$35=\"〇\",登録名簿!$C$35,\"\")","v":""},{"$f":"IF(登録名簿!$U$35=\"〇\",OFFSET(登録名簿!$C$35,0,2,,),\"\")","v":""},{"$f":"IF(登録名簿!$U$35=\"〇\",OFFSET(登録名簿!$C$35,0,4,,),\"\")","v":""},null,null,null,null,null,null,null,null,null,null,null,null,null,null,null,null,null,null,null,null,null,null,25,null,{"$f":"IF(登録名簿!$V$35=\"〇\",登録名簿!$C$35,\"\")","v":""},{"$f":"IF(登録名簿!$V$35=\"〇\",OFFSET(登録名簿!$C$35,0,2,,),\"\")","v":""},{"$f":"IF(登録名簿!$V$35=\"〇\",OFFSET(登録名簿!$C$35,0,4,,),\"\")","v":""},null,null,null,null,null,null,null,null,null,null,null,null,null,null,null,null,null,null,null,null,null,null,25,null,{"$f":"IF(登録名簿!$W$35=\"〇\",登録名簿!$C$35,\"\")","v":""},{"$f":"IF(登録名簿!$W$35=\"〇\",OFFSET(登録名簿!$C$35,0,2,,),\"\")","v":""},{"$f":"IF(登録名簿!$W$35=\"〇\",OFFSET(登録名簿!$C$35,0,4,,),\"\")","v":""}]
[null,26,null,{"$f":"IF(登録名簿!$T$36=\"〇\",登録名簿!$C$36,\"\")","v":""},{"$f":"IF(登録名簿!$T$36=\"〇\",OFFSET(登録名簿!$C$36,0,2,,),\"\")","v":""},{"$f":"IF(登録名簿!$T$36=\"〇\",OFFSET(登録名簿!$C$36,0,4,,),\"\")","v":""},null,null,null,null,null,null,null,null,null,null,null,null,null,null,null,null,null,null,null,null,null,null,26,null,{"$f":"IF(登録名簿!$U$36=\"〇\",登録名簿!$C$36,\"\")","v":""},{"$f":"IF(登録名簿!$U$36=\"〇\",OFFSET(登録名簿!$C$36,0,2,,),\"\")","v":""},{"$f":"IF(登録名簿!$U$36=\"〇\",OFFSET(登録名簿!$C$36,0,4,,),\"\")","v":""},null,null,null,null,null,null,null,null,null,null,null,null,null,null,null,null,null,null,null,null,null,null,26,null,{"$f":"IF(登録名簿!$V$36=\"〇\",登録名簿!$C$36,\"\")","v":""},{"$f":"IF(登録名簿!$V$36=\"〇\",OFFSET(登録名簿!$C$36,0,2,,),\"\")","v":""},{"$f":"IF(登録名簿!$V$36=\"〇\",OFFSET(登録名簿!$C$36,0,4,,),\"\")","v":""},null,null,null,null,null,null,null,null,null,null,null,null,null,null,null,null,null,null,null,null,null,null,26,null,{"$f":"IF(登録名簿!$W$36=\"〇\",登録名簿!$C$36,\"\")","v":""},{"$f":"IF(登録名簿!$W$36=\"〇\",OFFSET(登録名簿!$C$36,0,2,,),\"\")","v":""},{"$f":"IF(登録名簿!$W$36=\"〇\",OFFSET(登録名簿!$C$36,0,4,,),\"\")","v":""}]
[null,27,null,{"$f":"IF(登録名簿!$T$37=\"〇\",登録名簿!$C$37,\"\")","v":""},{"$f":"IF(登録名簿!$T$37=\"〇\",OFFSET(登録名簿!$C$37,0,2,,),\"\")","v":""},{"$f":"IF(登録名簿!$T$37=\"〇\",OFFSET(登録名簿!$C$37,0,4,,),\"\")","v":""},null,null,null,null,null,null,null,null,null,null,null,null,null,null,null,null,null,null,null,null,null,null,27,null,{"$f":"IF(登録名簿!$U$37=\"〇\",登録名簿!$C$37,\"\")","v":""},{"$f":"IF(登録名簿!$U$37=\"〇\",OFFSET(登録名簿!$C$37,0,2,,),\"\")","v":""},{"$f":"IF(登録名簿!$U$37=\"〇\",OFFSET(登録名簿!$C$37,0,4,,),\"\")","v":""},null,null,null,null,null,null,null,null,null,null,null,null,null,null,null,null,null,null,null,null,null,null,27,null,{"$f":"IF(登録名簿!$V$37=\"〇\",登録名簿!$C$37,\"\")","v":""},{"$f":"IF(登録名簿!$V$37=\"〇\",OFFSET(登録名簿!$C$37,0,2,,),\"\")","v":""},{"$f":"IF(登録名簿!$V$37=\"〇\",OFFSET(登録名簿!$C$37,0,4,,),\"\")","v":""},null,null,null,null,null,null,null,null,null,null,null,null,null,null,null,null,null,null,null,null,null,null,27,null,{"$f":"IF(登録名簿!$W$37=\"〇\",登録名簿!$C$37,\"\")","v":""},{"$f":"IF(登録名簿!$W$37=\"〇\",OFFSET(登録名簿!$C$37,0,2,,),\"\")","v":""},{"$f":"IF(登録名簿!$W$37=\"〇\",OFFSET(登録名簿!$C$37,0,4,,),\"\")","v":""}]
[null,28,null,{"$f":"IF(登録名簿!$T$38=\"〇\",登録名簿!$C$38,\"\")","v":""},{"$f":"IF(登録名簿!$T$38=\"〇\",OFFSET(登録名簿!$C$38,0,2,,),\"\")","v":""},{"$f":"IF(登録名簿!$T$38=\"〇\",OFFSET(登録名簿!$C$38,0,4,,),\"\")","v":""},null,null,null,null,null,null,null,null,null,null,null,null,null,null,null,null,null,null,null,null,null,null,28,null,{"$f":"IF(登録名簿!$U$38=\"〇\",登録名簿!$C$38,\"\")","v":""},{"$f":"IF(登録名簿!$U$38=\"〇\",OFFSET(登録名簿!$C$38,0,2,,),\"\")","v":""},{"$f":"IF(登録名簿!$U$38=\"〇\",OFFSET(登録名簿!$C$38,0,4,,),\"\")","v":""},null,null,null,null,null,null,null,null,null,null,null,null,null,null,null,null,null,null,null,null,null,null,28,null,{"$f":"IF(登録名簿!$V$38=\"〇\",登録名簿!$C$38,\"\")","v":""},{"$f":"IF(登録名簿!$V$38=\"〇\",OFFSET(登録名簿!$C$38,0,2,,),\"\")","v":""},{"$f":"IF(登録名簿!$V$38=\"〇\",OFFSET(登録名簿!$C$38,0,4,,),\"\")","v":""},null,null,null,null,null,null,null,null,null,null,null,null,null,null,null,null,null,null,null,null,null,null,28,null,{"$f":"IF(登録名簿!$W$38=\"〇\",登録名簿!$C$38,\"\")","v":""},{"$f":"IF(登録名簿!$W$38=\"〇\",OFFSET(登録名簿!$C$38,0,2,,),\"\")","v":""},{"$f":"IF(登録名簿!$W$38=\"〇\",OFFSET(登録名簿!$C$38,0,4,,),\"\")","v":""}]
[null,29,null,{"$f":"IF(登録名簿!$T$39=\"〇\",登録名簿!$C$39,\"\")","v":""},{"$f":"IF(登録名簿!$T$39=\"〇\",OFFSET(登録名簿!$C$39,0,2,,),\"\")","v":""},{"$f":"IF(登録名簿!$T$39=\"〇\",OFFSET(登録名簿!$C$39,0,4,,),\"\")","v":""},null,null,null,null,null,null,null,null,null,null,null,null,null,null,null,null,null,null,null,null,null,null,29,null,{"$f":"IF(登録名簿!$U$39=\"〇\",登録名簿!$C$39,\"\")","v":""},{"$f":"IF(登録名簿!$U$39=\"〇\",OFFSET(登録名簿!$C$39,0,2,,),\"\")","v":""},{"$f":"IF(登録名簿!$U$39=\"〇\",OFFSET(登録名簿!$C$39,0,4,,),\"\")","v":""},null,null,null,null,null,null,null,null,null,null,null,null,null,null,null,null,null,null,null,null,null,null,29,null,{"$f":"IF(登録名簿!$V$39=\"〇\",登録名簿!$C$39,\"\")","v":""},{"$f":"IF(登録名簿!$V$39=\"〇\",OFFSET(登録名簿!$C$39,0,2,,),\"\")","v":""},{"$f":"IF(登録名簿!$V$39=\"〇\",OFFSET(登録名簿!$C$39,0,4,,),\"\")","v":""},null,null,null,null,null,null,null,null,null,null,null,null,null,null,null,null,null,null,null,null,null,null,29,null,{"$f":"IF(登録名簿!$W$39=\"〇\",登録名簿!$C$39,\"\")","v":""},{"$f":"IF(登録名簿!$W$39=\"〇\",OFFSET(登録名簿!$C$39,0,2,,),\"\")","v":""},{"$f":"IF(登録名簿!$W$39=\"〇\",OFFSET(登録名簿!$C$39,0,4,,),\"\")","v":""}]
[null,30,null,{"$f":"IF(登録名簿!$T$40=\"〇\",登録名簿!$C$40,\"\")","v":""},{"$f":"IF(登録名簿!$T$40=\"〇\",OFFSET(登録名簿!$C$40,0,2,,),\"\")","v":""},{"$f":"IF(登録名簿!$T$40=\"〇\",OFFSET(登録名簿!$C$40,0,4,,),\"\")","v":""},null,null,null,null,null,null,null,null,null,null,null,null,null,null,null,null,null,null,null,null,null,null,30,null,{"$f":"IF(登録名簿!$U$40=\"〇\",登録名簿!$C$40,\"\")","v":""},{"$f":"IF(登録名簿!$U$40=\"〇\",OFFSET(登録名簿!$C$40,0,2,,),\"\")","v":""},{"$f":"IF(登録名簿!$U$40=\"〇\",OFFSET(登録名簿!$C$40,0,4,,),\"\")","v":""},null,null,null,null,null,null,null,null,null,null,null,null,null,null,null,null,null,null,null,null,null,null,30,null,{"$f":"IF(登録名簿!$V$40=\"〇\",登録名簿!$C$40,\"\")","v":""},{"$f":"IF(登録名簿!$V$40=\"〇\",OFFSET(登録名簿!$C$40,0,2,,),\"\")","v":""},{"$f":"IF(登録名簿!$V$40=\"〇\",OFFSET(登録名簿!$C$40,0,4,,),\"\")","v":""},null,null,null,null,null,null,null,null,null,null,null,null,null,null,null,null,null,null,null,null,null,null,30,null,{"$f":"IF(登録名簿!$W$40=\"〇\",登録名簿!$C$40,\"\")","v":""},{"$f":"IF(登録名簿!$W$40=\"〇\",OFFSET(登録名簿!$C$40,0,2,,),\"\")","v":""},{"$f":"IF(登録名簿!$W$40=\"〇\",OFFSET(登録名簿!$C$40,0,4,,),\"\")","v":""}]
[null,31,null,{"$f":"IF(登録名簿!$T$41=\"〇\",登録名簿!$C$41,\"\")","v":""},{"$f":"IF(登録名簿!$T$41=\"〇\",OFFSET(登録名簿!$C$41,0,2,,),\"\")","v":""},{"$f":"IF(登録名簿!$T$41=\"〇\",OFFSET(登録名簿!$C$41,0,4,,),\"\")","v":""},null,null,null,null,null,null,null,null,null,null,null,null,null,null,null,null,null,null,null,null,null,null,31,null,{"$f":"IF(登録名簿!$U$41=\"〇\",登録名簿!$C$41,\"\")","v":""},{"$f":"IF(登録名簿!$U$41=\"〇\",OFFSET(登録名簿!$C$41,0,2,,),\"\")","v":""},{"$f":"IF(登録名簿!$U$41=\"〇\",OFFSET(登録名簿!$C$41,0,4,,),\"\")","v":""},null,null,null,null,null,null,null,null,null,null,null,null,null,null,null,null,null,null,null,null,null,null,31,null,{"$f":"IF(登録名簿!$V$41=\"〇\",登録名簿!$C$41,\"\")","v":""},{"$f":"IF(登録名簿!$V$41=\"〇\",OFFSET(登録名簿!$C$41,0,2,,),\"\")","v":""},{"$f":"IF(登録名簿!$V$41=\"〇\",OFFSET(登録名簿!$C$41,0,4,,),\"\")","v":""},null,null,null,null,null,null,null,null,null,null,null,null,null,null,null,null,null,null,null,null,null,null,31,null,{"$f":"IF(登録名簿!$W$41=\"〇\",登録名簿!$C$41,\"\")","v":""},{"$f":"IF(登録名簿!$W$41=\"〇\",OFFSET(登録名簿!$C$41,0,2,,),\"\")","v":""},{"$f":"IF(登録名簿!$W$41=\"〇\",OFFSET(登録名簿!$C$41,0,4,,),\"\")","v":""}]
[null,32,null,{"$f":"IF(登録名簿!$T$42=\"〇\",登録名簿!$C$42,\"\")","v":""},{"$f":"IF(登録名簿!$T$42=\"〇\",OFFSET(登録名簿!$C$42,0,2,,),\"\")","v":""},{"$f":"IF(登録名簿!$T$42=\"〇\",OFFSET(登録名簿!$C$42,0,4,,),\"\")","v":""},null,null,null,null,null,null,null,null,null,null,null,null,null,null,null,null,null,null,null,null,null,null,32,null,{"$f":"IF(登録名簿!$U$42=\"〇\",登録名簿!$C$42,\"\")","v":""},{"$f":"IF(登録名簿!$U$42=\"〇\",OFFSET(登録名簿!$C$42,0,2,,),\"\")","v":""},{"$f":"IF(登録名簿!$U$42=\"〇\",OFFSET(登録名簿!$C$42,0,4,,),\"\")","v":""},null,null,null,null,null,null,null,null,null,null,null,null,null,null,null,null,null,null,null,null,null,null,32,null,{"$f":"IF(登録名簿!$V$42=\"〇\",登録名簿!$C$42,\"\")","v":""},{"$f":"IF(登録名簿!$V$42=\"〇\",OFFSET(登録名簿!$C$42,0,2,,),\"\")","v":""},{"$f":"IF(登録名簿!$V$42=\"〇\",OFFSET(登録名簿!$C$42,0,4,,),\"\")","v":""},null,null,null,null,null,null,null,null,null,null,null,null,null,null,null,null,null,null,null,null,null,null,32,null,{"$f":"IF(登録名簿!$W$42=\"〇\",登録名簿!$C$42,\"\")","v":""},{"$f":"IF(登録名簿!$W$42=\"〇\",OFFSET(登録名簿!$C$42,0,2,,),\"\")","v":""},{"$f":"IF(登録名簿!$W$42=\"〇\",OFFSET(登録名簿!$C$42,0,4,,),\"\")","v":""}]
[null,33,null,{"$f":"IF(登録名簿!$T$43=\"〇\",登録名簿!$C$43,\"\")","v":""},{"$f":"IF(登録名簿!$T$43=\"〇\",OFFSET(登録名簿!$C$43,0,2,,),\"\")","v":""},{"$f":"IF(登録名簿!$T$43=\"〇\",OFFSET(登録名簿!$C$43,0,4,,),\"\")","v":""},null,null,null,null,null,null,null,null,null,null,null,null,null,null,null,null,null,null,null,null,null,null,33,null,{"$f":"IF(登録名簿!$U$43=\"〇\",登録名簿!$C$43,\"\")","v":""},{"$f":"IF(登録名簿!$U$43=\"〇\",OFFSET(登録名簿!$C$43,0,2,,),\"\")","v":""},{"$f":"IF(登録名簿!$U$43=\"〇\",OFFSET(登録名簿!$C$43,0,4,,),\"\")","v":""},null,null,null,null,null,null,null,null,null,null,null,null,null,null,null,null,null,null,null,null,null,null,33,null,{"$f":"IF(登録名簿!$V$43=\"〇\",登録名簿!$C$43,\"\")","v":""},{"$f":"IF(登録名簿!$V$43=\"〇\",OFFSET(登録名簿!$C$43,0,2,,),\"\")","v":""},{"$f":"IF(登録名簿!$V$43=\"〇\",OFFSET(登録名簿!$C$43,0,4,,),\"\")","v":""},null,null,null,null,null,null,null,null,null,null,null,null,null,null,null,null,null,null,null,null,null,null,33,null,{"$f":"IF(登録名簿!$W$43=\"〇\",登録名簿!$C$43,\"\")","v":""},{"$f":"IF(登録名簿!$W$43=\"〇\",OFFSET(登録名簿!$C$43,0,2,,),\"\")","v":""},{"$f":"IF(登録名簿!$W$43=\"〇\",OFFSET(登録名簿!$C$43,0,4,,),\"\")","v":""}]
[null,34,null,{"$f":"IF(登録名簿!$T$44=\"〇\",登録名簿!$C$44,\"\")","v":""},{"$f":"IF(登録名簿!$T$44=\"〇\",OFFSET(登録名簿!$C$44,0,2,,),\"\")","v":""},{"$f":"IF(登録名簿!$T$44=\"〇\",OFFSET(登録名簿!$C$44,0,4,,),\"\")","v":""},null,null,null,null,null,null,null,null,null,null,null,null,null,null,null,null,null,null,null,null,null,null,34,null,{"$f":"IF(登録名簿!$U$44=\"〇\",登録名簿!$C$44,\"\")","v":""},{"$f":"IF(登録名簿!$U$44=\"〇\",OFFSET(登録名簿!$C$44,0,2,,),\"\")","v":""},{"$f":"IF(登録名簿!$U$44=\"〇\",OFFSET(登録名簿!$C$44,0,4,,),\"\")","v":""},null,null,null,null,null,null,null,null,null,null,null,null,null,null,null,null,null,null,null,null,null,null,34,null,{"$f":"IF(登録名簿!$V$44=\"〇\",登録名簿!$C$44,\"\")","v":""},{"$f":"IF(登録名簿!$V$44=\"〇\",OFFSET(登録名簿!$C$44,0,2,,),\"\")","v":""},{"$f":"IF(登録名簿!$V$44=\"〇\",OFFSET(登録名簿!$C$44,0,4,,),\"\")","v":""},null,null,null,null,null,null,null,null,null,null,null,null,null,null,null,null,null,null,null,null,null,null,34,null,{"$f":"IF(登録名簿!$W$44=\"〇\",登録名簿!$C$44,\"\")","v":""},{"$f":"IF(登録名簿!$W$44=\"〇\",OFFSET(登録名簿!$C$44,0,2,,),\"\")","v":""},{"$f":"IF(登録名簿!$W$44=\"〇\",OFFSET(登録名簿!$C$44,0,4,,),\"\")","v":""}]
[null,35,null,{"$f":"IF(登録名簿!$T$45=\"〇\",登録名簿!$C$45,\"\")","v":""},{"$f":"IF(登録名簿!$T$45=\"〇\",OFFSET(登録名簿!$C$45,0,2,,),\"\")","v":""},{"$f":"IF(登録名簿!$T$45=\"〇\",OFFSET(登録名簿!$C$45,0,4,,),\"\")","v":""},null,null,null,null,null,null,null,null,null,null,null,null,null,null,null,null,null,null,null,null,null,null,35,null,{"$f":"IF(登録名簿!$U$45=\"〇\",登録名簿!$C$45,\"\")","v":""},{"$f":"IF(登録名簿!$U$45=\"〇\",OFFSET(登録名簿!$C$45,0,2,,),\"\")","v":""},{"$f":"IF(登録名簿!$U$45=\"〇\",OFFSET(登録名簿!$C$45,0,4,,),\"\")","v":""},null,null,null,null,null,null,null,null,null,null,null,null,null,null,null,null,null,null,null,null,null,null,35,null,{"$f":"IF(登録名簿!$V$45=\"〇\",登録名簿!$C$45,\"\")","v":""},{"$f":"IF(登録名簿!$V$45=\"〇\",OFFSET(登録名簿!$C$45,0,2,,),\"\")","v":""},{"$f":"IF(登録名簿!$V$45=\"〇\",OFFSET(登録名簿!$C$45,0,4,,),\"\")","v":""},null,null,null,null,null,null,null,null,null,null,null,null,null,null,null,null,null,null,null,null,null,null,35,null,{"$f":"IF(登録名簿!$W$45=\"〇\",登録名簿!$C$45,\"\")","v":""},{"$f":"IF(登録名簿!$W$45=\"〇\",OFFSET(登録名簿!$C$45,0,2,,),\"\")","v":""},{"$f":"IF(登録名簿!$W$45=\"〇\",OFFSET(登録名簿!$C$45,0,4,,),\"\")","v":""}]
[null,36,null,{"$f":"IF(登録名簿!$T$46=\"〇\",登録名簿!$C$46,\"\")","v":""},{"$f":"IF(登録名簿!$T$46=\"〇\",OFFSET(登録名簿!$C$46,0,2,,),\"\")","v":""},{"$f":"IF(登録名簿!$T$46=\"〇\",OFFSET(登録名簿!$C$46,0,4,,),\"\")","v":""},null,null,null,null,null,null,null,null,null,null,null,null,null,null,null,null,null,null,null,null,null,null,36,null,{"$f":"IF(登録名簿!$U$46=\"〇\",登録名簿!$C$46,\"\")","v":""},{"$f":"IF(登録名簿!$U$46=\"〇\",OFFSET(登録名簿!$C$46,0,2,,),\"\")","v":""},{"$f":"IF(登録名簿!$U$46=\"〇\",OFFSET(登録名簿!$C$46,0,4,,),\"\")","v":""},null,null,null,null,null,null,null,null,null,null,null,null,null,null,null,null,null,null,null,null,null,null,36,null,{"$f":"IF(登録名簿!$V$46=\"〇\",登録名簿!$C$46,\"\")","v":""},{"$f":"IF(登録名簿!$V$46=\"〇\",OFFSET(登録名簿!$C$46,0,2,,),\"\")","v":""},{"$f":"IF(登録名簿!$V$46=\"〇\",OFFSET(登録名簿!$C$46,0,4,,),\"\")","v":""},null,null,null,null,null,null,null,null,null,null,null,null,null,null,null,null,null,null,null,null,null,null,36,null,{"$f":"IF(登録名簿!$W$46=\"〇\",登録名簿!$C$46,\"\")","v":""},{"$f":"IF(登録名簿!$W$46=\"〇\",OFFSET(登録名簿!$C$46,0,2,,),\"\")","v":""},{"$f":"IF(登録名簿!$W$46=\"〇\",OFFSET(登録名簿!$C$46,0,4,,),\"\")","v":""}]
[null,37,null,{"$f":"IF(登録名簿!$T$47=\"〇\",登録名簿!$C$47,\"\")","v":""},{"$f":"IF(登録名簿!$T$47=\"〇\",OFFSET(登録名簿!$C$47,0,2,,),\"\")","v":""},{"$f":"IF(登録名簿!$T$47=\"〇\",OFFSET(登録名簿!$C$47,0,4,,),\"\")","v":""},null,null,null,null,null,null,null,null,null,null,null,null,null,null,null,null,null,null,null,null,null,null,37,null,{"$f":"IF(登録名簿!$U$47=\"〇\",登録名簿!$C$47,\"\")","v":""},{"$f":"IF(登録名簿!$U$47=\"〇\",OFFSET(登録名簿!$C$47,0,2,,),\"\")","v":""},{"$f":"IF(登録名簿!$U$47=\"〇\",OFFSET(登録名簿!$C$47,0,4,,),\"\")","v":""},null,null,null,null,null,null,null,null,null,null,null,null,null,null,null,null,null,null,null,null,null,null,37,null,{"$f":"IF(登録名簿!$V$47=\"〇\",登録名簿!$C$47,\"\")","v":""},{"$f":"IF(登録名簿!$V$47=\"〇\",OFFSET(登録名簿!$C$47,0,2,,),\"\")","v":""},{"$f":"IF(登録名簿!$V$47=\"〇\",OFFSET(登録名簿!$C$47,0,4,,),\"\")","v":""},null,null,null,null,null,null,null,null,null,null,null,null,null,null,null,null,null,null,null,null,null,null,37,null,{"$f":"IF(登録名簿!$W$47=\"〇\",登録名簿!$C$47,\"\")","v":""},{"$f":"IF(登録名簿!$W$47=\"〇\",OFFSET(登録名簿!$C$47,0,2,,),\"\")","v":""},{"$f":"IF(登録名簿!$W$47=\"〇\",OFFSET(登録名簿!$C$47,0,4,,),\"\")","v":""}]
[null,38,null,{"$f":"IF(登録名簿!$T$48=\"〇\",登録名簿!$C$48,\"\")","v":""},{"$f":"IF(登録名簿!$T$48=\"〇\",OFFSET(登録名簿!$C$48,0,2,,),\"\")","v":""},{"$f":"IF(登録名簿!$T$48=\"〇\",OFFSET(登録名簿!$C$48,0,4,,),\"\")","v":""},null,null,null,null,null,null,null,null,null,null,null,null,null,null,null,null,null,null,null,null,null,null,38,null,{"$f":"IF(登録名簿!$U$48=\"〇\",登録名簿!$C$48,\"\")","v":""},{"$f":"IF(登録名簿!$U$48=\"〇\",OFFSET(登録名簿!$C$48,0,2,,),\"\")","v":""},{"$f":"IF(登録名簿!$U$48=\"〇\",OFFSET(登録名簿!$C$48,0,4,,),\"\")","v":""},null,null,null,null,null,null,null,null,null,null,null,null,null,null,null,null,null,null,null,null,null,null,38,null,{"$f":"IF(登録名簿!$V$48=\"〇\",登録名簿!$C$48,\"\")","v":""},{"$f":"IF(登録名簿!$V$48=\"〇\",OFFSET(登録名簿!$C$48,0,2,,),\"\")","v":""},{"$f":"IF(登録名簿!$V$48=\"〇\",OFFSET(登録名簿!$C$48,0,4,,),\"\")","v":""},null,null,null,null,null,null,null,null,null,null,null,null,null,null,null,null,null,null,null,null,null,null,38,null,{"$f":"IF(登録名簿!$W$48=\"〇\",登録名簿!$C$48,\"\")","v":""},{"$f":"IF(登録名簿!$W$48=\"〇\",OFFSET(登録名簿!$C$48,0,2,,),\"\")","v":""},{"$f":"IF(登録名簿!$W$48=\"〇\",OFFSET(登録名簿!$C$48,0,4,,),\"\")","v":""}]
[null,39,null,{"$f":"IF(登録名簿!$T$49=\"〇\",登録名簿!$C$49,\"\")","v":""},{"$f":"IF(登録名簿!$T$49=\"〇\",OFFSET(登録名簿!$C$49,0,2,,),\"\")","v":""},{"$f":"IF(登録名簿!$T$49=\"〇\",OFFSET(登録名簿!$C$49,0,4,,),\"\")","v":""},null,null,null,null,null,null,null,null,null,null,null,null,null,null,null,null,null,null,null,null,null,null,39,null,{"$f":"IF(登録名簿!$U$49=\"〇\",登録名簿!$C$49,\"\")","v":""},{"$f":"IF(登録名簿!$U$49=\"〇\",OFFSET(登録名簿!$C$49,0,2,,),\"\")","v":""},{"$f":"IF(登録名簿!$U$49=\"〇\",OFFSET(登録名簿!$C$49,0,4,,),\"\")","v":""},null,null,null,null,null,null,null,null,null,null,null,null,null,null,null,null,null,null,null,null,null,null,39,null,{"$f":"IF(登録名簿!$V$49=\"〇\",登録名簿!$C$49,\"\")","v":""},{"$f":"IF(登録名簿!$V$49=\"〇\",OFFSET(登録名簿!$C$49,0,2,,),\"\")","v":""},{"$f":"IF(登録名簿!$V$49=\"〇\",OFFSET(登録名簿!$C$49,0,4,,),\"\")","v":""},null,null,null,null,null,null,null,null,null,null,null,null,null,null,null,null,null,null,null,null,null,null,39,null,{"$f":"IF(登録名簿!$W$49=\"〇\",登録名簿!$C$49,\"\")","v":""},{"$f":"IF(登録名簿!$W$49=\"〇\",OFFSET(登録名簿!$C$49,0,2,,),\"\")","v":""},{"$f":"IF(登録名簿!$W$49=\"〇\",OFFSET(登録名簿!$C$49,0,4,,),\"\")","v":""}]
[null,40,null,{"$f":"IF(登録名簿!$T$50=\"〇\",登録名簿!$C$50,\"\")","v":""},{"$f":"IF(登録名簿!$T$50=\"〇\",OFFSET(登録名簿!$C$50,0,2,,),\"\")","v":""},{"$f":"IF(登録名簿!$T$50=\"〇\",OFFSET(登録名簿!$C$50,0,4,,),\"\")","v":""},null,null,null,null,null,null,null,null,null,null,null,null,null,null,null,null,null,null,null,null,null,null,40,null,{"$f":"IF(登録名簿!$U$50=\"〇\",登録名簿!$C$50,\"\")","v":""},{"$f":"IF(登録名簿!$U$50=\"〇\",OFFSET(登録名簿!$C$50,0,2,,),\"\")","v":""},{"$f":"IF(登録名簿!$U$50=\"〇\",OFFSET(登録名簿!$C$50,0,4,,),\"\")","v":""},null,null,null,null,null,null,null,null,null,null,null,null,null,null,null,null,null,null,null,null,null,null,40,null,{"$f":"IF(登録名簿!$V$50=\"〇\",登録名簿!$C$50,\"\")","v":""},{"$f":"IF(登録名簿!$V$50=\"〇\",OFFSET(登録名簿!$C$50,0,2,,),\"\")","v":""},{"$f":"IF(登録名簿!$V$50=\"〇\",OFFSET(登録名簿!$C$50,0,4,,),\"\")","v":""},null,null,null,null,null,null,null,null,null,null,null,null,null,null,null,null,null,null,null,null,null,null,40,null,{"$f":"IF(登録名簿!$W$50=\"〇\",登録名簿!$C$50,\"\")","v":""},{"$f":"IF(登録名簿!$W$50=\"〇\",OFFSET(登録名簿!$C$50,0,2,,),\"\")","v":""},{"$f":"IF(登録名簿!$W$50=\"〇\",OFFSET(登録名簿!$C$50,0,4,,),\"\")","v":""}]
[null,41,null,{"$f":"IF(登録名簿!$T$51=\"〇\",登録名簿!$C$51,\"\")","v":""},{"$f":"IF(登録名簿!$T$51=\"〇\",OFFSET(登録名簿!$C$51,0,2,,),\"\")","v":""},{"$f":"IF(登録名簿!$T$51=\"〇\",OFFSET(登録名簿!$C$51,0,4,,),\"\")","v":""},null,null,null,null,null,null,null,null,null,null,null,null,null,null,null,null,null,null,null,null,null,null,41,null,{"$f":"IF(登録名簿!$U$51=\"〇\",登録名簿!$C$51,\"\")","v":""},{"$f":"IF(登録名簿!$U$51=\"〇\",OFFSET(登録名簿!$C$51,0,2,,),\"\")","v":""},{"$f":"IF(登録名簿!$U$51=\"〇\",OFFSET(登録名簿!$C$51,0,4,,),\"\")","v":""},null,null,null,null,null,null,null,null,null,null,null,null,null,null,null,null,null,null,null,null,null,null,41,null,{"$f":"IF(登録名簿!$V$51=\"〇\",登録名簿!$C$51,\"\")","v":""},{"$f":"IF(登録名簿!$V$51=\"〇\",OFFSET(登録名簿!$C$51,0,2,,),\"\")","v":""},{"$f":"IF(登録名簿!$V$51=\"〇\",OFFSET(登録名簿!$C$51,0,4,,),\"\")","v":""},null,null,null,null,null,null,null,null,null,null,null,null,null,null,null,null,null,null,null,null,null,null,41,null,{"$f":"IF(登録名簿!$W$51=\"〇\",登録名簿!$C$51,\"\")","v":""},{"$f":"IF(登録名簿!$W$51=\"〇\",OFFSET(登録名簿!$C$51,0,2,,),\"\")","v":""},{"$f":"IF(登録名簿!$W$51=\"〇\",OFFSET(登録名簿!$C$51,0,4,,),\"\")","v":""}]
[null,42,null,{"$f":"IF(登録名簿!$T$52=\"〇\",登録名簿!$C$52,\"\")","v":""},{"$f":"IF(登録名簿!$T$52=\"〇\",OFFSET(登録名簿!$C$52,0,2,,),\"\")","v":""},{"$f":"IF(登録名簿!$T$52=\"〇\",OFFSET(登録名簿!$C$52,0,4,,),\"\")","v":""},null,null,null,null,null,null,null,null,null,null,null,null,null,null,null,null,null,null,null,null,null,null,42,null,{"$f":"IF(登録名簿!$U$52=\"〇\",登録名簿!$C$52,\"\")","v":""},{"$f":"IF(登録名簿!$U$52=\"〇\",OFFSET(登録名簿!$C$52,0,2,,),\"\")","v":""},{"$f":"IF(登録名簿!$U$52=\"〇\",OFFSET(登録名簿!$C$52,0,4,,),\"\")","v":""},null,null,null,null,null,null,null,null,null,null,null,null,null,null,null,null,null,null,null,null,null,null,42,null,{"$f":"IF(登録名簿!$V$52=\"〇\",登録名簿!$C$52,\"\")","v":""},{"$f":"IF(登録名簿!$V$52=\"〇\",OFFSET(登録名簿!$C$52,0,2,,),\"\")","v":""},{"$f":"IF(登録名簿!$V$52=\"〇\",OFFSET(登録名簿!$C$52,0,4,,),\"\")","v":""},null,null,null,null,null,null,null,null,null,null,null,null,null,null,null,null,null,null,null,null,null,null,42,null,{"$f":"IF(登録名簿!$W$52=\"〇\",登録名簿!$C$52,\"\")","v":""},{"$f":"IF(登録名簿!$W$52=\"〇\",OFFSET(登録名簿!$C$52,0,2,,),\"\")","v":""},{"$f":"IF(登録名簿!$W$52=\"〇\",OFFSET(登録名簿!$C$52,0,4,,),\"\")","v":""}]
[null,43,null,{"$f":"IF(登録名簿!$T$53=\"〇\",登録名簿!$C$53,\"\")","v":""},{"$f":"IF(登録名簿!$T$53=\"〇\",OFFSET(登録名簿!$C$53,0,2,,),\"\")","v":""},{"$f":"IF(登録名簿!$T$53=\"〇\",OFFSET(登録名簿!$C$53,0,4,,),\"\")","v":""},null,null,null,null,null,null,null,null,null,null,null,null,null,null,null,null,null,null,null,null,null,null,43,null,{"$f":"IF(登録名簿!$U$53=\"〇\",登録名簿!$C$53,\"\")","v":""},{"$f":"IF(登録名簿!$U$53=\"〇\",OFFSET(登録名簿!$C$53,0,2,,),\"\")","v":""},{"$f":"IF(登録名簿!$U$53=\"〇\",OFFSET(登録名簿!$C$53,0,4,,),\"\")","v":""},null,null,null,null,null,null,null,null,null,null,null,null,null,null,null,null,null,null,null,null,null,null,43,null,{"$f":"IF(登録名簿!$V$53=\"〇\",登録名簿!$C$53,\"\")","v":""},{"$f":"IF(登録名簿!$V$53=\"〇\",OFFSET(登録名簿!$C$53,0,2,,),\"\")","v":""},{"$f":"IF(登録名簿!$V$53=\"〇\",OFFSET(登録名簿!$C$53,0,4,,),\"\")","v":""},null,null,null,null,null,null,null,null,null,null,null,null,null,null,null,null,null,null,null,null,null,null,43,null,{"$f":"IF(登録名簿!$W$53=\"〇\",登録名簿!$C$53,\"\")","v":""},{"$f":"IF(登録名簿!$W$53=\"〇\",OFFSET(登録名簿!$C$53,0,2,,),\"\")","v":""},{"$f":"IF(登録名簿!$W$53=\"〇\",OFFSET(登録名簿!$C$53,0,4,,),\"\")","v":""}]
[null,44,null,{"$f":"IF(登録名簿!$T$54=\"〇\",登録名簿!$C$54,\"\")","v":""},{"$f":"IF(登録名簿!$T$54=\"〇\",OFFSET(登録名簿!$C$54,0,2,,),\"\")","v":""},{"$f":"IF(登録名簿!$T$54=\"〇\",OFFSET(登録名簿!$C$54,0,4,,),\"\")","v":""},null,null,null,null,null,null,null,null,null,null,null,null,null,null,null,null,null,null,null,null,null,null,44,null,{"$f":"IF(登録名簿!$U$54=\"〇\",登録名簿!$C$54,\"\")","v":""},{"$f":"IF(登録名簿!$U$54=\"〇\",OFFSET(登録名簿!$C$54,0,2,,),\"\")","v":""},{"$f":"IF(登録名簿!$U$54=\"〇\",OFFSET(登録名簿!$C$54,0,4,,),\"\")","v":""},null,null,null,null,null,null,null,null,null,null,null,null,null,null,null,null,null,null,null,null,null,null,44,null,{"$f":"IF(登録名簿!$V$54=\"〇\",登録名簿!$C$54,\"\")","v":""},{"$f":"IF(登録名簿!$V$54=\"〇\",OFFSET(登録名簿!$C$54,0,2,,),\"\")","v":""},{"$f":"IF(登録名簿!$V$54=\"〇\",OFFSET(登録名簿!$C$54,0,4,,),\"\")","v":""},null,null,null,null,null,null,null,null,null,null,null,null,null,null,null,null,null,null,null,null,null,null,44,null,{"$f":"IF(登録名簿!$W$54=\"〇\",登録名簿!$C$54,\"\")","v":""},{"$f":"IF(登録名簿!$W$54=\"〇\",OFFSET(登録名簿!$C$54,0,2,,),\"\")","v":""},{"$f":"IF(登録名簿!$W$54=\"〇\",OFFSET(登録名簿!$C$54,0,4,,),\"\")","v":""}]
[null,45,null,{"$f":"IF(登録名簿!$T$55=\"〇\",登録名簿!$C$55,\"\")","v":""},{"$f":"IF(登録名簿!$T$55=\"〇\",OFFSET(登録名簿!$C$55,0,2,,),\"\")","v":""},{"$f":"IF(登録名簿!$T$55=\"〇\",OFFSET(登録名簿!$C$55,0,4,,),\"\")","v":""},null,null,null,null,null,null,null,null,null,null,null,null,null,null,null,null,null,null,null,null,null,null,45,null,{"$f":"IF(登録名簿!$U$55=\"〇\",登録名簿!$C$55,\"\")","v":""},{"$f":"IF(登録名簿!$U$55=\"〇\",OFFSET(登録名簿!$C$55,0,2,,),\"\")","v":""},{"$f":"IF(登録名簿!$U$55=\"〇\",OFFSET(登録名簿!$C$55,0,4,,),\"\")","v":""},null,null,null,null,null,null,null,null,null,null,null,null,null,null,null,null,null,null,null,null,null,null,45,null,{"$f":"IF(登録名簿!$V$55=\"〇\",登録名簿!$C$55,\"\")","v":""},{"$f":"IF(登録名簿!$V$55=\"〇\",OFFSET(登録名簿!$C$55,0,2,,),\"\")","v":""},{"$f":"IF(登録名簿!$V$55=\"〇\",OFFSET(登録名簿!$C$55,0,4,,),\"\")","v":""},null,null,null,null,null,null,null,null,null,null,null,null,null,null,null,null,null,null,null,null,null,null,45,null,{"$f":"IF(登録名簿!$W$55=\"〇\",登録名簿!$C$55,\"\")","v":""},{"$f":"IF(登録名簿!$W$55=\"〇\",OFFSET(登録名簿!$C$55,0,2,,),\"\")","v":""},{"$f":"IF(登録名簿!$W$55=\"〇\",OFFSET(登録名簿!$C$55,0,4,,),\"\")","v":""}]
[null,46,null,{"$f":"IF(登録名簿!$T$56=\"〇\",登録名簿!$C$56,\"\")","v":""},{"$f":"IF(登録名簿!$T$56=\"〇\",OFFSET(登録名簿!$C$56,0,2,,),\"\")","v":""},{"$f":"IF(登録名簿!$T$56=\"〇\",OFFSET(登録名簿!$C$56,0,4,,),\"\")","v":""},null,null,null,null,null,null,null,null,null,null,null,null,null,null,null,null,null,null,null,null,null,null,46,null,{"$f":"IF(登録名簿!$U$56=\"〇\",登録名簿!$C$56,\"\")","v":""},{"$f":"IF(登録名簿!$U$56=\"〇\",OFFSET(登録名簿!$C$56,0,2,,),\"\")","v":""},{"$f":"IF(登録名簿!$U$56=\"〇\",OFFSET(登録名簿!$C$56,0,4,,),\"\")","v":""},null,null,null,null,null,null,null,null,null,null,null,null,null,null,null,null,null,null,null,null,null,null,46,null,{"$f":"IF(登録名簿!$V$56=\"〇\",登録名簿!$C$56,\"\")","v":""},{"$f":"IF(登録名簿!$V$56=\"〇\",OFFSET(登録名簿!$C$56,0,2,,),\"\")","v":""},{"$f":"IF(登録名簿!$V$56=\"〇\",OFFSET(登録名簿!$C$56,0,4,,),\"\")","v":""},null,null,null,null,null,null,null,null,null,null,null,null,null,null,null,null,null,null,null,null,null,null,46,null,{"$f":"IF(登録名簿!$W$56=\"〇\",登録名簿!$C$56,\"\")","v":""},{"$f":"IF(登録名簿!$W$56=\"〇\",OFFSET(登録名簿!$C$56,0,2,,),\"\")","v":""},{"$f":"IF(登録名簿!$W$56=\"〇\",OFFSET(登録名簿!$C$56,0,4,,),\"\")","v":""}]
[null,47,null,{"$f":"IF(登録名簿!$T$57=\"〇\",登録名簿!$C$57,\"\")","v":""},{"$f":"IF(登録名簿!$T$57=\"〇\",OFFSET(登録名簿!$C$57,0,2,,),\"\")","v":""},{"$f":"IF(登録名簿!$T$57=\"〇\",OFFSET(登録名簿!$C$57,0,4,,),\"\")","v":""},null,null,null,null,null,null,null,null,null,null,null,null,null,null,null,null,null,null,null,null,null,null,47,null,{"$f":"IF(登録名簿!$U$57=\"〇\",登録名簿!$C$57,\"\")","v":""},{"$f":"IF(登録名簿!$U$57=\"〇\",OFFSET(登録名簿!$C$57,0,2,,),\"\")","v":""},{"$f":"IF(登録名簿!$U$57=\"〇\",OFFSET(登録名簿!$C$57,0,4,,),\"\")","v":""},null,null,null,null,null,null,null,null,null,null,null,null,null,null,null,null,null,null,null,null,null,null,47,null,{"$f":"IF(登録名簿!$V$57=\"〇\",登録名簿!$C$57,\"\")","v":""},{"$f":"IF(登録名簿!$V$57=\"〇\",OFFSET(登録名簿!$C$57,0,2,,),\"\")","v":""},{"$f":"IF(登録名簿!$V$57=\"〇\",OFFSET(登録名簿!$C$57,0,4,,),\"\")","v":""},null,null,null,null,null,null,null,null,null,null,null,null,null,null,null,null,null,null,null,null,null,null,47,null,{"$f":"IF(登録名簿!$W$57=\"〇\",登録名簿!$C$57,\"\")","v":""},{"$f":"IF(登録名簿!$W$57=\"〇\",OFFSET(登録名簿!$C$57,0,2,,),\"\")","v":""},{"$f":"IF(登録名簿!$W$57=\"〇\",OFFSET(登録名簿!$C$57,0,4,,),\"\")","v":""}]
[null,48,null,{"$f":"IF(登録名簿!$T$58=\"〇\",登録名簿!$C$58,\"\")","v":""},{"$f":"IF(登録名簿!$T$58=\"〇\",OFFSET(登録名簿!$C$58,0,2,,),\"\")","v":""},{"$f":"IF(登録名簿!$T$58=\"〇\",OFFSET(登録名簿!$C$58,0,4,,),\"\")","v":""},null,null,null,null,null,null,null,null,null,null,null,null,null,null,null,null,null,null,null,null,null,null,48,null,{"$f":"IF(登録名簿!$U$58=\"〇\",登録名簿!$C$58,\"\")","v":""},{"$f":"IF(登録名簿!$U$58=\"〇\",OFFSET(登録名簿!$C$58,0,2,,),\"\")","v":""},{"$f":"IF(登録名簿!$U$58=\"〇\",OFFSET(登録名簿!$C$58,0,4,,),\"\")","v":""},null,null,null,null,null,null,null,null,null,null,null,null,null,null,null,null,null,null,null,null,null,null,48,null,{"$f":"IF(登録名簿!$V$58=\"〇\",登録名簿!$C$58,\"\")","v":""},{"$f":"IF(登録名簿!$V$58=\"〇\",OFFSET(登録名簿!$C$58,0,2,,),\"\")","v":""},{"$f":"IF(登録名簿!$V$58=\"〇\",OFFSET(登録名簿!$C$58,0,4,,),\"\")","v":""},null,null,null,null,null,null,null,null,null,null,null,null,null,null,null,null,null,null,null,null,null,null,48,null,{"$f":"IF(登録名簿!$W$58=\"〇\",登録名簿!$C$58,\"\")","v":""},{"$f":"IF(登録名簿!$W$58=\"〇\",OFFSET(登録名簿!$C$58,0,2,,),\"\")","v":""},{"$f":"IF(登録名簿!$W$58=\"〇\",OFFSET(登録名簿!$C$58,0,4,,),\"\")","v":""}]
[null,49,null,{"$f":"IF(登録名簿!$T$59=\"〇\",登録名簿!$C$59,\"\")","v":""},{"$f":"IF(登録名簿!$T$59=\"〇\",OFFSET(登録名簿!$C$59,0,2,,),\"\")","v":""},{"$f":"IF(登録名簿!$T$59=\"〇\",OFFSET(登録名簿!$C$59,0,4,,),\"\")","v":""},null,null,null,null,null,null,null,null,null,null,null,null,null,null,null,null,null,null,null,null,null,null,49,null,{"$f":"IF(登録名簿!$U$59=\"〇\",登録名簿!$C$59,\"\")","v":""},{"$f":"IF(登録名簿!$U$59=\"〇\",OFFSET(登録名簿!$C$59,0,2,,),\"\")","v":""},{"$f":"IF(登録名簿!$U$59=\"〇\",OFFSET(登録名簿!$C$59,0,4,,),\"\")","v":""},null,null,null,null,null,null,null,null,null,null,null,null,null,null,null,null,null,null,null,null,null,null,49,null,{"$f":"IF(登録名簿!$V$59=\"〇\",登録名簿!$C$59,\"\")","v":""},{"$f":"IF(登録名簿!$V$59=\"〇\",OFFSET(登録名簿!$C$59,0,2,,),\"\")","v":""},{"$f":"IF(登録名簿!$V$59=\"〇\",OFFSET(登録名簿!$C$59,0,4,,),\"\")","v":""},null,null,null,null,null,null,null,null,null,null,null,null,null,null,null,null,null,null,null,null,null,null,49,null,{"$f":"IF(登録名簿!$W$59=\"〇\",登録名簿!$C$59,\"\")","v":""},{"$f":"IF(登録名簿!$W$59=\"〇\",OFFSET(登録名簿!$C$59,0,2,,),\"\")","v":""},{"$f":"IF(登録名簿!$W$59=\"〇\",OFFSET(登録名簿!$C$59,0,4,,),\"\")","v":""}]
[null,50,null,{"$f":"IF(登録名簿!$T$60=\"〇\",登録名簿!$C$60,\"\")","v":""},{"$f":"IF(登録名簿!$T$60=\"〇\",OFFSET(登録名簿!$C$60,0,2,,),\"\")","v":""},{"$f":"IF(登録名簿!$T$60=\"〇\",OFFSET(登録名簿!$C$60,0,4,,),\"\")","v":""},null,null,null,null,null,null,null,null,null,null,null,null,null,null,null,null,null,null,null,null,null,null,50,null,{"$f":"IF(登録名簿!$U$60=\"〇\",登録名簿!$C$60,\"\")","v":""},{"$f":"IF(登録名簿!$U$60=\"〇\",OFFSET(登録名簿!$C$60,0,2,,),\"\")","v":""},{"$f":"IF(登録名簿!$U$60=\"〇\",OFFSET(登録名簿!$C$60,0,4,,),\"\")","v":""},null,null,null,null,null,null,null,null,null,null,null,null,null,null,null,null,null,null,null,null,null,null,50,null,{"$f":"IF(登録名簿!$V$60=\"〇\",登録名簿!$C$60,\"\")","v":""},{"$f":"IF(登録名簿!$V$60=\"〇\",OFFSET(登録名簿!$C$60,0,2,,),\"\")","v":""},{"$f":"IF(登録名簿!$V$60=\"〇\",OFFSET(登録名簿!$C$60,0,4,,),\"\")","v":""},null,null,null,null,null,null,null,null,null,null,null,null,null,null,null,null,null,null,null,null,null,null,50,null,{"$f":"IF(登録名簿!$W$60=\"〇\",登録名簿!$C$60,\"\")","v":""},{"$f":"IF(登録名簿!$W$60=\"〇\",OFFSET(登録名簿!$C$60,0,2,,),\"\")","v":""},{"$f":"IF(登録名簿!$W$60=\"〇\",OFFSET(登録名簿!$C$60,0,4,,),\"\")","v":""}]
[null,"ＮＯ記入注意",null,"監督・コーチ・マネージャーは黄色いところにクラブ登録名簿の左端ＮＯを入れる",null,null,null,null,null,null,null,null,null,null,null,null,null,null,null,null,null,null,null,null,null,null,null,null,"ＮＯ記入注意",null,"監督・コーチ・マネージャーは黄色いところにクラブ登録名簿の左端ＮＯを入れる",null,null,null,null,null,null,null,null,null,null,null,null,null,null,null,null,null,null,null,null,null,null,null,null,"ＮＯ記入注意",null,"監督・コーチ・マネージャーは黄色いところにクラブ登録名簿の左端ＮＯを入れる",null,null,null,null,null,null,null,null,null,null,null,null,null,null,null,null,null,null,null,null,null,null,null,null,"ＮＯ記入注意",null,"監督・コーチ・マネージャーは黄色いところにクラブ登録名簿の左端ＮＯを入れる"]
[null,"ＮＯ記入注意",null,"主審、副審、記録係は水色のところにクラブ登録名簿の左端NOを入れる。",null,null,null,null,null,null,null,null,null,null,null,null,null,null,null,null,null,null,null,null,null,null,null,null,"ＮＯ記入注意",null,"主審、副審、記録係は水色のところにクラブ登録名簿の左端NOを入れる。",null,null,null,null,null,null,null,null,null,null,null,null,null,null,null,null,null,null,null,null,null,null,null,null,"ＮＯ記入注意",null,"主審、副審、記録係は水色のところにクラブ登録名簿の左端NOを入れる。",null,null,null,null,null,null,null,null,null,null,null,null,null,null,null,null,null,null,null,null,null,null,null,null,"ＮＯ記入注意",null,"主審、副審、記録係は水色のところにクラブ登録名簿の左端NOを入れる。"]

{"sheet":"③9.6ふれあい交流会","index":3,"n_rows":93,"n_cols":10,"rows_kept":93,"cut":false,"hidden":false,"merged":[[13,3,13,4],[14,3,14,4],[15,3,15,4],[16,3,16,4],[31,3,31,4],[17,3,17,4],[18,3,18,4],[19,3,19,4],[20,3,20,4],[21,3,21,4],[27,3,27,4],[22,3,22,4],[23,3,23,4],[24,3,24,4],[25,3,25,4],[26,3,26,4],[33,3,33,4],[33,6,33,7],[33,9,33,10],[37,8,37,10],[28,9,28,10],[29,9,29,10],[30,9,30,10],[34,3,34,4],[34,6,34,7],[28,3,28,4],[29,3,29,4],[30,3,30,4],[25,9,25,10],[26,9,26,10],[27,9,27,10],[38,8,38,10],[31,9,31,10],[34,9,34,10],[16,9,16,10],[17,9,17,10],[18,9,18,10],[13,9,13,10],[14,9,14,10],[15,9,15,10],[22,9,22,10],[23,9,23,10],[24,9,24,10],[19,9,19,10],[20,9,20,10],[21,9,21,10],[10,9,10,10],[11,9,11,10],[12,9,12,10],[6,3,6,5],[6,7,6,10],[8,9,8,10],[9,9,9,10],[8,3,8,4],[9,3,9,4],[10,3,10,4],[11,3,11,4],[12,3,12,4],[0,3,0,10],[1,5,1,6],[1,9,1,10],[2,1,2,10],[3,3,3,10],[4,3,4,5],[4,6,5,6],[4,8,4,10],[5,3,5,5],[5,7,5,10]]}
[null,"【R8年度】",null,"ふれあい交流会　【参加申込書】"]
[null,null,null,null,"開催日:","2026-09-06",null,{"$f":"WEEKDAY(F2,1)","v":1},"申込日:"]
[null,"下記メンバーを登録し、表記トリムバレーボール大会の参加を申し込みます。"]
[null,"種　　　目",null,"シ　ル　バ　ー　以上出場可能　　　"]
[null,"チーム名",null,null,null,null,"住　 所","　〒"]
[null,"代 表 者",null,{"$f":"登録名簿!J4","v":0},null,null,null,{"$f":"登録名簿!J6","v":0}]
[null,"T  E  L",null,{"$f":"登録名簿!J7","v":0},null,null,"mail",{"$f":"登録名簿!J8","v":0}]
[]
["※下記に注釈","No.",null,"氏　　　　名",null,"背番号","性　別","年　齢","申告欄","摘　　　　要"]
[null,"監　　　督",{"$f":"F10","v":0},{"$f":"IFERROR(VLOOKUP(A10, 登録名簿!A11:G60, 3, FALSE), \"\")","v":""},null,{"$f":"IFERROR(VLOOKUP(D10, D13:F32, 3, FALSE), \"\")","v":0},{"$f":"IFERROR(VLOOKUP(A10, 登録名簿!A11:G60, 5, FALSE), \"\")","v":""},{"$f":"IFERROR(VLOOKUP(A10, 登録名簿!A11:G60, 7, FALSE), \"\")","v":""}]
[null,"コ　ー　チ",{"$f":"F11","v":0},{"$f":"IFERROR(VLOOKUP(A11, 登録名簿!A11:G60, 3, FALSE), \"\")","v":""},null,{"$f":"IFERROR(VLOOKUP(D11, D13:F32, 3, FALSE), \"\")","v":0},{"$f":"IFERROR(VLOOKUP(A11, 登録名簿!A11:G60, 5, FALSE), \"\")","v":""},{"$f":"IFERROR(VLOOKUP(A11, 登録名簿!A11:G60, 7, FALSE), \"\")","v":""}]
[null,"マネージャー",0,{"$f":"IFERROR(VLOOKUP(A12, 登録名簿!A11:G60, 3, FALSE), \"\")","v":""},null,{"$f":"IFERROR(VLOOKUP(D12, D13:F32, 3, FALSE), \"\")","v":0},{"$f":"IFERROR(VLOOKUP(A12, 登録名簿!A11:G60, 5, FALSE), \"\")","v":""},{"$f":"IFERROR(VLOOKUP(A12, 登録名簿!A11:G60, 7, FALSE), \"\")","v":""}]
[null,"選手　1",{"$f":"F13","v":0},{"$f":"IFERROR(INDEX($D$42:$D$91, SMALL(IF($D$42:$D$91<>\"\", ROW($D$42:$D$91)-ROW($D$42)+1), ROW(A1))), \"\")","v":""},null,null,{"$f":"IFERROR(INDEX($E$42:$E$91, SMALL(IF($E$42:$E$91<>\"\", ROW($E$42:$E$91)-ROW($E$42)+1), ROW(E1))), \"\")","v":""},{"$f":"IFERROR(INDEX($F$42:$F$91, SMALL(IF($F$42:$F$91<>\"\", ROW($F$42:$F$91)-ROW($F$42)+1), ROW(B1))), \"\")","v":""}]
[null,"選手　2",{"$f":"F14","v":0},{"$f":"IFERROR(INDEX($D$42:$D$91, SMALL(IF($D$42:$D$91<>\"\", ROW($D$42:$D$91)-ROW($D$42)+1), ROW(A2))), \"\")","v":""},null,null,{"$f":"IFERROR(INDEX($E$42:$E$91, SMALL(IF($E$42:$E$91<>\"\", ROW($E$42:$E$91)-ROW($E$42)+1), ROW(A2))), \"\")","v":""},{"$f":"IFERROR(INDEX($F$42:$F$91, SMALL(IF($F$42:$F$91<>\"\", ROW($F$42:$F$91)-ROW($F$42)+1), ROW(B2))), \"\")","v":""}]
[null,"選手　3",0,{"$f":"IFERROR(INDEX($D$42:$D$91, SMALL(IF($D$42:$D$91<>\"\", ROW($D$42:$D$91)-ROW($D$42)+1), ROW(A3))), \"\")","v":""},null,null,{"$f":"IFERROR(INDEX($E$42:$E$91, SMALL(IF($E$42:$E$91<>\"\", ROW($E$42:$E$91)-ROW($E$42)+1), ROW(A3))), \"\")","v":""},{"$f":"IFERROR(INDEX($F$42:$F$91, SMALL(IF($F$42:$F$91<>\"\", ROW($F$42:$F$91)-ROW($F$42)+1), ROW(B3))), \"\")","v":""}]
[null,"選手　4",0,{"$f":"IFERROR(INDEX($D$42:$D$91, SMALL(IF($D$42:$D$91<>\"\", ROW($D$42:$D$91)-ROW($D$42)+1), ROW(A4))), \"\")","v":""},null,null,{"$f":"IFERROR(INDEX($E$42:$E$91, SMALL(IF($E$42:$E$91<>\"\", ROW($E$42:$E$91)-ROW($E$42)+1), ROW(A4))), \"\")","v":""},{"$f":"IFERROR(INDEX($F$42:$F$91, SMALL(IF($F$42:$F$91<>\"\", ROW($F$42:$F$91)-ROW($F$42)+1), ROW(B4))), \"\")","v":""}]
[null,"選手　5",0,{"$f":"IFERROR(INDEX($D$42:$D$91, SMALL(IF($D$42:$D$91<>\"\", ROW($D$42:$D$91)-ROW($D$42)+1), ROW(A5))), \"\")","v":""},null,null,{"$f":"IFERROR(INDEX($E$42:$E$91, SMALL(IF($E$42:$E$91<>\"\", ROW($E$42:$E$91)-ROW($E$42)+1), ROW(A5))), \"\")","v":""},{"$f":"IFERROR(INDEX($F$42:$F$91, SMALL(IF($F$42:$F$91<>\"\", ROW($F$42:$F$91)-ROW($F$42)+1), ROW(B5))), \"\")","v":""}]
[null,"選手　6",0,{"$f":"IFERROR(INDEX($D$42:$D$91, SMALL(IF($D$42:$D$91<>\"\", ROW($D$42:$D$91)-ROW($D$42)+1), ROW(A6))), \"\")","v":""},null,null,{"$f":"IFERROR(INDEX($E$42:$E$91, SMALL(IF($E$42:$E$91<>\"\", ROW($E$42:$E$91)-ROW($E$42)+1), ROW(A6))), \"\")","v":""},{"$f":"IFERROR(INDEX($F$42:$F$91, SMALL(IF($F$42:$F$91<>\"\", ROW($F$42:$F$91)-ROW($F$42)+1), ROW(B6))), \"\")","v":""}]
[null,"選手　7",0,{"$f":"IFERROR(INDEX($D$42:$D$91, SMALL(IF($D$42:$D$91<>\"\", ROW($D$42:$D$91)-ROW($D$42)+1), ROW(A7))), \"\")","v":""},null,null,{"$f":"IFERROR(INDEX($E$42:$E$91, SMALL(IF($E$42:$E$91<>\"\", ROW($E$42:$E$91)-ROW($E$42)+1), ROW(A7))), \"\")","v":""},{"$f":"IFERROR(INDEX($F$42:$F$91, SMALL(IF($F$42:$F$91<>\"\", ROW($F$42:$F$91)-ROW($F$42)+1), ROW(B7))), \"\")","v":""}]
[null,"選手　8",0,{"$f":"IFERROR(INDEX($D$42:$D$91, SMALL(IF($D$42:$D$91<>\"\", ROW($D$42:$D$91)-ROW($D$42)+1), ROW(A8))), \"\")","v":""},null,null,{"$f":"IFERROR(INDEX($E$42:$E$91, SMALL(IF($E$42:$E$91<>\"\", ROW($E$42:$E$91)-ROW($E$42)+1), ROW(A8))), \"\")","v":""},{"$f":"IFERROR(INDEX($F$42:$F$91, SMALL(IF($F$42:$F$91<>\"\", ROW($F$42:$F$91)-ROW($F$42)+1), ROW(B8))), \"\")","v":""}]
[null,"選手　9",0,{"$f":"IFERROR(INDEX($D$42:$D$91, SMALL(IF($D$42:$D$91<>\"\", ROW($D$42:$D$91)-ROW($D$42)+1), ROW(A9))), \"\")","v":""},null,null,{"$f":"IFERROR(INDEX($E$42:$E$91, SMALL(IF($E$42:$E$91<>\"\", ROW($E$42:$E$91)-ROW($E$42)+1), ROW(A9))), \"\")","v":""},{"$f":"IFERROR(INDEX($F$42:$F$91, SMALL(IF($F$42:$F$91<>\"\", ROW($F$42:$F$91)-ROW($F$42)+1), ROW(B9))), \"\")","v":""}]
[null,"選手　10",0,{"$f":"IFERROR(INDEX($D$42:$D$91, SMALL(IF($D$42:$D$91<>\"\", ROW($D$42:$D$91)-ROW($D$42)+1), ROW(A10))), \"\")","v":""},null,null,{"$f":"IFERROR(INDEX($E$42:$E$91, SMALL(IF($E$42:$E$91<>\"\", ROW($E$42:$E$91)-ROW($E$42)+1), ROW(A10))), \"\")","v":""},{"$f":"IFERROR(INDEX($F$42:$F$91, SMALL(IF($F$42:$F$91<>\"\", ROW($F$42:$F$91)-ROW($F$42)+1), ROW(B10))), \"\")","v":""}]
[null,"選手　11",0,{"$f":"IFERROR(INDEX($D$42:$D$91, SMALL(IF($D$42:$D$91<>\"\", ROW($D$42:$D$91)-ROW($D$42)+1), ROW(A11))), \"\")","v":""},null,null,{"$f":"IFERROR(INDEX($E$42:$E$91, SMALL(IF($E$42:$E$91<>\"\", ROW($E$42:$E$91)-ROW($E$42)+1), ROW(A11))), \"\")","v":""},{"$f":"IFERROR(INDEX($F$42:$F$91, SMALL(IF($F$42:$F$91<>\"\", ROW($F$42:$F$91)-ROW($F$42)+1), ROW(B11))), \"\")","v":""}]
[null,"選手　12",0,{"$f":"IFERROR(INDEX($D$42:$D$91, SMALL(IF($D$42:$D$91<>\"\", ROW($D$42:$D$91)-ROW($D$42)+1), ROW(A12))), \"\")","v":""},null,null,{"$f":"IFERROR(INDEX($E$42:$E$91, SMALL(IF($E$42:$E$91<>\"\", ROW($E$42:$E$91)-ROW($E$42)+1), ROW(A12))), \"\")","v":""},{"$f":"IFERROR(INDEX($F$42:$F$91, SMALL(IF($F$42:$F$91<>\"\", ROW($F$42:$F$91)-ROW($F$42)+1), ROW(B12))), \"\")","v":""}]
[null,"選手　13",0,{"$f":"IFERROR(INDEX($D$42:$D$91, SMALL(IF($D$42:$D$91<>\"\", ROW($D$42:$D$91)-ROW($D$42)+1), ROW(A13))), \"\")","v":""},null,null,{"$f":"IFERROR(INDEX($E$42:$E$91, SMALL(IF($E$42:$E$91<>\"\", ROW($E$42:$E$91)-ROW($E$42)+1), ROW(A13))), \"\")","v":""},{"$f":"IFERROR(INDEX($F$42:$F$91, SMALL(IF($F$42:$F$91<>\"\", ROW($F$42:$F$91)-ROW($F$42)+1), ROW(B13))), \"\")","v":""}]
[null,"選手　14",0,{"$f":"IFERROR(INDEX($D$42:$D$91, SMALL(IF($D$42:$D$91<>\"\", ROW($D$42:$D$91)-ROW($D$42)+1), ROW(A14))), \"\")","v":""},null,null,{"$f":"IFERROR(INDEX($E$42:$E$91, SMALL(IF($E$42:$E$91<>\"\", ROW($E$42:$E$91)-ROW($E$42)+1), ROW(A14))), \"\")","v":""},{"$f":"IFERROR(INDEX($F$42:$F$91, SMALL(IF($F$42:$F$91<>\"\", ROW($F$42:$F$91)-ROW($F$42)+1), ROW(B14))), \"\")","v":""}]
[null,"選手　15",0,{"$f":"IFERROR(INDEX($D$42:$D$91, SMALL(IF($D$42:$D$91<>\"\", ROW($D$42:$D$91)-ROW($D$42)+1), ROW(A15))), \"\")","v":""},null,null,{"$f":"IFERROR(INDEX($E$42:$E$91, SMALL(IF($E$42:$E$91<>\"\", ROW($E$42:$E$91)-ROW($E$42)+1), ROW(A15))), \"\")","v":""},{"$f":"IFERROR(INDEX($F$42:$F$91, SMALL(IF($F$42:$F$91<>\"\", ROW($F$42:$F$91)-ROW($F$42)+1), ROW(B15))), \"\")","v":""}]
[null,"選手　16",0,{"$f":"IFERROR(INDEX($D$42:$D$91, SMALL(IF($D$42:$D$91<>\"\", ROW($D$42:$D$91)-ROW($D$42)+1), ROW(A16))), \"\")","v":""},null,null,{"$f":"IFERROR(INDEX($E$42:$E$91, SMALL(IF($E$42:$E$91<>\"\", ROW($E$42:$E$91)-ROW($E$42)+1), ROW(A16))), \"\")","v":""},{"$f":"IFERROR(INDEX($F$42:$F$91, SMALL(IF($F$42:$F$91<>\"\", ROW($F$42:$F$91)-ROW($F$42)+1), ROW(B16))), \"\")","v":""}]
[null,"選手　17",0,{"$f":"IFERROR(INDEX($D$42:$D$91, SMALL(IF($D$42:$D$91<>\"\", ROW($D$42:$D$91)-ROW($D$42)+1), ROW(A17))), \"\")","v":""},null,null,{"$f":"IFERROR(INDEX($E$42:$E$91, SMALL(IF($E$42:$E$91<>\"\", ROW($E$42:$E$91)-ROW($E$42)+1), ROW(A17))), \"\")","v":""},{"$f":"IFERROR(INDEX($F$42:$F$91, SMALL(IF($F$42:$F$91<>\"\", ROW($F$42:$F$91)-ROW($F$42)+1), ROW(B17))), \"\")","v":""}]
[null,"選手　18",0,{"$f":"IFERROR(INDEX($D$42:$D$91, SMALL(IF($D$42:$D$91<>\"\", ROW($D$42:$D$91)-ROW($D$42)+1), ROW(A18))), \"\")","v":""},null,null,{"$f":"IFERROR(INDEX($E$42:$E$91, SMALL(IF($E$42:$E$91<>\"\", ROW($E$42:$E$91)-ROW($E$42)+1), ROW(A18))), \"\")","v":""},{"$f":"IFERROR(INDEX($F$42:$F$91, SMALL(IF($F$42:$F$91<>\"\", ROW($F$42:$F$91)-ROW($F$42)+1), ROW(B18))), \"\")","v":""}]
[null,"選手　19",0,{"$f":"IFERROR(INDEX($D$42:$D$91, SMALL(IF($D$42:$D$91<>\"\", ROW($D$42:$D$91)-ROW($D$42)+1), ROW(A19))), \"\")","v":""},null,null,{"$f":"IFERROR(INDEX($E$42:$E$91, SMALL(IF($E$42:$E$91<>\"\", ROW($E$42:$E$91)-ROW($E$42)+1), ROW(A19))), \"\")","v":""},{"$f":"IFERROR(INDEX($F$42:$F$91, SMALL(IF($F$42:$F$91<>\"\", ROW($F$42:$F$91)-ROW($F$42)+1), ROW(B19))), \"\")","v":""}]
[null,"選手　20",0,{"$f":"IFERROR(INDEX($D$42:$D$91, SMALL(IF($D$42:$D$91<>\"\", ROW($D$42:$D$91)-ROW($D$42)+1), ROW(A20))), \"\")","v":""},null,null,{"$f":"IFERROR(INDEX($E$42:$E$91, SMALL(IF($E$42:$E$91<>\"\", ROW($E$42:$E$91)-ROW($E$42)+1), ROW(A20))), \"\")","v":""},{"$f":"IFERROR(INDEX($F$42:$F$91, SMALL(IF($F$42:$F$91<>\"\", ROW($F$42:$F$91)-ROW($F$42)+1), ROW(B20))), \"\")","v":""}]
[]
[null,"主審氏名",null,{"$f":"IFERROR(VLOOKUP(D35, 登録名簿!A11:G60, 3, FALSE), \"\")","v":""},null,"副審氏名",{"$f":"IFERROR(VLOOKUP(G35, 登録名簿!A11:G60, 3, FALSE), \"\")","v":""},null,"記録係",{"$f":"IFERROR(VLOOKUP(J35, 登録名簿!A11:G60, 3, FALSE), \"\")","v":""}]
[null,"※下記に注釈"]
[null,"※注1　種目の該当項目を○で囲み、選手名・大会審判員・記録係を記入して下さい。"]
[null,"※注2　女子のゴールド45歳～49歳、シルバー30歳代の選手は申告欄に○印を記入して下さい。"]
[null,"※注3　キャプテンは申告欄に◎印を記入して下さい。"]
[null,null,null,null,null,null,null,null,"金沢市中高年トリムバレーボール連盟"]
[]
[]
[null,1,null,{"$f":"IF(登録名簿!$Y$11=\"〇\",登録名簿!$C$11,\"\")","v":""},{"$f":"IF(登録名簿!$Y$11=\"〇\",OFFSET(登録名簿!$C$11,0,2,,),\"\")","v":""},{"$f":"IF(登録名簿!$Y$11=\"〇\",OFFSET(登録名簿!$C$11,0,4,,),\"\")","v":""}]
[null,2,null,{"$f":"IF(登録名簿!$Y$12=\"〇\",登録名簿!$C$12,\"\")","v":""},{"$f":"IF(登録名簿!$Y$12=\"〇\",OFFSET(登録名簿!$C$12,0,2,,),\"\")","v":""},{"$f":"IF(登録名簿!$Y$12=\"〇\",OFFSET(登録名簿!$C$12,0,4,,),\"\")","v":""}]
[null,3,null,{"$f":"IF(登録名簿!$Y$13=\"〇\",登録名簿!$C$13,\"\")","v":""},{"$f":"IF(登録名簿!$Y$13=\"〇\",OFFSET(登録名簿!$C$13,0,2,,),\"\")","v":""},{"$f":"IF(登録名簿!$Y$13=\"〇\",OFFSET(登録名簿!$C$13,0,4,,),\"\")","v":""}]
[null,4,null,{"$f":"IF(登録名簿!$Y$14=\"〇\",登録名簿!$C$14,\"\")","v":""},{"$f":"IF(登録名簿!$Y$14=\"〇\",OFFSET(登録名簿!$C$14,0,2,,),\"\")","v":""},{"$f":"IF(登録名簿!$Y$14=\"〇\",OFFSET(登録名簿!$C$14,0,4,,),\"\")","v":""}]
[null,5,null,{"$f":"IF(登録名簿!$Y$15=\"〇\",登録名簿!$C$15,\"\")","v":""},{"$f":"IF(登録名簿!$Y$15=\"〇\",OFFSET(登録名簿!$C$15,0,2,,),\"\")","v":""},{"$f":"IF(登録名簿!$Y$15=\"〇\",OFFSET(登録名簿!$C$15,0,4,,),\"\")","v":""}]
[null,6,null,{"$f":"IF(登録名簿!$Y$16=\"〇\",登録名簿!$C$16,\"\")","v":""},{"$f":"IF(登録名簿!$Y$16=\"〇\",OFFSET(登録名簿!$C$16,0,2,,),\"\")","v":""},{"$f":"IF(登録名簿!$Y$16=\"〇\",OFFSET(登録名簿!$C$16,0,4,,),\"\")","v":""}]
[null,7,null,{"$f":"IF(登録名簿!$Y$17=\"〇\",登録名簿!$C$17,\"\")","v":""},{"$f":"IF(登録名簿!$Y$17=\"〇\",OFFSET(登録名簿!$C$17,0,2,,),\"\")","v":""},{"$f":"IF(登録名簿!$Y$17=\"〇\",OFFSET(登録名簿!$C$17,0,4,,),\"\")","v":""}]
[null,8,null,{"$f":"IF(登録名簿!$Y$18=\"〇\",登録名簿!$C$18,\"\")","v":""},{"$f":"IF(登録名簿!$Y$18=\"〇\",OFFSET(登録名簿!$C$18,0,2,,),\"\")","v":""},{"$f":"IF(登録名簿!$Y$18=\"〇\",OFFSET(登録名簿!$C$18,0,4,,),\"\")","v":""}]
[null,9,null,{"$f":"IF(登録名簿!$Y$19=\"〇\",登録名簿!$C$19,\"\")","v":""},{"$f":"IF(登録名簿!$Y$19=\"〇\",OFFSET(登録名簿!$C$19,0,2,,),\"\")","v":""},{"$f":"IF(登録名簿!$Y$19=\"〇\",OFFSET(登録名簿!$C$19,0,4,,),\"\")","v":""}]
[null,10,null,{"$f":"IF(登録名簿!$Y$20=\"〇\",登録名簿!$C$20,\"\")","v":""},{"$f":"IF(登録名簿!$Y$20=\"〇\",OFFSET(登録名簿!$C$20,0,2,,),\"\")","v":""},{"$f":"IF(登録名簿!$Y$20=\"〇\",OFFSET(登録名簿!$C$20,0,4,,),\"\")","v":""}]
[null,11,null,{"$f":"IF(登録名簿!$Y$21=\"〇\",登録名簿!$C$21,\"\")","v":""},{"$f":"IF(登録名簿!$Y$21=\"〇\",OFFSET(登録名簿!$C$21,0,2,,),\"\")","v":""},{"$f":"IF(登録名簿!$Y$21=\"〇\",OFFSET(登録名簿!$C$21,0,4,,),\"\")","v":""}]
[null,12,null,{"$f":"IF(登録名簿!$Y$22=\"〇\",登録名簿!$C$22,\"\")","v":""},{"$f":"IF(登録名簿!$Y$22=\"〇\",OFFSET(登録名簿!$C$22,0,2,,),\"\")","v":""},{"$f":"IF(登録名簿!$Y$22=\"〇\",OFFSET(登録名簿!$C$22,0,4,,),\"\")","v":""}]
[null,13,null,{"$f":"IF(登録名簿!$Y$23=\"〇\",登録名簿!$C$23,\"\")","v":""},{"$f":"IF(登録名簿!$Y$23=\"〇\",OFFSET(登録名簿!$C$23,0,2,,),\"\")","v":""},{"$f":"IF(登録名簿!$Y$23=\"〇\",OFFSET(登録名簿!$C$23,0,4,,),\"\")","v":""}]
[null,14,null,{"$f":"IF(登録名簿!$Y$24=\"〇\",登録名簿!$C$24,\"\")","v":""},{"$f":"IF(登録名簿!$Y$24=\"〇\",OFFSET(登録名簿!$C$24,0,2,,),\"\")","v":""},{"$f":"IF(登録名簿!$Y$24=\"〇\",OFFSET(登録名簿!$C$24,0,4,,),\"\")","v":""}]
[null,15,null,{"$f":"IF(登録名簿!$Y$25=\"〇\",登録名簿!$C$25,\"\")","v":""},{"$f":"IF(登録名簿!$Y$25=\"〇\",OFFSET(登録名簿!$C$25,0,2,,),\"\")","v":""},{"$f":"IF(登録名簿!$Y$25=\"〇\",OFFSET(登録名簿!$C$25,0,4,,),\"\")","v":""}]
[null,16,null,{"$f":"IF(登録名簿!$Y$26=\"〇\",登録名簿!$C$26,\"\")","v":""},{"$f":"IF(登録名簿!$Y$26=\"〇\",OFFSET(登録名簿!$C$26,0,2,,),\"\")","v":""},{"$f":"IF(登録名簿!$Y$26=\"〇\",OFFSET(登録名簿!$C$26,0,4,,),\"\")","v":""}]
[null,17,null,{"$f":"IF(登録名簿!$Y$27=\"〇\",登録名簿!$C$27,\"\")","v":""},{"$f":"IF(登録名簿!$Y$27=\"〇\",OFFSET(登録名簿!$C$27,0,2,,),\"\")","v":""},{"$f":"IF(登録名簿!$Y$27=\"〇\",OFFSET(登録名簿!$C$27,0,4,,),\"\")","v":""}]
[null,18,null,{"$f":"IF(登録名簿!$Y$28=\"〇\",登録名簿!$C$28,\"\")","v":""},{"$f":"IF(登録名簿!$Y$28=\"〇\",OFFSET(登録名簿!$C$28,0,2,,),\"\")","v":""},{"$f":"IF(登録名簿!$Y$28=\"〇\",OFFSET(登録名簿!$C$28,0,4,,),\"\")","v":""}]
[null,19,null,{"$f":"IF(登録名簿!$Y$29=\"〇\",登録名簿!$C$29,\"\")","v":""},{"$f":"IF(登録名簿!$Y$29=\"〇\",OFFSET(登録名簿!$C$29,0,2,,),\"\")","v":""},{"$f":"IF(登録名簿!$Y$29=\"〇\",OFFSET(登録名簿!$C$29,0,4,,),\"\")","v":""}]
[null,20,null,{"$f":"IF(登録名簿!$Y$30=\"〇\",登録名簿!$C$30,\"\")","v":""},{"$f":"IF(登録名簿!$Y$30=\"〇\",OFFSET(登録名簿!$C$30,0,2,,),\"\")","v":""},{"$f":"IF(登録名簿!$Y$30=\"〇\",OFFSET(登録名簿!$C$30,0,4,,),\"\")","v":""}]
[null,21,null,{"$f":"IF(登録名簿!$Y$31=\"〇\",登録名簿!$C$31,\"\")","v":""},{"$f":"IF(登録名簿!$Y$31=\"〇\",OFFSET(登録名簿!$C$31,0,2,,),\"\")","v":""},{"$f":"IF(登録名簿!$Y$31=\"〇\",OFFSET(登録名簿!$C$31,0,4,,),\"\")","v":""}]
[null,22,null,{"$f":"IF(登録名簿!$Y$32=\"〇\",登録名簿!$C$32,\"\")","v":""},{"$f":"IF(登録名簿!$Y$32=\"〇\",OFFSET(登録名簿!$C$32,0,2,,),\"\")","v":""},{"$f":"IF(登録名簿!$Y$32=\"〇\",OFFSET(登録名簿!$C$32,0,4,,),\"\")","v":""}]
[null,23,null,{"$f":"IF(登録名簿!$Y$33=\"〇\",登録名簿!$C$33,\"\")","v":""},{"$f":"IF(登録名簿!$Y$33=\"〇\",OFFSET(登録名簿!$C$33,0,2,,),\"\")","v":""},{"$f":"IF(登録名簿!$Y$33=\"〇\",OFFSET(登録名簿!$C$33,0,4,,),\"\")","v":""}]
[null,24,null,{"$f":"IF(登録名簿!$Y$34=\"〇\",登録名簿!$C$34,\"\")","v":""},{"$f":"IF(登録名簿!$Y$34=\"〇\",OFFSET(登録名簿!$C$34,0,2,,),\"\")","v":""},{"$f":"IF(登録名簿!$Y$34=\"〇\",OFFSET(登録名簿!$C$34,0,4,,),\"\")","v":""}]
[null,25,null,{"$f":"IF(登録名簿!$Y$35=\"〇\",登録名簿!$C$35,\"\")","v":""},{"$f":"IF(登録名簿!$Y$35=\"〇\",OFFSET(登録名簿!$C$35,0,2,,),\"\")","v":""},{"$f":"IF(登録名簿!$Y$35=\"〇\",OFFSET(登録名簿!$C$35,0,4,,),\"\")","v":""}]
[null,26,null,{"$f":"IF(登録名簿!$Y$36=\"〇\",登録名簿!$C$36,\"\")","v":""},{"$f":"IF(登録名簿!$Y$36=\"〇\",OFFSET(登録名簿!$C$36,0,2,,),\"\")","v":""},{"$f":"IF(登録名簿!$Y$36=\"〇\",OFFSET(登録名簿!$C$36,0,4,,),\"\")","v":""}]
[null,27,null,{"$f":"IF(登録名簿!$Y$37=\"〇\",登録名簿!$C$37,\"\")","v":""},{"$f":"IF(登録名簿!$Y$37=\"〇\",OFFSET(登録名簿!$C$37,0,2,,),\"\")","v":""},{"$f":"IF(登録名簿!$Y$37=\"〇\",OFFSET(登録名簿!$C$37,0,4,,),\"\")","v":""}]
[null,28,null,{"$f":"IF(登録名簿!$Y$38=\"〇\",登録名簿!$C$38,\"\")","v":""},{"$f":"IF(登録名簿!$Y$38=\"〇\",OFFSET(登録名簿!$C$38,0,2,,),\"\")","v":""},{"$f":"IF(登録名簿!$Y$38=\"〇\",OFFSET(登録名簿!$C$38,0,4,,),\"\")","v":""}]
[null,29,null,{"$f":"IF(登録名簿!$Y$39=\"〇\",登録名簿!$C$39,\"\")","v":""},{"$f":"IF(登録名簿!$Y$39=\"〇\",OFFSET(登録名簿!$C$39,0,2,,),\"\")","v":""},{"$f":"IF(登録名簿!$Y$39=\"〇\",OFFSET(登録名簿!$C$39,0,4,,),\"\")","v":""}]
[null,30,null,{"$f":"IF(登録名簿!$Y$40=\"〇\",登録名簿!$C$40,\"\")","v":""},{"$f":"IF(登録名簿!$Y$40=\"〇\",OFFSET(登録名簿!$C$40,0,2,,),\"\")","v":""},{"$f":"IF(登録名簿!$Y$40=\"〇\",OFFSET(登録名簿!$C$40,0,4,,),\"\")","v":""}]
[null,31,null,{"$f":"IF(登録名簿!$Y$41=\"〇\",登録名簿!$C$41,\"\")","v":""},{"$f":"IF(登録名簿!$Y$41=\"〇\",OFFSET(登録名簿!$C$41,0,2,,),\"\")","v":""},{"$f":"IF(登録名簿!$Y$41=\"〇\",OFFSET(登録名簿!$C$41,0,4,,),\"\")","v":""}]
[null,32,null,{"$f":"IF(登録名簿!$Y$42=\"〇\",登録名簿!$C$42,\"\")","v":""},{"$f":"IF(登録名簿!$Y$42=\"〇\",OFFSET(登録名簿!$C$42,0,2,,),\"\")","v":""},{"$f":"IF(登録名簿!$Y$42=\"〇\",OFFSET(登録名簿!$C$42,0,4,,),\"\")","v":""}]
[null,33,null,{"$f":"IF(登録名簿!$Y$43=\"〇\",登録名簿!$C$43,\"\")","v":""},{"$f":"IF(登録名簿!$Y$43=\"〇\",OFFSET(登録名簿!$C$43,0,2,,),\"\")","v":""},{"$f":"IF(登録名簿!$Y$43=\"〇\",OFFSET(登録名簿!$C$43,0,4,,),\"\")","v":""}]
[null,34,null,{"$f":"IF(登録名簿!$Y$44=\"〇\",登録名簿!$C$44,\"\")","v":""},{"$f":"IF(登録名簿!$Y$44=\"〇\",OFFSET(登録名簿!$C$44,0,2,,),\"\")","v":""},{"$f":"IF(登録名簿!$Y$44=\"〇\",OFFSET(登録名簿!$C$44,0,4,,),\"\")","v":""}]
[null,35,null,{"$f":"IF(登録名簿!$Y$45=\"〇\",登録名簿!$C$45,\"\")","v":""},{"$f":"IF(登録名簿!$Y$45=\"〇\",OFFSET(登録名簿!$C$45,0,2,,),\"\")","v":""},{"$f":"IF(登録名簿!$Y$45=\"〇\",OFFSET(登録名簿!$C$45,0,4,,),\"\")","v":""}]
[null,36,null,{"$f":"IF(登録名簿!$Y$46=\"〇\",登録名簿!$C$46,\"\")","v":""},{"$f":"IF(登録名簿!$Y$46=\"〇\",OFFSET(登録名簿!$C$46,0,2,,),\"\")","v":""},{"$f":"IF(登録名簿!$Y$46=\"〇\",OFFSET(登録名簿!$C$46,0,4,,),\"\")","v":""}]
[null,37,null,{"$f":"IF(登録名簿!$Y$47=\"〇\",登録名簿!$C$47,\"\")","v":""},{"$f":"IF(登録名簿!$Y$47=\"〇\",OFFSET(登録名簿!$C$47,0,2,,),\"\")","v":""},{"$f":"IF(登録名簿!$Y$47=\"〇\",OFFSET(登録名簿!$C$47,0,4,,),\"\")","v":""}]
[null,38,null,{"$f":"IF(登録名簿!$Y$48=\"〇\",登録名簿!$C$48,\"\")","v":""},{"$f":"IF(登録名簿!$Y$48=\"〇\",OFFSET(登録名簿!$C$48,0,2,,),\"\")","v":""},{"$f":"IF(登録名簿!$Y$48=\"〇\",OFFSET(登録名簿!$C$48,0,4,,),\"\")","v":""}]
[null,39,null,{"$f":"IF(登録名簿!$Y$49=\"〇\",登録名簿!$C$49,\"\")","v":""},{"$f":"IF(登録名簿!$Y$49=\"〇\",OFFSET(登録名簿!$C$49,0,2,,),\"\")","v":""},{"$f":"IF(登録名簿!$Y$49=\"〇\",OFFSET(登録名簿!$C$49,0,4,,),\"\")","v":""}]
[null,40,null,{"$f":"IF(登録名簿!$Y$50=\"〇\",登録名簿!$C$50,\"\")","v":""},{"$f":"IF(登録名簿!$Y$50=\"〇\",OFFSET(登録名簿!$C$50,0,2,,),\"\")","v":""},{"$f":"IF(登録名簿!$Y$50=\"〇\",OFFSET(登録名簿!$C$50,0,4,,),\"\")","v":""}]
[null,41,null,{"$f":"IF(登録名簿!$Y$51=\"〇\",登録名簿!$C$51,\"\")","v":""},{"$f":"IF(登録名簿!$Y$51=\"〇\",OFFSET(登録名簿!$C$51,0,2,,),\"\")","v":""},{"$f":"IF(登録名簿!$Y$51=\"〇\",OFFSET(登録名簿!$C$51,0,4,,),\"\")","v":""}]
[null,42,null,{"$f":"IF(登録名簿!$Y$52=\"〇\",登録名簿!$C$52,\"\")","v":""},{"$f":"IF(登録名簿!$Y$52=\"〇\",OFFSET(登録名簿!$C$52,0,2,,),\"\")","v":""},{"$f":"IF(登録名簿!$Y$52=\"〇\",OFFSET(登録名簿!$C$52,0,4,,),\"\")","v":""}]
[null,43,null,{"$f":"IF(登録名簿!$Y$53=\"〇\",登録名簿!$C$53,\"\")","v":""},{"$f":"IF(登録名簿!$Y$53=\"〇\",OFFSET(登録名簿!$C$53,0,2,,),\"\")","v":""},{"$f":"IF(登録名簿!$Y$53=\"〇\",OFFSET(登録名簿!$C$53,0,4,,),\"\")","v":""}]
[null,44,null,{"$f":"IF(登録名簿!$Y$54=\"〇\",登録名簿!$C$54,\"\")","v":""},{"$f":"IF(登録名簿!$Y$54=\"〇\",OFFSET(登録名簿!$C$54,0,2,,),\"\")","v":""},{"$f":"IF(登録名簿!$Y$54=\"〇\",OFFSET(登録名簿!$C$54,0,4,,),\"\")","v":""}]
[null,45,null,{"$f":"IF(登録名簿!$Y$55=\"〇\",登録名簿!$C$55,\"\")","v":""},{"$f":"IF(登録名簿!$Y$55=\"〇\",OFFSET(登録名簿!$C$55,0,2,,),\"\")","v":""},{"$f":"IF(登録名簿!$Y$55=\"〇\",OFFSET(登録名簿!$C$55,0,4,,),\"\")","v":""}]
[null,46,null,{"$f":"IF(登録名簿!$Y$56=\"〇\",登録名簿!$C$56,\"\")","v":""},{"$f":"IF(登録名簿!$Y$56=\"〇\",OFFSET(登録名簿!$C$56,0,2,,),\"\")","v":""},{"$f":"IF(登録名簿!$Y$56=\"〇\",OFFSET(登録名簿!$C$56,0,4,,),\"\")","v":""}]
[null,47,null,{"$f":"IF(登録名簿!$Y$57=\"〇\",登録名簿!$C$57,\"\")","v":""},{"$f":"IF(登録名簿!$Y$57=\"〇\",OFFSET(登録名簿!$C$57,0,2,,),\"\")","v":""},{"$f":"IF(登録名簿!$Y$57=\"〇\",OFFSET(登録名簿!$C$57,0,4,,),\"\")","v":""}]
[null,48,null,{"$f":"IF(登録名簿!$Y$58=\"〇\",登録名簿!$C$58,\"\")","v":""},{"$f":"IF(登録名簿!$Y$58=\"〇\",OFFSET(登録名簿!$C$58,0,2,,),\"\")","v":""},{"$f":"IF(登録名簿!$Y$58=\"〇\",OFFSET(登録名簿!$C$58,0,4,,),\"\")","v":""}]
[null,49,null,{"$f":"IF(登録名簿!$Y$59=\"〇\",登録名簿!$C$59,\"\")","v":""},{"$f":"IF(登録名簿!$Y$59=\"〇\",OFFSET(登録名簿!$C$59,0,2,,),\"\")","v":""},{"$f":"IF(登録名簿!$Y$59=\"〇\",OFFSET(登録名簿!$C$59,0,4,,),\"\")","v":""}]
[null,50,null,{"$f":"IF(登録名簿!$Y$60=\"〇\",登録名簿!$C$60,\"\")","v":""},{"$f":"IF(登録名簿!$Y$60=\"〇\",OFFSET(登録名簿!$C$60,0,2,,),\"\")","v":""},{"$f":"IF(登録名簿!$Y$60=\"〇\",OFFSET(登録名簿!$C$60,0,4,,),\"\")","v":""}]
[null,"ＮＯ記入注意",null,"監督・コーチ・マネージャーは黄色いところにクラブ登録名簿の左端ＮＯを入れる"]
[null,"ＮＯ記入注意",null,"主審、副審、記録係は水色のところにクラブ登録名簿の左端NOを入れる。"]

{"sheet":"④１０．１1（１2回スポレク杯）","index":4,"n_rows":93,"n_cols":106,"rows_kept":93,"cut":false,"hidden":false,"merged":[[27,30,27,31],[28,30,28,31],[29,30,29,31],[30,30,30,31],[31,30,31,31],[18,30,18,31],[19,30,19,31],[20,30,20,31],[21,30,21,31],[22,30,22,31],[23,30,23,31],[24,30,24,31],[25,30,25,31],[26,30,26,31],[9,30,9,31],[10,30,10,31],[11,30,11,31],[12,30,12,31],[13,30,13,31],[14,30,14,31],[15,30,15,31],[16,30,16,31],[17,30,17,31],[10,93,10,94],[10,95,10,98],[10,101,10,102],[10,103,10,106],[0,93,0,94],[0,97,0,98],[0,101,0,102],[0,105,0,106],[1,93,1,98],[1,101,1,106],[2,93,2,98],[2,101,2,106],[3,93,3,98],[3,101,3,106],[5,95,5,98],[5,103,5,106],[8,93,8,94],[8,95,8,98],[8,101,8,102],[8,103,8,106],[9,93,9,94],[9,95,9,98],[9,101,9,102],[9,103,9,106],[29,57,29,58],[30,57,30,58],[31,57,31,58],[8,84,8,85],[9,84,9,85],[10,84,10,85],[11,84,11,85],[12,84,12,85],[13,84,13,85],[14,84,14,85],[15,84,15,85],[16,84,16,85],[17,84,17,85],[18,84,18,85],[19,84,19,85],[20,84,20,85],[21,84,21,85],[22,84,22,85],[23,84,23,85],[24,84,24,85],[25,84,25,85],[26,84,26,85],[27,84,27,85],[10,76,10,79],[8,57,8,58],[9,57,9,58],[10,57,10,58],[11,57,11,58],[12,57,12,58],[13,57,13,58],[14,57,14,58],[15,57,15,58],[8,63,8,64],[9,63,9,64],[10,49,10,52],[0,66,0,67],[0,70,0,71],[0,74,0,75],[0,78,0,79],[1,66,1,71],[1,74,1,79],[2,66,2,71],[2,74,2,79],[3,66,3,71],[3,74,3,79],[5,68,5,71],[5,76,5,79],[8,66,8,67],[8,68,8,71],[8,74,8,75],[8,76,8,79],[9,66,9,67],[9,68,9,71],[9,74,9,75],[9,76,9,79],[10,66,10,67],[10,68,10,71],[10,74,10,75],[10,22,10,25],[0,39,0,40],[0,43,0,44],[0,47,0,48],[0,51,0,52],[1,39,1,44],[1,47,1,52],[2,39,2,44],[2,47,2,52],[3,39,3,44],[3,47,3,52],[5,41,5,44],[5,49,5,52],[8,39,8,40],[8,41,8,44],[8,47,8,48],[8,49,8,52],[9,39,9,40],[9,41,9,44],[9,47,9,48],[9,49,9,52],[10,39,10,40],[10,41,10,44],[10,47,10,48],[31,3,31,4],[0,12,0,13],[0,16,0,17],[0,20,0,21],[0,24,0,25],[1,12,1,17],[1,20,1,25],[2,12,2,17],[2,20,2,25],[3,12,3,17],[3,20,3,25],[5,14,5,17],[5,22,5,25],[8,12,8,13],[8,14,8,17],[8,20,8,21],[8,22,8,25],[9,12,9,13],[9,14,9,17],[9,20,9,21],[9,22,9,25],[10,12,10,13],[10,14,10,17],[10,20,10,21],[10,3,10,4],[11,3,11,4],[12,3,12,4],[13,3,13,4],[14,3,14,4],[15,3,15,4],[16,3,16,4],[17,3,17,4],[18,3,18,4],[31,84,31,85],[37,89,37,91],[38,89,38,91],[29,90,29,91],[30,90,30,91],[31,90,31,91],[22,90,22,91],[26,90,26,91],[27,90,27,91],[28,90,28,91],[23,90,23,91],[24,90,24,91],[25,90,25,91],[34,84,34,85],[34,87,34,88],[34,90,34,91],[33,57,33,58],[33,60,33,61],[33,63,33,64],[37,62,37,64],[8,90,8,91],[9,90,9,91],[10,90,10,91],[4,84,4,86],[4,87,5,87],[4,89,4,91],[5,84,5,86],[5,88,5,91],[6,84,6,86],[6,88,6,91],[22,63,22,64],[23,63,23,64],[24,63,24,64],[33,84,33,85],[33,87,33,88],[33,90,33,91],[14,90,14,91],[15,90,15,91],[16,90,16,91],[11,90,11,91],[21,63,21,64],[28,63,28,64],[29,63,29,64],[30,63,30,64],[25,63,25,64],[26,63,26,64],[27,63,27,64],[38,62,38,64],[0,84,0,91],[1,86,1,87],[1,90,1,91],[2,82,2,91],[3,84,3,91],[31,63,31,64],[12,90,12,91],[13,90,13,91],[20,90,20,91],[21,90,21,91],[17,90,17,91],[18,90,18,91],[19,90,19,91],[28,84,28,85],[29,84,29,85],[30,84,30,85],[18,63,18,64],[13,63,13,64],[14,63,14,64],[15,63,15,64],[16,57,16,58],[17,57,17,58],[18,57,18,58],[19,63,19,64],[20,63,20,64],[33,33,33,34],[33,36,33,37],[37,35,37,37],[38,35,38,37],[0,57,0,64],[29,36,29,37],[30,36,30,37],[31,36,31,37],[1,59,1,60],[1,63,1,64],[2,55,2,64],[3,57,3,64],[4,57,4,59],[4,60,5,60],[4,62,4,64],[5,57,5,59],[5,61,5,64],[10,63,10,64],[11,63,11,64],[12,63,12,64],[6,57,6,59],[6,61,6,64],[16,63,16,64],[17,63,17,64],[33,3,33,4],[33,6,33,7],[33,9,33,10],[37,8,37,10],[8,36,8,37],[9,36,9,37],[10,36,10,37],[14,36,14,37],[15,36,15,37],[16,36,16,37],[11,36,11,37],[12,36,12,37],[13,36,13,37],[20,36,20,37],[21,36,21,37],[22,36,22,37],[17,36,17,37],[18,36,18,37],[19,36,19,37],[26,36,26,37],[28,9,28,10],[29,9,29,10],[30,9,30,10],[25,9,25,10],[38,8,38,10],[0,30,0,37],[1,32,1,33],[1,36,1,37],[2,28,2,37],[3,30,3,37],[31,9,31,10],[4,30,4,32],[4,33,5,33],[4,35,4,37],[5,30,5,32],[5,34,5,37],[6,30,6,32],[6,34,6,37],[27,36,27,37],[28,36,28,37],[23,36,23,37],[24,36,24,37],[16,9,16,10],[17,9,17,10],[18,9,18,10],[13,9,13,10],[25,36,25,37],[33,30,33,31],[14,9,14,10],[15,9,15,10],[22,9,22,10],[23,9,23,10],[24,9,24,10],[19,9,19,10],[20,9,20,10],[21,9,21,10],[10,9,10,10],[11,9,11,10],[12,9,12,10],[6,3,6,5],[6,7,6,10],[8,9,8,10],[9,9,9,10],[0,3,0,10],[1,5,1,6],[1,9,1,10],[2,1,2,10],[3,3,3,10],[4,3,4,5],[4,6,5,6],[4,8,4,10],[5,3,5,5],[5,7,5,10],[8,3,8,4],[9,3,9,4],[28,3,28,4],[29,3,29,4],[30,3,30,4],[19,57,19,58],[20,57,20,58],[21,57,21,58],[22,57,22,58],[23,57,23,58],[24,57,24,58],[25,57,25,58],[26,57,26,58],[27,57,27,58],[19,3,19,4],[20,3,20,4],[21,3,21,4],[22,3,22,4],[23,3,23,4],[24,3,24,4],[25,3,25,4],[26,3,26,4],[27,3,27,4],[26,9,26,10],[27,9,27,10],[28,57,28,58],[34,3,34,4],[34,6,34,7],[34,9,34,10],[34,30,34,31],[34,33,34,34],[34,36,34,37],[34,57,34,58],[34,60,34,61],[34,63,34,64]]}
[null,"【R8年度】",null,"第１2回スポレク杯争奪金沢オープン大会　　【参加申込書】",null,null,null,null,null,null,null,null,{"$f":"B1","v":"【R8年度】"},null,null,null,"2026-10-11",null,null,null,{"$f":"B1","v":"【R8年度】"},null,null,null,{"$f":"Q1","v":"2026-10-11"},null,null,null,{"$f":"B1","v":"【R8年度】"},null,{"$f":"D1","v":"第１2回スポレク杯争奪金沢オープン大会　　【参加申込書】"},null,null,null,null,null,null,null,null,{"$f":"B1","v":"【R8年度】"},null,null,null,{"$f":"Q1","v":"2026-10-11"},null,null,null,{"$f":"B1","v":"【R8年度】"},null,null,null,{"$f":"AR1","v":"2026-10-11"},null,null,null,{"$f":"B1","v":"【R8年度】"},null,{"$f":"D1","v":"第１2回スポレク杯争奪金沢オープン大会　　【参加申込書】"},null,null,null,null,null,null,null,null,{"$f":"B1","v":"【R8年度】"},null,null,null,{"$f":"AZ1","v":"2026-10-11"},null,null,null,{"$f":"B1","v":"【R8年度】"},null,null,null,{"$f":"BS1","v":"2026-10-11"},null,null,null,{"$f":"AC1","v":"【R8年度】"},null,{"$f":"AE1","v":"第１2回スポレク杯争奪金沢オープン大会　　【参加申込書】"},null,null,null,null,null,null,null,null,{"$f":"B1","v":"【R8年度】"},null,null,null,{"$f":"CA1","v":"2026-10-11"},null,null,null,{"$f":"B1","v":"【R8年度】"},null,null,null,{"$f":"CT1","v":"2026-10-11"}]
[null,null,null,null,"開催日:","2026-10-11",null,{"$f":"WEEKDAY(F2,1)","v":1},"申込日:",null,null,null,"　　　第１2回",null,null,null,null,null,null,null,{"$f":"M2","v":"　　　第１2回"},null,null,null,null,null,null,null,null,null,null,"開催日:",{"$f":"F2","v":"2026-10-11"},null,{"$f":"WEEKDAY(AG2,1)","v":1},"申込日:",null,null,null,{"$f":"M2","v":"　　　第１2回"},null,null,null,null,null,null,null,{"$f":"M2","v":"　　　第１2回"},null,null,null,null,null,null,null,null,null,null,"開催日:",{"$f":"F2","v":"2026-10-11"},null,{"$f":"WEEKDAY(BH2,1)","v":1},"申込日:",null,null,null,{"$f":"AV2","v":"　　　第１2回"},null,null,null,null,null,null,null,{"$f":"BO2","v":"　　　第１2回"},null,null,null,null,null,null,null,null,null,null,"開催日:",{"$f":"AG2","v":"2026-10-11"},null,{"$f":"WEEKDAY(CI2,1)","v":1},"申込日:",null,null,null,{"$f":"BW2","v":"　　　第１2回"},null,null,null,null,null,null,null,{"$f":"CP2","v":"　　　第１2回"}]
[null,"下記メンバーを登録し、表記トリムバレーボール大会の参加を申し込みます。",null,null,null,null,null,null,null,null,null,null,"スポレク杯争奪金沢オープン大会",null,null,null,null,null,null,null,{"$f":"M3","v":"スポレク杯争奪金沢オープン大会"},null,null,null,null,null,null,null,"下記メンバーを登録し、表記トリムバレーボール大会の参加を申し込みます。",null,null,null,null,null,null,null,null,null,null,{"$f":"M3","v":"スポレク杯争奪金沢オープン大会"},null,null,null,null,null,null,null,{"$f":"AN3","v":"スポレク杯争奪金沢オープン大会"},null,null,null,null,null,null,null,"下記メンバーを登録し、表記トリムバレーボール大会の参加を申し込みます。",null,null,null,null,null,null,null,null,null,null,{"$f":"AV3","v":"スポレク杯争奪金沢オープン大会"},null,null,null,null,null,null,null,{"$f":"BO3","v":"スポレク杯争奪金沢オープン大会"},null,null,null,null,null,null,null,"下記メンバーを登録し、表記トリムバレーボール大会の参加を申し込みます。",null,null,null,null,null,null,null,null,null,null,{"$f":"BW3","v":"スポレク杯争奪金沢オープン大会"},null,null,null,null,null,null,null,{"$f":"CP3","v":"スポレク杯争奪金沢オープン大会"}]
[null,"種　　　目",null,"シ　ル　バ　ー　　　　",null,null,null,null,null,null,null,null,"構成メンバー表",null,null,null,null,null,null,null,"構成メンバー表",null,null,null,null,null,null,null,"種　　　目",null,"ゴ　ー　ル　ド　　A　",null,null,null,null,null,null,null,null,"構成メンバー表",null,null,null,null,null,null,null,"構成メンバー表",null,null,null,null,null,null,null,"種　　　目",null,"ゴ　ー　ル　ド　　B　",null,null,null,null,null,null,null,null,"構成メンバー表",null,null,null,null,null,null,null,"構成メンバー表",null,null,null,null,null,null,null,"種　　　目",null,"ゴ　ー　ル　ド　　C",null,null,null,null,null,null,null,null,"構成メンバー表",null,null,null,null,null,null,null,"構成メンバー表"]
[null,"チーム名",null,null,null,null,"住　 所","　〒",null,null,null,null,null,null,null,null,null,null,null,null,null,null,null,null,null,null,null,null,"チーム名",null,null,null,null,"住　 所","　〒",null,null,null,null,null,null,null,null,null,null,null,null,null,null,null,null,null,null,null,null,"チーム名",null,null,null,null,"住　 所","　〒",null,null,null,null,null,null,null,null,null,null,null,null,null,null,null,null,null,null,null,null,"チーム名",null,null,null,null,"住　 所","　〒"]
[null,"代 表 者",null,{"$f":"登録名簿!J4","v":0},null,null,null,{"$f":"登録名簿!J6","v":0},null,null,null,null,"チーム名",null,{"$f":"D5","v":0},null,null,null,null,null,"チーム名",null,{"$f":"D5","v":0},null,null,null,null,null,"代 表 者",null,{"$f":"登録名簿!J4","v":0},null,null,null,{"$f":"登録名簿!J6","v":0},null,null,null,null,"チーム名",null,{"$f":"AE5","v":0},null,null,null,null,null,"チーム名",null,{"$f":"AE5","v":0},null,null,null,null,null,"代 表 者",null,{"$f":"登録名簿!J4","v":0},null,null,null,{"$f":"登録名簿!J6","v":0},null,null,null,null,"チーム名",null,{"$f":"BF5","v":0},null,null,null,null,null,"チーム名",null,{"$f":"BF5","v":0},null,null,null,null,null,"代 表 者",null,{"$f":"登録名簿!J4","v":0},null,null,null,{"$f":"登録名簿!J6","v":0},null,null,null,null,"チーム名",null,{"$f":"CG5","v":0},null,null,null,null,null,"チーム名",null,{"$f":"CG5","v":0}]
[null,"T  E  L",null,{"$f":"登録名簿!J7","v":0},null,null,"mail",{"$f":"登録名簿!J8","v":0},null,null,null,null,null,null,null,null,null,null,null,null,null,null,null,null,null,null,null,null,"T  E  L",null,{"$f":"登録名簿!J7","v":0},null,null,"mail",{"$f":"登録名簿!J8","v":0},null,null,null,null,null,null,null,null,null,null,null,null,null,null,null,null,null,null,null,null,"T  E  L",null,{"$f":"登録名簿!J7","v":0},null,null,"mail",{"$f":"登録名簿!J8","v":0},null,null,null,null,null,null,null,null,null,null,null,null,null,null,null,null,null,null,null,null,"T  E  L",null,{"$f":"登録名簿!J7","v":0},null,null,"mail",{"$f":"登録名簿!J8","v":0}]
[]
["※下記に注釈","No.",null,"氏　　　　名",null,"背番号","性　別","年　齢","申告欄","摘　　　　要",null,null,"監督",null,{"$f":"IFERROR(VLOOKUP(A10, 登録名簿!A11:G60, 3, FALSE), \"\")","v":""},null,null,null,null,null,"監督",null,{"$f":"IFERROR(VLOOKUP(A10, 登録名簿!A11:G60, 3, FALSE), \"\")","v":""},null,null,null,null,"※下記に注釈","No.",null,"氏　　　　名",null,"背番号","性　別","年　齢","申告欄","摘　　　　要",null,null,"監督",null,{"$f":"IFERROR(VLOOKUP(AB10, 登録名簿!AB11:AH60, 3, FALSE), \"\")","v":""},null,null,null,null,null,"監督",null,{"$f":"IFERROR(VLOOKUP(AA10, 登録名簿!AA11:AG60, 3, FALSE), \"\")","v":""},null,null,null,null,"※下記に注釈","No.",null,"氏　　　　名",null,"背番号","性　別","年　齢","申告欄","摘　　　　要",null,null,"監督",null,{"$f":"IFERROR(VLOOKUP(BB10, 登録名簿!BB11:BH60, 3, FALSE), \"\")","v":""},null,null,null,null,null,"監督",null,{"$f":"IFERROR(VLOOKUP(BB10, 登録名簿!BB11:BH60, 3, FALSE), \"\")","v":""},null,null,null,null,"※下記に注釈","No.",null,"氏　　　　名",null,"背番号","性　別","年　齢","申告欄","摘　　　　要",null,null,"監督",null,{"$f":"IFERROR(VLOOKUP(CC10, 登録名簿!CC11:CI60, 3, FALSE), \"\")","v":""},null,null,null,null,null,"監督",null,{"$f":"IFERROR(VLOOKUP(CC10, 登録名簿!CC11:CI60, 3, FALSE), \"\")","v":""}]
[null,"監　　　督",{"$f":"F10","v":0},{"$f":"IFERROR(VLOOKUP(A10, 登録名簿!A11:G60, 3, FALSE), \"\")","v":""},null,{"$f":"IFERROR(VLOOKUP(D10, D13:F32, 3, FALSE), \"\")","v":0},{"$f":"IFERROR(VLOOKUP(A10, 登録名簿!A11:G60, 5, FALSE), \"\")","v":""},{"$f":"IFERROR(VLOOKUP(A10, 登録名簿!A11:G60, 7, FALSE), \"\")","v":""},null,null,null,null,"コーチ",null,{"$f":"IFERROR(VLOOKUP(A11, 登録名簿!A11:G60, 3, FALSE), \"\")","v":""},null,null,null,null,null,"コーチ",null,{"$f":"IFERROR(VLOOKUP(A11, 登録名簿!A11:G60, 3, FALSE), \"\")","v":""},null,null,null,null,null,"監　　　督",{"$f":"AG10","v":0},{"$f":"IFERROR(VLOOKUP(AB10, 登録名簿!A11:G60, 3, FALSE), \"\")","v":""},null,{"$f":"IFERROR(VLOOKUP(AE10, AE13:AG32, 3, FALSE), \"\")","v":0},{"$f":"IFERROR(VLOOKUP(AB10, 登録名簿!A11:G60, 5, FALSE), \"\")","v":""},{"$f":"IFERROR(VLOOKUP(AB10, 登録名簿!A11:G60, 7, FALSE), \"\")","v":""},null,null,null,null,"コーチ",null,{"$f":"IFERROR(VLOOKUP(AB11, 登録名簿!AB11:AH60, 3, FALSE), \"\")","v":""},null,null,null,null,null,"コーチ",null,{"$f":"IFERROR(VLOOKUP(AA11, 登録名簿!AA11:AG60, 3, FALSE), \"\")","v":""},null,null,null,null,null,"監　　　督",{"$f":"BH10","v":0},{"$f":"IFERROR(VLOOKUP(BC10, 登録名簿!A11:G60, 3, FALSE), \"\")","v":""},null,{"$f":"IFERROR(VLOOKUP(BF10, BF13:BH32, 3, FALSE), \"\")","v":0},{"$f":"IFERROR(VLOOKUP(BC10, 登録名簿!A11:G60, 5, FALSE), \"\")","v":""},{"$f":"IFERROR(VLOOKUP(BC10, 登録名簿!A11:G60, 7, FALSE), \"\")","v":""},null,null,null,null,"コーチ",null,{"$f":"IFERROR(VLOOKUP(BB11, 登録名簿!BB11:BH60, 3, FALSE), \"\")","v":""},null,null,null,null,null,"コーチ",null,{"$f":"IFERROR(VLOOKUP(BB11, 登録名簿!BB11:BH60, 3, FALSE), \"\")","v":""},null,null,null,null,null,"監　　　督",{"$f":"CI10","v":0},{"$f":"IFERROR(VLOOKUP(CD10, 登録名簿!A11:G60, 3, FALSE), \"\")","v":""},null,{"$f":"IFERROR(VLOOKUP(CG10, CG13:CI32, 3, FALSE), \"\")","v":0},{"$f":"IFERROR(VLOOKUP(CD10, 登録名簿!A11:G60, 5, FALSE), \"\")","v":""},{"$f":"IFERROR(VLOOKUP(CD10, 登録名簿!A11:G60,7, FALSE), \"\")","v":""},null,null,null,null,"コーチ",null,{"$f":"IFERROR(VLOOKUP(CC11, 登録名簿!CC11:CI60, 3, FALSE), \"\")","v":""},null,null,null,null,null,"コーチ",null,{"$f":"IFERROR(VLOOKUP(CC11, 登録名簿!CC11:CI60, 3, FALSE), \"\")","v":""}]
[null,"コ　ー　チ",{"$f":"F11","v":0},{"$f":"IFERROR(VLOOKUP(A11, 登録名簿!A11:G60, 3, FALSE), \"\")","v":""},null,{"$f":"IFERROR(VLOOKUP(D11, D13:F32, 3, FALSE), \"\")","v":0},{"$f":"IFERROR(VLOOKUP(A11, 登録名簿!A11:G60, 5, FALSE), \"\")","v":""},{"$f":"IFERROR(VLOOKUP(A11, 登録名簿!A11:G60, 7, FALSE), \"\")","v":""},null,null,null,null,"マネージャー",null,{"$f":"IFERROR(VLOOKUP(A12, 登録名簿!A11:G60, 3, FALSE), \"\")","v":""},null,null,null,null,null,"マネージャー",null,{"$f":"IFERROR(VLOOKUP(A12, 登録名簿!A11:G60, 3, FALSE), \"\")","v":""},null,null,null,null,null,"コ　ー　チ",{"$f":"AG11","v":0},{"$f":"IFERROR(VLOOKUP(AB11, 登録名簿!A11:G60, 3, FALSE), \"\")","v":""},null,{"$f":"IFERROR(VLOOKUP(AE11, AE13:AG32, 3, FALSE), \"\")","v":0},{"$f":"IFERROR(VLOOKUP(AB11, 登録名簿!A11:G60, 5, FALSE), \"\")","v":""},{"$f":"IFERROR(VLOOKUP(AB11, 登録名簿!A11:G60, 7, FALSE), \"\")","v":""},null,null,null,null,"マネージャー",null,{"$f":"IFERROR(VLOOKUP(AB12, 登録名簿!AB11:AH60, 3, FALSE), \"\")","v":""},null,null,null,null,null,"マネージャー",null,{"$f":"IFERROR(VLOOKUP(AA12, 登録名簿!AA11:AG60, 3, FALSE), \"\")","v":""},null,null,null,null,null,"コ　ー　チ",{"$f":"BH11","v":0},{"$f":"IFERROR(VLOOKUP(BC11, 登録名簿!A11:G60, 3, FALSE), \"\")","v":""},null,{"$f":"IFERROR(VLOOKUP(BF11, BF13:BH32, 3, FALSE), \"\")","v":0},{"$f":"IFERROR(VLOOKUP(BC11, 登録名簿!A11:G60, 5, FALSE), \"\")","v":""},{"$f":"IFERROR(VLOOKUP(BC11, 登録名簿!A11:G60, 7, FALSE), \"\")","v":""},null,null,null,null,"マネージャー",null,{"$f":"IFERROR(VLOOKUP(BB12, 登録名簿!BB11:BH60, 3, FALSE), \"\")","v":""},null,null,null,null,null,"マネージャー",null,{"$f":"IFERROR(VLOOKUP(BB12, 登録名簿!BB11:BH60, 3, FALSE), \"\")","v":""},null,null,null,null,null,"コ　ー　チ",{"$f":"CI11","v":0},{"$f":"IFERROR(VLOOKUP(CD11, 登録名簿!A11:G60, 3, FALSE), \"\")","v":""},null,{"$f":"IFERROR(VLOOKUP(CG11, CG13:CI32, 3, FALSE), \"\")","v":0},{"$f":"IFERROR(VLOOKUP(CD11, 登録名簿!A11:G60, 5, FALSE), \"\")","v":""},{"$f":"IFERROR(VLOOKUP(CD11, 登録名簿!A11:G60, 7, FALSE), \"\")","v":""},null,null,null,null,"マネージャー",null,{"$f":"IFERROR(VLOOKUP(CC12, 登録名簿!CC11:CI60, 3, FALSE), \"\")","v":""},null,null,null,null,null,"マネージャー",null,{"$f":"IFERROR(VLOOKUP(CC12, 登録名簿!CC11:CI60, 3, FALSE), \"\")","v":""}]
[null,"マネージャー",0,{"$f":"IFERROR(VLOOKUP(A12, 登録名簿!A11:G60, 3, FALSE), \"\")","v":""},null,{"$f":"IFERROR(VLOOKUP(D12, D13:F32, 3, FALSE), \"\")","v":0},{"$f":"IFERROR(VLOOKUP(A12, 登録名簿!A11:G60, 5, FALSE), \"\")","v":""},{"$f":"IFERROR(VLOOKUP(A12, 登録名簿!A11:G60, 7, FALSE), \"\")","v":""},null,null,null,null,null,null,null,null,null,null,null,null,null,null,null,null,null,null,null,null,"マネージャー",0,{"$f":"IFERROR(VLOOKUP(AB12, 登録名簿!A11:G60, 3, FALSE), \"\")","v":""},null,{"$f":"IFERROR(VLOOKUP(AE12, AE13:AG32, 3, FALSE), \"\")","v":0},{"$f":"IFERROR(VLOOKUP(AB12, 登録名簿!A11:G60, 5, FALSE), \"\")","v":""},{"$f":"IFERROR(VLOOKUP(AB12, 登録名簿!A11:G60, 7, FALSE), \"\")","v":""},null,null,null,null,null,null,null,null,null,null,null,null,null,null,null,null,null,null,null,null,"マネージャー",0,{"$f":"IFERROR(VLOOKUP(BC12, 登録名簿!A11:G60, 3, FALSE), \"\")","v":""},null,{"$f":"IFERROR(VLOOKUP(BF12, BF13:BH32, 3, FALSE), \"\")","v":0},{"$f":"IFERROR(VLOOKUP(BC12, 登録名簿!A11:G60, 5, FALSE), \"\")","v":""},{"$f":"IFERROR(VLOOKUP(BC12, 登録名簿!A11:G60, 7, FALSE), \"\")","v":""},null,null,null,null,null,null,null,null,null,null,null,null,null,null,null,null,null,null,null,null,"マネージャー",0,{"$f":"IFERROR(VLOOKUP(CD12, 登録名簿!A11:G60, 3, FALSE), \"\")","v":""},null,{"$f":"IFERROR(VLOOKUP(CG12, CG13:CI32, 3, FALSE), \"\")","v":0},{"$f":"IFERROR(VLOOKUP(CD12, 登録名簿!A11:G60, 5, FALSE), \"\")","v":""},{"$f":"IFERROR(VLOOKUP(CD12, 登録名簿!A11:G60, 7, FALSE), \"\")","v":""}]
[null,"選手　1",{"$f":"F13","v":0},{"$f":"IFERROR(INDEX($D$42:$D$91, SMALL(IF($D$42:$D$91<>\"\", ROW($D$42:$D$91)-ROW($D$42)+1), ROW(A1))), \"\")","v":""},null,null,{"$f":"IFERROR(INDEX($E$42:$E$91, SMALL(IF($E$42:$E$91<>\"\", ROW($E$42:$E$91)-ROW($E$42)+1), ROW(E1))), \"\")","v":""},{"$f":"IFERROR(INDEX($F$42:$F$91, SMALL(IF($F$42:$F$91<>\"\", ROW($F$42:$F$91)-ROW($F$42)+1), ROW(B1))), \"\")","v":""},null,null,null,null,"背番号","キ","競技者氏名","性別","年齢",null,null,null,"背番号","キ","競技者氏名","性別","年齢",null,null,null,"選手　1",{"$f":"AG13","v":0},{"$f":"IFERROR(INDEX($AE$42:$AE$91, SMALL(IF($AE$42:$AE$91<>\"\", ROW($AE$42:$AE$91)-ROW($AE$42)+1), ROW(A1))), \"\")","v":""},null,null,{"$f":"IFERROR(INDEX($AF$42:$AF$91, SMALL(IF($AF$42:$AF$91<>\"\", ROW($AF$42:$AF$91)-ROW($AF$42)+1), ROW(A1))), \"\")","v":""},{"$f":"IFERROR(INDEX($AG$42:$AG$91, SMALL(IF($AG$42:$AG$91<>\"\", ROW($AG$42:$AG$91)-ROW($AG$42)+1), ROW(B1))), \"\")","v":""},null,null,null,null,"背番号","キ","競技者氏名","性別","年齢",null,null,null,"背番号","キ","競技者氏名","性別","年齢",null,null,null,"選手　1",0,{"$f":"IFERROR(INDEX($BF$42:$BF$91, SMALL(IF($BF$42:$BF$91<>\"\", ROW($BF$42:$BF$91)-ROW($BF$42)+1), ROW(BC1))), \"\")","v":""},null,null,{"$f":"IFERROR(INDEX($BG$42:$BG$91, SMALL(IF($BG$42:$BG$91<>\"\", ROW($BG$42:$BG$91)-ROW($BG$42)+1), ROW(AB1))), \"\")","v":""},{"$f":"IFERROR(INDEX($BH$42:$BH$91, SMALL(IF($BH$42:$BH$91<>\"\", ROW($BH$42:$BH$91)-ROW($BH$42)+1), ROW(AC1))), \"\")","v":""},null,null,null,null,"背番号","キ","競技者氏名","性別","年齢",null,null,null,"背番号","キ","競技者氏名","性別","年齢",null,null,null,"選手　1",{"$f":"CI13","v":0},{"$f":"IFERROR(INDEX($CG$42:$CG$91, SMALL(IF($CG$42:$CG$91<>\"\", ROW($CG$42:$CG$91)-ROW($CG$42)+1), ROW(CD1))), \"\")","v":""},null,null,{"$f":"IFERROR(INDEX($CH$42:$CH$91, SMALL(IF($CH$42:$CH$91<>\"\", ROW($CH$42:$CH$91)-ROW($CH$42)+1), ROW(BC1))), \"\")","v":""},{"$f":"IFERROR(INDEX($CI$42:$CI$91, SMALL(IF($CI$42:$CI$91<>\"\", ROW($CI$42:$CI$91)-ROW($CI$42)+1), ROW(BD1))), \"\")","v":""},null,null,null,null,"背番号","キ","競技者氏名","性別","年齢",null,null,null,"背番号","キ","競技者氏名","性別","年齢"]
[null,"選手　2",{"$f":"F14","v":0},{"$f":"IFERROR(INDEX($D$42:$D$91, SMALL(IF($D$42:$D$91<>\"\", ROW($D$42:$D$91)-ROW($D$42)+1), ROW(A2))), \"\")","v":""},null,null,{"$f":"IFERROR(INDEX($E$42:$E$91, SMALL(IF($E$42:$E$91<>\"\", ROW($E$42:$E$91)-ROW($E$42)+1), ROW(A2))), \"\")","v":""},{"$f":"IFERROR(INDEX($F$42:$F$91, SMALL(IF($F$42:$F$91<>\"\", ROW($F$42:$F$91)-ROW($F$42)+1), ROW(B2))), \"\")","v":""},null,null,null,null,1,null,{"$f":"IFERROR(VLOOKUP(M14, C13:H32, 2, FALSE), \"\")","v":""},{"$f":"IFERROR(VLOOKUP(M14, C13:H32, 5, FALSE), \"\")","v":""},{"$f":"IFERROR(VLOOKUP(M14, C13:H32, 6, FALSE), \"\")","v":""},null,null,null,1,{"$f":"IF(N14>0,N14,\"\")","v":""},{"$f":"IF(O14>0,O14,\"\")","v":""},"","",null,null,null,"選手　2",{"$f":"AG14","v":0},{"$f":"IFERROR(INDEX($AE$42:$AE$91, SMALL(IF($AE$42:$AE$91<>\"\", ROW($AE$42:$AE$91)-ROW($AE$42)+1), ROW(A2))), \"\")","v":""},null,null,{"$f":"IFERROR(INDEX($AF$42:$AF$91, SMALL(IF($AF$42:$AF$91<>\"\", ROW($AF$42:$AF$91)-ROW($AF$42)+1), ROW(A2))), \"\")","v":""},{"$f":"IFERROR(INDEX($AG$42:$AG$91, SMALL(IF($AG$42:$AG$91<>\"\", ROW($AG$42:$AG$91)-ROW($AG$42)+1), ROW(B2))), \"\")","v":""},null,null,null,null,1,null,{"$f":"IFERROR(VLOOKUP(AN14, AD13:AI32, 2, FALSE), \"\")","v":""},{"$f":"IFERROR(VLOOKUP(AN14, AD13:AI32, 5, FALSE), \"\")","v":""},{"$f":"IFERROR(VLOOKUP(AN14, AD13:AI32, 6, FALSE), \"\")","v":""},null,null,null,1,{"$f":"IF(AO14>0,AO14,\"\")","v":""},{"$f":"IF(AP14>0,AP14,\"\")","v":""},"","",null,null,null,"選手　2",0,{"$f":"IFERROR(INDEX($BF$42:$BF$91, SMALL(IF($BF$42:$BF$91<>\"\", ROW($BF$42:$BF$91)-ROW($BF$42)+1), ROW(BC2))), \"\")","v":""},null,null,{"$f":"IFERROR(INDEX($BG$42:$BG$91, SMALL(IF($BG$42:$BG$91<>\"\", ROW($BG$42:$BG$91)-ROW($BG$42)+1), ROW(AB2))), \"\")","v":""},{"$f":"IFERROR(INDEX($BH$42:$BH$91, SMALL(IF($BH$42:$BH$91<>\"\", ROW($BH$42:$BH$91)-ROW($BH$42)+1), ROW(AC2))), \"\")","v":""},null,null,null,null,1,null,{"$f":"IFERROR(VLOOKUP(BO14, BE13:BJ32, 2, FALSE), \"\")","v":""},{"$f":"IFERROR(VLOOKUP(BO14, BE13:BJ32, 5, FALSE), \"\")","v":""},{"$f":"IFERROR(VLOOKUP(BO14, BE13:BJ32, 6, FALSE), \"\")","v":""},null,null,null,1,{"$f":"IF(BP14>0,BP14,\"\")","v":""},{"$f":"IF(BQ14>0,BQ14,\"\")","v":""},"","",null,null,null,"選手　2",{"$f":"CI14","v":0},{"$f":"IFERROR(INDEX($CG$42:$CG$91, SMALL(IF($CG$42:$CG$91<>\"\", ROW($CG$42:$CG$91)-ROW($CG$42)+1), ROW(CD2))), \"\")","v":""},null,null,{"$f":"IFERROR(INDEX($CH$42:$CH$91, SMALL(IF($CH$42:$CH$91<>\"\", ROW($CH$42:$CH$91)-ROW($CH$42)+1), ROW(BC2))), \"\")","v":""},{"$f":"IFERROR(INDEX($CI$42:$CI$91, SMALL(IF($CI$42:$CI$91<>\"\", ROW($CI$42:$CI$91)-ROW($CI$42)+1), ROW(BD2))), \"\")","v":""},null,null,null,null,1,null,{"$f":"IFERROR(VLOOKUP(CP14, CF13:CK32, 2, FALSE), \"\")","v":""},{"$f":"IFERROR(VLOOKUP(CP14, CF13:CK32, 5, FALSE), \"\")","v":""},{"$f":"IFERROR(VLOOKUP(CP14, CF13:CK32, 6, FALSE), \"\")","v":""},null,null,null,1,{"$f":"IF(CQ14>0,CQ14,\"\")","v":""},{"$f":"IF(CR14>0,CR14,\"\")","v":""},"",""]
[null,"選手　3",0,{"$f":"IFERROR(INDEX($D$42:$D$91, SMALL(IF($D$42:$D$91<>\"\", ROW($D$42:$D$91)-ROW($D$42)+1), ROW(A3))), \"\")","v":""},null,null,{"$f":"IFERROR(INDEX($E$42:$E$91, SMALL(IF($E$42:$E$91<>\"\", ROW($E$42:$E$91)-ROW($E$42)+1), ROW(A3))), \"\")","v":""},{"$f":"IFERROR(INDEX($F$42:$F$91, SMALL(IF($F$42:$F$91<>\"\", ROW($F$42:$F$91)-ROW($F$42)+1), ROW(B3))), \"\")","v":""},null,null,null,null,2,null,{"$f":"IFERROR(VLOOKUP(M15,C13:H32, 2, FALSE), \"\")","v":""},{"$f":"IFERROR(VLOOKUP(M15, C13:H32, 5, FALSE), \"\")","v":""},{"$f":"IFERROR(VLOOKUP(M15, C13:H32, 6, FALSE), \"\")","v":""},null,null,null,2,{"$f":"IF(N15>0,N15,\"\")","v":""},"","","",null,null,null,"選手　3",0,{"$f":"IFERROR(INDEX($AE$42:$AE$91, SMALL(IF($AE$42:$AE$91<>\"\", ROW($AE$42:$AE$91)-ROW($AE$42)+1), ROW(A3))), \"\")","v":""},null,null,{"$f":"IFERROR(INDEX($AF$42:$AF$91, SMALL(IF($AF$42:$AF$91<>\"\", ROW($AF$42:$AF$91)-ROW($AF$42)+1), ROW(A3))), \"\")","v":""},{"$f":"IFERROR(INDEX($AG$42:$AG$91, SMALL(IF($AG$42:$AG$91<>\"\", ROW($AG$42:$AG$91)-ROW($AG$42)+1), ROW(B3))), \"\")","v":""},null,null,null,null,2,null,{"$f":"IFERROR(VLOOKUP(AN15,AD13:AI32, 2, FALSE), \"\")","v":""},{"$f":"IFERROR(VLOOKUP(AN15, AD13:AI32, 5, FALSE), \"\")","v":""},{"$f":"IFERROR(VLOOKUP(AN15, AD13:AI32, 6, FALSE), \"\")","v":""},null,null,null,2,{"$f":"IF(AO15>0,AO15,\"\")","v":""},"","","",null,null,null,"選手　3",0,{"$f":"IFERROR(INDEX($BF$42:$BF$91, SMALL(IF($BF$42:$BF$91<>\"\", ROW($BF$42:$BF$91)-ROW($BF$42)+1), ROW(BC3))), \"\")","v":""},null,null,{"$f":"IFERROR(INDEX($BG$42:$BG$91, SMALL(IF($BG$42:$BG$91<>\"\", ROW($BG$42:$BG$91)-ROW($BG$42)+1), ROW(AB3))), \"\")","v":""},{"$f":"IFERROR(INDEX($BH$42:$BH$91, SMALL(IF($BH$42:$BH$91<>\"\", ROW($BH$42:$BH$91)-ROW($BH$42)+1), ROW(AC3))), \"\")","v":""},null,null,null,null,2,null,{"$f":"IFERROR(VLOOKUP(BO15,BE13:BJ32, 2, FALSE), \"\")","v":""},{"$f":"IFERROR(VLOOKUP(BO15, BE13:BJ32, 5, FALSE), \"\")","v":""},{"$f":"IFERROR(VLOOKUP(BO15, BE13:BJ32, 6, FALSE), \"\")","v":""},null,null,null,2,{"$f":"IF(BP15>0,BP15,\"\")","v":""},"","","",null,null,null,"選手　3",0,{"$f":"IFERROR(INDEX($CG$42:$CG$91, SMALL(IF($CG$42:$CG$91<>\"\", ROW($CG$42:$CG$91)-ROW($CG$42)+1), ROW(CD3))), \"\")","v":""},null,null,{"$f":"IFERROR(INDEX($CH$42:$CH$91, SMALL(IF($CH$42:$CH$91<>\"\", ROW($CH$42:$CH$91)-ROW($CH$42)+1), ROW(BC3))), \"\")","v":""},{"$f":"IFERROR(INDEX($CI$42:$CI$91, SMALL(IF($CI$42:$CI$91<>\"\", ROW($CI$42:$CI$91)-ROW($CI$42)+1), ROW(BD3))), \"\")","v":""},null,null,null,null,2,null,{"$f":"IFERROR(VLOOKUP(CP15,CF13:CK32, 2, FALSE), \"\")","v":""},{"$f":"IFERROR(VLOOKUP(CP15, CF13:CK32, 5, FALSE), \"\")","v":""},{"$f":"IFERROR(VLOOKUP(CP15, CF13:CK32, 6, FALSE), \"\")","v":""},null,null,null,2,{"$f":"IF(CQ15>0,CQ15,\"\")","v":""},"","",""]
[null,"選手　4",0,{"$f":"IFERROR(INDEX($D$42:$D$91, SMALL(IF($D$42:$D$91<>\"\", ROW($D$42:$D$91)-ROW($D$42)+1), ROW(A4))), \"\")","v":""},null,null,{"$f":"IFERROR(INDEX($E$42:$E$91, SMALL(IF($E$42:$E$91<>\"\", ROW($E$42:$E$91)-ROW($E$42)+1), ROW(A4))), \"\")","v":""},{"$f":"IFERROR(INDEX($F$42:$F$91, SMALL(IF($F$42:$F$91<>\"\", ROW($F$42:$F$91)-ROW($F$42)+1), ROW(B4))), \"\")","v":""},null,null,null,null,3,null,{"$f":"IFERROR(VLOOKUP(M16, C13:H32, 2, FALSE), \"\")","v":""},{"$f":"IFERROR(VLOOKUP(M16, C13:H32, 5, FALSE), \"\")","v":""},{"$f":"IFERROR(VLOOKUP(M16, C13:H32, 6, FALSE), \"\")","v":""},null,null,null,3,"","","","",null,null,null,"選手　4",0,{"$f":"IFERROR(INDEX($AE$42:$AE$91, SMALL(IF($AE$42:$AE$91<>\"\", ROW($AE$42:$AE$91)-ROW($AE$42)+1), ROW(A4))), \"\")","v":""},null,null,{"$f":"IFERROR(INDEX($AF$42:$AF$91, SMALL(IF($AF$42:$AF$91<>\"\", ROW($AF$42:$AF$91)-ROW($AF$42)+1), ROW(A4))), \"\")","v":""},{"$f":"IFERROR(INDEX($AG$42:$AG$91, SMALL(IF($AG$42:$AG$91<>\"\", ROW($AG$42:$AG$91)-ROW($AG$42)+1), ROW(B4))), \"\")","v":""},null,null,null,null,3,null,{"$f":"IFERROR(VLOOKUP(AN16, AD13:AI32, 2, FALSE), \"\")","v":""},{"$f":"IFERROR(VLOOKUP(AN16, AD13:AI32, 5, FALSE), \"\")","v":""},{"$f":"IFERROR(VLOOKUP(AN16, AD13:AI32, 6, FALSE), \"\")","v":""},null,null,null,3,"","","","",null,null,null,"選手　4",0,{"$f":"IFERROR(INDEX($BF$42:$BF$91, SMALL(IF($BF$42:$BF$91<>\"\", ROW($BF$42:$BF$91)-ROW($BF$42)+1), ROW(BC4))), \"\")","v":""},null,null,{"$f":"IFERROR(INDEX($BG$42:$BG$91, SMALL(IF($BG$42:$BG$91<>\"\", ROW($BG$42:$BG$91)-ROW($BG$42)+1), ROW(AB4))), \"\")","v":""},{"$f":"IFERROR(INDEX($BH$42:$BH$91, SMALL(IF($BH$42:$BH$91<>\"\", ROW($BH$42:$BH$91)-ROW($BH$42)+1), ROW(AC4))), \"\")","v":""},null,null,null,null,3,null,{"$f":"IFERROR(VLOOKUP(BO16, BE13:BJ32, 2, FALSE), \"\")","v":""},{"$f":"IFERROR(VLOOKUP(BO16, BE13:BJ32, 5, FALSE), \"\")","v":""},{"$f":"IFERROR(VLOOKUP(BO16, BE13:BJ32, 6, FALSE), \"\")","v":""},null,null,null,3,"","","","",null,null,null,"選手　4",0,{"$f":"IFERROR(INDEX($CG$42:$CG$91, SMALL(IF($CG$42:$CG$91<>\"\", ROW($CG$42:$CG$91)-ROW($CG$42)+1), ROW(CD4))), \"\")","v":""},null,null,{"$f":"IFERROR(INDEX($CH$42:$CH$91, SMALL(IF($CH$42:$CH$91<>\"\", ROW($CH$42:$CH$91)-ROW($CH$42)+1), ROW(BC4))), \"\")","v":""},{"$f":"IFERROR(INDEX($CI$42:$CI$91, SMALL(IF($CI$42:$CI$91<>\"\", ROW($CI$42:$CI$91)-ROW($CI$42)+1), ROW(BD4))), \"\")","v":""},null,null,null,null,3,null,{"$f":"IFERROR(VLOOKUP(CP16, CF13:CK32, 2, FALSE), \"\")","v":""},{"$f":"IFERROR(VLOOKUP(CP16, CF13:CK32, 5, FALSE), \"\")","v":""},{"$f":"IFERROR(VLOOKUP(CP16, CF13:CK32, 6, FALSE), \"\")","v":""},null,null,null,3,"","","",""]
[null,"選手　5",0,{"$f":"IFERROR(INDEX($D$42:$D$91, SMALL(IF($D$42:$D$91<>\"\", ROW($D$42:$D$91)-ROW($D$42)+1), ROW(A5))), \"\")","v":""},null,null,{"$f":"IFERROR(INDEX($E$42:$E$91, SMALL(IF($E$42:$E$91<>\"\", ROW($E$42:$E$91)-ROW($E$42)+1), ROW(A5))), \"\")","v":""},{"$f":"IFERROR(INDEX($F$42:$F$91, SMALL(IF($F$42:$F$91<>\"\", ROW($F$42:$F$91)-ROW($F$42)+1), ROW(B5))), \"\")","v":""},null,null,null,null,4,null,{"$f":"IFERROR(VLOOKUP(M17, C13:H32, 2, FALSE), \"\")","v":""},{"$f":"IFERROR(VLOOKUP(M17, C13:H32, 5, FALSE), \"\")","v":""},{"$f":"IFERROR(VLOOKUP(M17, C13:H32, 6, FALSE), \"\")","v":""},null,null,null,4,"","","","",null,null,null,"選手　5",0,{"$f":"IFERROR(INDEX($AE$42:$AE$91, SMALL(IF($AE$42:$AE$91<>\"\", ROW($AE$42:$AE$91)-ROW($AE$42)+1), ROW(A5))), \"\")","v":""},null,null,{"$f":"IFERROR(INDEX($AF$42:$AF$91, SMALL(IF($AF$42:$AF$91<>\"\", ROW($AF$42:$AF$91)-ROW($AF$42)+1), ROW(A5))), \"\")","v":""},{"$f":"IFERROR(INDEX($AG$42:$AG$91, SMALL(IF($AG$42:$AG$91<>\"\", ROW($AG$42:$AG$91)-ROW($AG$42)+1), ROW(B5))), \"\")","v":""},null,null,null,null,4,null,{"$f":"IFERROR(VLOOKUP(AN17, AD13:AI32, 2, FALSE), \"\")","v":""},{"$f":"IFERROR(VLOOKUP(AN17, AD13:AI32, 5, FALSE), \"\")","v":""},{"$f":"IFERROR(VLOOKUP(AN17, AD13:AI32, 6, FALSE), \"\")","v":""},null,null,null,4,"","","","",null,null,null,"選手　5",0,{"$f":"IFERROR(INDEX($BF$42:$BF$91, SMALL(IF($BF$42:$BF$91<>\"\", ROW($BF$42:$BF$91)-ROW($BF$42)+1), ROW(BC5))), \"\")","v":""},null,null,{"$f":"IFERROR(INDEX($BG$42:$BG$91, SMALL(IF($BG$42:$BG$91<>\"\", ROW($BG$42:$BG$91)-ROW($BG$42)+1), ROW(AB5))), \"\")","v":""},{"$f":"IFERROR(INDEX($BH$42:$BH$91, SMALL(IF($BH$42:$BH$91<>\"\", ROW($BH$42:$BH$91)-ROW($BH$42)+1), ROW(AC5))), \"\")","v":""},null,null,null,null,4,null,{"$f":"IFERROR(VLOOKUP(BO17, BE13:BJ32, 2, FALSE), \"\")","v":""},{"$f":"IFERROR(VLOOKUP(BO17, BE13:BJ32, 5, FALSE), \"\")","v":""},{"$f":"IFERROR(VLOOKUP(BO17, BE13:BJ32, 6, FALSE), \"\")","v":""},null,null,null,4,"","","","",null,null,null,"選手　5",0,{"$f":"IFERROR(INDEX($CG$42:$CG$91, SMALL(IF($CG$42:$CG$91<>\"\", ROW($CG$42:$CG$91)-ROW($CG$42)+1), ROW(CD5))), \"\")","v":""},null,null,{"$f":"IFERROR(INDEX($CH$42:$CH$91, SMALL(IF($CH$42:$CH$91<>\"\", ROW($CH$42:$CH$91)-ROW($CH$42)+1), ROW(BC5))), \"\")","v":""},{"$f":"IFERROR(INDEX($CI$42:$CI$91, SMALL(IF($CI$42:$CI$91<>\"\", ROW($CI$42:$CI$91)-ROW($CI$42)+1), ROW(BD5))), \"\")","v":""},null,null,null,null,4,null,{"$f":"IFERROR(VLOOKUP(CP17, CF13:CK32, 2, FALSE), \"\")","v":""},{"$f":"IFERROR(VLOOKUP(CP17, CF13:CK32, 5, FALSE), \"\")","v":""},{"$f":"IFERROR(VLOOKUP(CP17, CF13:CK32, 6, FALSE), \"\")","v":""},null,null,null,4,"","","",""]
[null,"選手　6",0,{"$f":"IFERROR(INDEX($D$42:$D$91, SMALL(IF($D$42:$D$91<>\"\", ROW($D$42:$D$91)-ROW($D$42)+1), ROW(A6))), \"\")","v":""},null,null,{"$f":"IFERROR(INDEX($E$42:$E$91, SMALL(IF($E$42:$E$91<>\"\", ROW($E$42:$E$91)-ROW($E$42)+1), ROW(A6))), \"\")","v":""},{"$f":"IFERROR(INDEX($F$42:$F$91, SMALL(IF($F$42:$F$91<>\"\", ROW($F$42:$F$91)-ROW($F$42)+1), ROW(B6))), \"\")","v":""},null,null,null,null,5,null,{"$f":"IFERROR(VLOOKUP(M18, C13:H32, 2, FALSE), \"\")","v":""},{"$f":"IFERROR(VLOOKUP(M18, C13:H32, 5, FALSE), \"\")","v":""},{"$f":"IFERROR(VLOOKUP(M18, C13:H32, 6, FALSE), \"\")","v":""},null,null,null,5,"","","","",null,null,null,"選手　6",0,{"$f":"IFERROR(INDEX($AE$42:$AE$91, SMALL(IF($AE$42:$AE$91<>\"\", ROW($AE$42:$AE$91)-ROW($AE$42)+1), ROW(A6))), \"\")","v":""},null,null,{"$f":"IFERROR(INDEX($AF$42:$AF$91, SMALL(IF($AF$42:$AF$91<>\"\", ROW($AF$42:$AF$91)-ROW($AF$42)+1), ROW(A6))), \"\")","v":""},{"$f":"IFERROR(INDEX($AG$42:$AG$91, SMALL(IF($AG$42:$AG$91<>\"\", ROW($AG$42:$AG$91)-ROW($AG$42)+1), ROW(B6))), \"\")","v":""},null,null,null,null,5,null,{"$f":"IFERROR(VLOOKUP(AN18, AD13:AI32, 2, FALSE), \"\")","v":""},{"$f":"IFERROR(VLOOKUP(AN18, AD13:AI32, 5, FALSE), \"\")","v":""},{"$f":"IFERROR(VLOOKUP(AN18, AD13:AI32, 6, FALSE), \"\")","v":""},null,null,null,5,"","","","",null,null,null,"選手　6",0,{"$f":"IFERROR(INDEX($BF$42:$BF$91, SMALL(IF($BF$42:$BF$91<>\"\", ROW($BF$42:$BF$91)-ROW($BF$42)+1), ROW(BC6))), \"\")","v":""},null,null,{"$f":"IFERROR(INDEX($BG$42:$BG$91, SMALL(IF($BG$42:$BG$91<>\"\", ROW($BG$42:$BG$91)-ROW($BG$42)+1), ROW(AB6))), \"\")","v":""},{"$f":"IFERROR(INDEX($BH$42:$BH$91, SMALL(IF($BH$42:$BH$91<>\"\", ROW($BH$42:$BH$91)-ROW($BH$42)+1), ROW(AC6))), \"\")","v":""},null,null,null,null,5,null,{"$f":"IFERROR(VLOOKUP(BO18, BE13:BJ32, 2, FALSE), \"\")","v":""},{"$f":"IFERROR(VLOOKUP(BO18, BE13:BJ32, 5, FALSE), \"\")","v":""},{"$f":"IFERROR(VLOOKUP(BO18, BE13:BJ32, 6, FALSE), \"\")","v":""},null,null,null,5,"","","","",null,null,null,"選手　6",0,{"$f":"IFERROR(INDEX($CG$42:$CG$91, SMALL(IF($CG$42:$CG$91<>\"\", ROW($CG$42:$CG$91)-ROW($CG$42)+1), ROW(CD6))), \"\")","v":""},null,null,{"$f":"IFERROR(INDEX($CH$42:$CH$91, SMALL(IF($CH$42:$CH$91<>\"\", ROW($CH$42:$CH$91)-ROW($CH$42)+1), ROW(BC6))), \"\")","v":""},{"$f":"IFERROR(INDEX($CI$42:$CI$91, SMALL(IF($CI$42:$CI$91<>\"\", ROW($CI$42:$CI$91)-ROW($CI$42)+1), ROW(BD6))), \"\")","v":""},null,null,null,null,5,null,{"$f":"IFERROR(VLOOKUP(CP18, CF13:CK32, 2, FALSE), \"\")","v":""},{"$f":"IFERROR(VLOOKUP(CP18, CF13:CK32, 5, FALSE), \"\")","v":""},{"$f":"IFERROR(VLOOKUP(CP18, CF13:CK32, 6, FALSE), \"\")","v":""},null,null,null,5,"","","",""]
[null,"選手　7",0,{"$f":"IFERROR(INDEX($D$42:$D$91, SMALL(IF($D$42:$D$91<>\"\", ROW($D$42:$D$91)-ROW($D$42)+1), ROW(A7))), \"\")","v":""},null,null,{"$f":"IFERROR(INDEX($E$42:$E$91, SMALL(IF($E$42:$E$91<>\"\", ROW($E$42:$E$91)-ROW($E$42)+1), ROW(A7))), \"\")","v":""},{"$f":"IFERROR(INDEX($F$42:$F$91, SMALL(IF($F$42:$F$91<>\"\", ROW($F$42:$F$91)-ROW($F$42)+1), ROW(B7))), \"\")","v":""},null,null,null,null,6,null,{"$f":"IFERROR(VLOOKUP(M19, C13:H32, 2, FALSE), \"\")","v":""},{"$f":"IFERROR(VLOOKUP(M19, C13:H32, 5, FALSE), \"\")","v":""},{"$f":"IFERROR(VLOOKUP(M19, C13:H32, 6, FALSE), \"\")","v":""},null,null,null,6,"","","","",null,null,null,"選手　7",0,{"$f":"IFERROR(INDEX($AE$42:$AE$91, SMALL(IF($AE$42:$AE$91<>\"\", ROW($AE$42:$AE$91)-ROW($AE$42)+1), ROW(A7))), \"\")","v":""},null,null,{"$f":"IFERROR(INDEX($AF$42:$AF$91, SMALL(IF($AF$42:$AF$91<>\"\", ROW($AF$42:$AF$91)-ROW($AF$42)+1), ROW(A7))), \"\")","v":""},{"$f":"IFERROR(INDEX($AG$42:$AG$91, SMALL(IF($AG$42:$AG$91<>\"\", ROW($AG$42:$AG$91)-ROW($AG$42)+1), ROW(B7))), \"\")","v":""},null,null,null,null,6,null,{"$f":"IFERROR(VLOOKUP(AN19, AD13:AI32, 2, FALSE), \"\")","v":""},{"$f":"IFERROR(VLOOKUP(AN19, AD13:AI32, 5, FALSE), \"\")","v":""},{"$f":"IFERROR(VLOOKUP(AN19, AD13:AI32, 6, FALSE), \"\")","v":""},null,null,null,6,"","","","",null,null,null,"選手　7",0,{"$f":"IFERROR(INDEX($BF$42:$BF$91, SMALL(IF($BF$42:$BF$91<>\"\", ROW($BF$42:$BF$91)-ROW($BF$42)+1), ROW(BC7))), \"\")","v":""},null,null,{"$f":"IFERROR(INDEX($BG$42:$BG$91, SMALL(IF($BG$42:$BG$91<>\"\", ROW($BG$42:$BG$91)-ROW($BG$42)+1), ROW(AB7))), \"\")","v":""},{"$f":"IFERROR(INDEX($BH$42:$BH$91, SMALL(IF($BH$42:$BH$91<>\"\", ROW($BH$42:$BH$91)-ROW($BH$42)+1), ROW(AC7))), \"\")","v":""},null,null,null,null,6,null,{"$f":"IFERROR(VLOOKUP(BO19, BE13:BJ32, 2, FALSE), \"\")","v":""},{"$f":"IFERROR(VLOOKUP(BO19, BE13:BJ32, 5, FALSE), \"\")","v":""},{"$f":"IFERROR(VLOOKUP(BO19, BE13:BJ32, 6, FALSE), \"\")","v":""},null,null,null,6,"","","","",null,null,null,"選手　7",0,{"$f":"IFERROR(INDEX($CG$42:$CG$91, SMALL(IF($CG$42:$CG$91<>\"\", ROW($CG$42:$CG$91)-ROW($CG$42)+1), ROW(CD7))), \"\")","v":""},null,null,{"$f":"IFERROR(INDEX($CH$42:$CH$91, SMALL(IF($CH$42:$CH$91<>\"\", ROW($CH$42:$CH$91)-ROW($CH$42)+1), ROW(BC7))), \"\")","v":""},{"$f":"IFERROR(INDEX($CI$42:$CI$91, SMALL(IF($CI$42:$CI$91<>\"\", ROW($CI$42:$CI$91)-ROW($CI$42)+1), ROW(BD7))), \"\")","v":""},null,null,null,null,6,null,{"$f":"IFERROR(VLOOKUP(CP19, CF13:CK32, 2, FALSE), \"\")","v":""},{"$f":"IFERROR(VLOOKUP(CP19, CF13:CK32, 5, FALSE), \"\")","v":""},{"$f":"IFERROR(VLOOKUP(CP19, CF13:CK32, 6, FALSE), \"\")","v":""},null,null,null,6,"","","",""]
[null,"選手　8",0,{"$f":"IFERROR(INDEX($D$42:$D$91, SMALL(IF($D$42:$D$91<>\"\", ROW($D$42:$D$91)-ROW($D$42)+1), ROW(A8))), \"\")","v":""},null,null,{"$f":"IFERROR(INDEX($E$42:$E$91, SMALL(IF($E$42:$E$91<>\"\", ROW($E$42:$E$91)-ROW($E$42)+1), ROW(A8))), \"\")","v":""},{"$f":"IFERROR(INDEX($F$42:$F$91, SMALL(IF($F$42:$F$91<>\"\", ROW($F$42:$F$91)-ROW($F$42)+1), ROW(B8))), \"\")","v":""},null,null,null,null,7,null,{"$f":"IFERROR(VLOOKUP(M20, C13:H32, 2, FALSE), \"\")","v":""},{"$f":"IFERROR(VLOOKUP(M20, C13:H32, 5, FALSE), \"\")","v":""},{"$f":"IFERROR(VLOOKUP(M20, C13:H32, 6, FALSE), \"\")","v":""},null,null,null,7,"","","","",null,null,null,"選手　8",0,{"$f":"IFERROR(INDEX($AE$42:$AE$91, SMALL(IF($AE$42:$AE$91<>\"\", ROW($AE$42:$AE$91)-ROW($AE$42)+1), ROW(A8))), \"\")","v":""},null,null,{"$f":"IFERROR(INDEX($AF$42:$AF$91, SMALL(IF($AF$42:$AF$91<>\"\", ROW($AF$42:$AF$91)-ROW($AF$42)+1), ROW(A8))), \"\")","v":""},{"$f":"IFERROR(INDEX($AG$42:$AG$91, SMALL(IF($AG$42:$AG$91<>\"\", ROW($AG$42:$AG$91)-ROW($AG$42)+1), ROW(B8))), \"\")","v":""},null,null,null,null,7,null,{"$f":"IFERROR(VLOOKUP(AN20, AD13:AI32, 2, FALSE), \"\")","v":""},{"$f":"IFERROR(VLOOKUP(AN20, AD13:AI32, 5, FALSE), \"\")","v":""},{"$f":"IFERROR(VLOOKUP(AN20, AD13:AI32, 6, FALSE), \"\")","v":""},null,null,null,7,"","","","",null,null,null,"選手　8",0,{"$f":"IFERROR(INDEX($BF$42:$BF$91, SMALL(IF($BF$42:$BF$91<>\"\", ROW($BF$42:$BF$91)-ROW($BF$42)+1), ROW(BC8))), \"\")","v":""},null,null,{"$f":"IFERROR(INDEX($BG$42:$BG$91, SMALL(IF($BG$42:$BG$91<>\"\", ROW($BG$42:$BG$91)-ROW($BG$42)+1), ROW(AB8))), \"\")","v":""},{"$f":"IFERROR(INDEX($BH$42:$BH$91, SMALL(IF($BH$42:$BH$91<>\"\", ROW($BH$42:$BH$91)-ROW($BH$42)+1), ROW(AC8))), \"\")","v":""},null,null,null,null,7,null,{"$f":"IFERROR(VLOOKUP(BO20, BE13:BJ32, 2, FALSE), \"\")","v":""},{"$f":"IFERROR(VLOOKUP(BO20, BE13:BJ32, 5, FALSE), \"\")","v":""},{"$f":"IFERROR(VLOOKUP(BO20, BE13:BJ32, 6, FALSE), \"\")","v":""},null,null,null,7,"","","","",null,null,null,"選手　8",0,{"$f":"IFERROR(INDEX($CG$42:$CG$91, SMALL(IF($CG$42:$CG$91<>\"\", ROW($CG$42:$CG$91)-ROW($CG$42)+1), ROW(CD8))), \"\")","v":""},null,null,{"$f":"IFERROR(INDEX($CH$42:$CH$91, SMALL(IF($CH$42:$CH$91<>\"\", ROW($CH$42:$CH$91)-ROW($CH$42)+1), ROW(BC8))), \"\")","v":""},{"$f":"IFERROR(INDEX($CI$42:$CI$91, SMALL(IF($CI$42:$CI$91<>\"\", ROW($CI$42:$CI$91)-ROW($CI$42)+1), ROW(BD8))), \"\")","v":""},null,null,null,null,7,null,{"$f":"IFERROR(VLOOKUP(CP20, CF13:CK32, 2, FALSE), \"\")","v":""},{"$f":"IFERROR(VLOOKUP(CP20, CF13:CK32, 5, FALSE), \"\")","v":""},{"$f":"IFERROR(VLOOKUP(CP20, CF13:CK32, 6, FALSE), \"\")","v":""},null,null,null,7,"","","",""]
[null,"選手　9",0,{"$f":"IFERROR(INDEX($D$42:$D$91, SMALL(IF($D$42:$D$91<>\"\", ROW($D$42:$D$91)-ROW($D$42)+1), ROW(A9))), \"\")","v":""},null,null,{"$f":"IFERROR(INDEX($E$42:$E$91, SMALL(IF($E$42:$E$91<>\"\", ROW($E$42:$E$91)-ROW($E$42)+1), ROW(A9))), \"\")","v":""},{"$f":"IFERROR(INDEX($F$42:$F$91, SMALL(IF($F$42:$F$91<>\"\", ROW($F$42:$F$91)-ROW($F$42)+1), ROW(B9))), \"\")","v":""},null,null,null,null,8,null,{"$f":"IFERROR(VLOOKUP(M21, C13:H32, 2, FALSE), \"\")","v":""},{"$f":"IFERROR(VLOOKUP(M21, C13:H32, 5, FALSE), \"\")","v":""},{"$f":"IFERROR(VLOOKUP(M21, C13:H32, 6, FALSE), \"\")","v":""},null,null,null,8,"","","","",null,null,null,"選手　9",0,{"$f":"IFERROR(INDEX($AE$42:$AE$91, SMALL(IF($AE$42:$AE$91<>\"\", ROW($AE$42:$AE$91)-ROW($AE$42)+1), ROW(A9))), \"\")","v":""},null,null,{"$f":"IFERROR(INDEX($AF$42:$AF$91, SMALL(IF($AF$42:$AF$91<>\"\", ROW($AF$42:$AF$91)-ROW($AF$42)+1), ROW(A9))), \"\")","v":""},{"$f":"IFERROR(INDEX($AG$42:$AG$91, SMALL(IF($AG$42:$AG$91<>\"\", ROW($AG$42:$AG$91)-ROW($AG$42)+1), ROW(B9))), \"\")","v":""},null,null,null,null,8,null,{"$f":"IFERROR(VLOOKUP(AN21, AD13:AI32, 2, FALSE), \"\")","v":""},{"$f":"IFERROR(VLOOKUP(AN21, AD13:AI32, 5, FALSE), \"\")","v":""},{"$f":"IFERROR(VLOOKUP(AN21, AD13:AI32, 6, FALSE), \"\")","v":""},null,null,null,8,"","","","",null,null,null,"選手　9",0,{"$f":"IFERROR(INDEX($BF$42:$BF$91, SMALL(IF($BF$42:$BF$91<>\"\", ROW($BF$42:$BF$91)-ROW($BF$42)+1), ROW(BC9))), \"\")","v":""},null,null,{"$f":"IFERROR(INDEX($BG$42:$BG$91, SMALL(IF($BG$42:$BG$91<>\"\", ROW($BG$42:$BG$91)-ROW($BG$42)+1), ROW(AB9))), \"\")","v":""},{"$f":"IFERROR(INDEX($BH$42:$BH$91, SMALL(IF($BH$42:$BH$91<>\"\", ROW($BH$42:$BH$91)-ROW($BH$42)+1), ROW(AC9))), \"\")","v":""},null,null,null,null,8,null,{"$f":"IFERROR(VLOOKUP(BO21, BE13:BJ32, 2, FALSE), \"\")","v":""},{"$f":"IFERROR(VLOOKUP(BO21, BE13:BJ32, 5, FALSE), \"\")","v":""},{"$f":"IFERROR(VLOOKUP(BO21, BE13:BJ32, 6, FALSE), \"\")","v":""},null,null,null,8,"","","","",null,null,null,"選手　9",0,{"$f":"IFERROR(INDEX($CG$42:$CG$91, SMALL(IF($CG$42:$CG$91<>\"\", ROW($CG$42:$CG$91)-ROW($CG$42)+1), ROW(CD9))), \"\")","v":""},null,null,{"$f":"IFERROR(INDEX($CH$42:$CH$91, SMALL(IF($CH$42:$CH$91<>\"\", ROW($CH$42:$CH$91)-ROW($CH$42)+1), ROW(BC9))), \"\")","v":""},{"$f":"IFERROR(INDEX($CI$42:$CI$91, SMALL(IF($CI$42:$CI$91<>\"\", ROW($CI$42:$CI$91)-ROW($CI$42)+1), ROW(BD9))), \"\")","v":""},null,null,null,null,8,null,{"$f":"IFERROR(VLOOKUP(CP21, CF13:CK32, 2, FALSE), \"\")","v":""},{"$f":"IFERROR(VLOOKUP(CP21, CF13:CK32, 5, FALSE), \"\")","v":""},{"$f":"IFERROR(VLOOKUP(CP21, CF13:CK32, 6, FALSE), \"\")","v":""},null,null,null,8,"","","",""]
[null,"選手　10",0,{"$f":"IFERROR(INDEX($D$42:$D$91, SMALL(IF($D$42:$D$91<>\"\", ROW($D$42:$D$91)-ROW($D$42)+1), ROW(A10))), \"\")","v":""},null,null,{"$f":"IFERROR(INDEX($E$42:$E$91, SMALL(IF($E$42:$E$91<>\"\", ROW($E$42:$E$91)-ROW($E$42)+1), ROW(A10))), \"\")","v":""},{"$f":"IFERROR(INDEX($F$42:$F$91, SMALL(IF($F$42:$F$91<>\"\", ROW($F$42:$F$91)-ROW($F$42)+1), ROW(B10))), \"\")","v":""},null,null,null,null,9,null,{"$f":"IFERROR(VLOOKUP(M22, C13:H32, 2, FALSE), \"\")","v":""},{"$f":"IFERROR(VLOOKUP(M22, C13:H32, 5, FALSE), \"\")","v":""},{"$f":"IFERROR(VLOOKUP(M22, C13:H32, 6, FALSE), \"\")","v":""},null,null,null,9,"","","","",null,null,null,"選手　10",0,{"$f":"IFERROR(INDEX($AE$42:$AE$91, SMALL(IF($AE$42:$AE$91<>\"\", ROW($AE$42:$AE$91)-ROW($AE$42)+1), ROW(A10))), \"\")","v":""},null,null,{"$f":"IFERROR(INDEX($AF$42:$AF$91, SMALL(IF($AF$42:$AF$91<>\"\", ROW($AF$42:$AF$91)-ROW($AF$42)+1), ROW(A10))), \"\")","v":""},{"$f":"IFERROR(INDEX($AG$42:$AG$91, SMALL(IF($AG$42:$AG$91<>\"\", ROW($AG$42:$AG$91)-ROW($AG$42)+1), ROW(B10))), \"\")","v":""},null,null,null,null,9,null,{"$f":"IFERROR(VLOOKUP(AN22, AD13:AI32, 2, FALSE), \"\")","v":""},{"$f":"IFERROR(VLOOKUP(AN22, AD13:AI32, 5, FALSE), \"\")","v":""},{"$f":"IFERROR(VLOOKUP(AN22, AD13:AI32, 6, FALSE), \"\")","v":""},null,null,null,9,"","","","",null,null,null,"選手　10",0,{"$f":"IFERROR(INDEX($BF$42:$BF$91, SMALL(IF($BF$42:$BF$91<>\"\", ROW($BF$42:$BF$91)-ROW($BF$42)+1), ROW(BC10))), \"\")","v":""},null,null,{"$f":"IFERROR(INDEX($BG$42:$BG$91, SMALL(IF($BG$42:$BG$91<>\"\", ROW($BG$42:$BG$91)-ROW($BG$42)+1), ROW(AB10))), \"\")","v":""},{"$f":"IFERROR(INDEX($BH$42:$BH$91, SMALL(IF($BH$42:$BH$91<>\"\", ROW($BH$42:$BH$91)-ROW($BH$42)+1), ROW(AC10))), \"\")","v":""},null,null,null,null,9,null,{"$f":"IFERROR(VLOOKUP(BO22, BE13:BJ32, 2, FALSE), \"\")","v":""},{"$f":"IFERROR(VLOOKUP(BO22, BE13:BJ32, 5, FALSE), \"\")","v":""},{"$f":"IFERROR(VLOOKUP(BO22, BE13:BJ32, 6, FALSE), \"\")","v":""},null,null,null,9,"","","","",null,null,null,"選手　10",0,{"$f":"IFERROR(INDEX($CG$42:$CG$91, SMALL(IF($CG$42:$CG$91<>\"\", ROW($CG$42:$CG$91)-ROW($CG$42)+1), ROW(CD10))), \"\")","v":""},null,null,{"$f":"IFERROR(INDEX($CH$42:$CH$91, SMALL(IF($CH$42:$CH$91<>\"\", ROW($CH$42:$CH$91)-ROW($CH$42)+1), ROW(BC10))), \"\")","v":""},{"$f":"IFERROR(INDEX($CI$42:$CI$91, SMALL(IF($CI$42:$CI$91<>\"\", ROW($CI$42:$CI$91)-ROW($CI$42)+1), ROW(BD10))), \"\")","v":""},null,null,null,null,9,null,{"$f":"IFERROR(VLOOKUP(CP22, CF13:CK32, 2, FALSE), \"\")","v":""},{"$f":"IFERROR(VLOOKUP(CP22, CF13:CK32, 5, FALSE), \"\")","v":""},{"$f":"IFERROR(VLOOKUP(CP22, CF13:CK32, 6, FALSE), \"\")","v":""},null,null,null,9,"","","",""]
[null,"選手　11",0,{"$f":"IFERROR(INDEX($D$42:$D$91, SMALL(IF($D$42:$D$91<>\"\", ROW($D$42:$D$91)-ROW($D$42)+1), ROW(A11))), \"\")","v":""},null,null,{"$f":"IFERROR(INDEX($E$42:$E$91, SMALL(IF($E$42:$E$91<>\"\", ROW($E$42:$E$91)-ROW($E$42)+1), ROW(A11))), \"\")","v":""},{"$f":"IFERROR(INDEX($F$42:$F$91, SMALL(IF($F$42:$F$91<>\"\", ROW($F$42:$F$91)-ROW($F$42)+1), ROW(B11))), \"\")","v":""},null,null,null,null,10,null,{"$f":"IFERROR(VLOOKUP(M23,C13:H32, 2, FALSE), \"\")","v":""},{"$f":"IFERROR(VLOOKUP(M23, C13:H32, 5, FALSE), \"\")","v":""},{"$f":"IFERROR(VLOOKUP(M23, C13:H32, 6, FALSE), \"\")","v":""},null,null,null,10,"","","","",null,null,null,"選手　11",0,{"$f":"IFERROR(INDEX($AE$42:$AE$91, SMALL(IF($AE$42:$AE$91<>\"\", ROW($AE$42:$AE$91)-ROW($AE$42)+1), ROW(A11))), \"\")","v":""},null,null,{"$f":"IFERROR(INDEX($AF$42:$AF$91, SMALL(IF($AF$42:$AF$91<>\"\", ROW($AF$42:$AF$91)-ROW($AF$42)+1), ROW(A11))), \"\")","v":""},{"$f":"IFERROR(INDEX($AG$42:$AG$91, SMALL(IF($AG$42:$AG$91<>\"\", ROW($AG$42:$AG$91)-ROW($AG$42)+1), ROW(B11))), \"\")","v":""},null,null,null,null,10,null,{"$f":"IFERROR(VLOOKUP(AN23,AD13:AI32, 2, FALSE), \"\")","v":""},{"$f":"IFERROR(VLOOKUP(AN23, AD13:AI32, 5, FALSE), \"\")","v":""},{"$f":"IFERROR(VLOOKUP(AN23, AD13:AI32, 6, FALSE), \"\")","v":""},null,null,null,10,"","","","",null,null,null,"選手　11",0,{"$f":"IFERROR(INDEX($BF$42:$BF$91, SMALL(IF($BF$42:$BF$91<>\"\", ROW($BF$42:$BF$91)-ROW($BF$42)+1), ROW(BC11))), \"\")","v":""},null,null,{"$f":"IFERROR(INDEX($BG$42:$BG$91, SMALL(IF($BG$42:$BG$91<>\"\", ROW($BG$42:$BG$91)-ROW($BG$42)+1), ROW(AB11))), \"\")","v":""},{"$f":"IFERROR(INDEX($BH$42:$BH$91, SMALL(IF($BH$42:$BH$91<>\"\", ROW($BH$42:$BH$91)-ROW($BH$42)+1), ROW(AC11))), \"\")","v":""},null,null,null,null,10,null,{"$f":"IFERROR(VLOOKUP(BO23,BE13:BJ32, 2, FALSE), \"\")","v":""},{"$f":"IFERROR(VLOOKUP(BO23, BE13:BJ32, 5, FALSE), \"\")","v":""},{"$f":"IFERROR(VLOOKUP(BO23, BE13:BJ32, 6, FALSE), \"\")","v":""},null,null,null,10,"","","","",null,null,null,"選手　11",0,{"$f":"IFERROR(INDEX($CG$42:$CG$91, SMALL(IF($CG$42:$CG$91<>\"\", ROW($CG$42:$CG$91)-ROW($CG$42)+1), ROW(CD11))), \"\")","v":""},null,null,{"$f":"IFERROR(INDEX($CH$42:$CH$91, SMALL(IF($CH$42:$CH$91<>\"\", ROW($CH$42:$CH$91)-ROW($CH$42)+1), ROW(BC11))), \"\")","v":""},{"$f":"IFERROR(INDEX($CI$42:$CI$91, SMALL(IF($CI$42:$CI$91<>\"\", ROW($CI$42:$CI$91)-ROW($CI$42)+1), ROW(BD11))), \"\")","v":""},null,null,null,null,10,null,{"$f":"IFERROR(VLOOKUP(CP23,CF13:CK32, 2, FALSE), \"\")","v":""},{"$f":"IFERROR(VLOOKUP(CP23, CF13:CK32, 5, FALSE), \"\")","v":""},{"$f":"IFERROR(VLOOKUP(CP23, CF13:CK32, 6, FALSE), \"\")","v":""},null,null,null,10,"","","",""]
[null,"選手　12",0,{"$f":"IFERROR(INDEX($D$42:$D$91, SMALL(IF($D$42:$D$91<>\"\", ROW($D$42:$D$91)-ROW($D$42)+1), ROW(A12))), \"\")","v":""},null,null,{"$f":"IFERROR(INDEX($E$42:$E$91, SMALL(IF($E$42:$E$91<>\"\", ROW($E$42:$E$91)-ROW($E$42)+1), ROW(A12))), \"\")","v":""},{"$f":"IFERROR(INDEX($F$42:$F$91, SMALL(IF($F$42:$F$91<>\"\", ROW($F$42:$F$91)-ROW($F$42)+1), ROW(B12))), \"\")","v":""},null,null,null,null,11,null,{"$f":"IFERROR(VLOOKUP(M24, C13:H32, 2, FALSE), \"\")","v":""},{"$f":"IFERROR(VLOOKUP(M24, C13:H32, 5, FALSE), \"\")","v":""},{"$f":"IFERROR(VLOOKUP(M24, C13:H32, 6, FALSE), \"\")","v":""},null,null,null,11,"","","","",null,null,null,"選手　12",0,{"$f":"IFERROR(INDEX($AE$42:$AE$91, SMALL(IF($AE$42:$AE$91<>\"\", ROW($AE$42:$AE$91)-ROW($AE$42)+1), ROW(A12))), \"\")","v":""},null,null,{"$f":"IFERROR(INDEX($AF$42:$AF$91, SMALL(IF($AF$42:$AF$91<>\"\", ROW($AF$42:$AF$91)-ROW($AF$42)+1), ROW(A12))), \"\")","v":""},{"$f":"IFERROR(INDEX($AG$42:$AG$91, SMALL(IF($AG$42:$AG$91<>\"\", ROW($AG$42:$AG$91)-ROW($AG$42)+1), ROW(B12))), \"\")","v":""},null,null,null,null,11,null,{"$f":"IFERROR(VLOOKUP(AN24, AD13:AI32, 2, FALSE), \"\")","v":""},{"$f":"IFERROR(VLOOKUP(AN24, AD13:AI32, 5, FALSE), \"\")","v":""},{"$f":"IFERROR(VLOOKUP(AN24, AD13:AI32, 6, FALSE), \"\")","v":""},null,null,null,11,"","","","",null,null,null,"選手　12",0,{"$f":"IFERROR(INDEX($BF$42:$BF$91, SMALL(IF($BF$42:$BF$91<>\"\", ROW($BF$42:$BF$91)-ROW($BF$42)+1), ROW(BC12))), \"\")","v":""},null,null,{"$f":"IFERROR(INDEX($BG$42:$BG$91, SMALL(IF($BG$42:$BG$91<>\"\", ROW($BG$42:$BG$91)-ROW($BG$42)+1), ROW(AB12))), \"\")","v":""},{"$f":"IFERROR(INDEX($BH$42:$BH$91, SMALL(IF($BH$42:$BH$91<>\"\", ROW($BH$42:$BH$91)-ROW($BH$42)+1), ROW(AC12))), \"\")","v":""},null,null,null,null,11,null,{"$f":"IFERROR(VLOOKUP(BO24, BE13:BJ32, 2, FALSE), \"\")","v":""},{"$f":"IFERROR(VLOOKUP(BO24, BE13:BJ32, 5, FALSE), \"\")","v":""},{"$f":"IFERROR(VLOOKUP(BO24, BE13:BJ32, 6, FALSE), \"\")","v":""},null,null,null,11,"","","","",null,null,null,"選手　12",0,{"$f":"IFERROR(INDEX($CG$42:$CG$91, SMALL(IF($CG$42:$CG$91<>\"\", ROW($CG$42:$CG$91)-ROW($CG$42)+1), ROW(CD12))), \"\")","v":""},null,null,{"$f":"IFERROR(INDEX($CH$42:$CH$91, SMALL(IF($CH$42:$CH$91<>\"\", ROW($CH$42:$CH$91)-ROW($CH$42)+1), ROW(BC12))), \"\")","v":""},{"$f":"IFERROR(INDEX($CI$42:$CI$91, SMALL(IF($CI$42:$CI$91<>\"\", ROW($CI$42:$CI$91)-ROW($CI$42)+1), ROW(BD12))), \"\")","v":""},null,null,null,null,11,null,{"$f":"IFERROR(VLOOKUP(CP24, CF13:CK32, 2, FALSE), \"\")","v":""},{"$f":"IFERROR(VLOOKUP(CP24, CF13:CK32, 5, FALSE), \"\")","v":""},{"$f":"IFERROR(VLOOKUP(CP24, CF13:CK32, 6, FALSE), \"\")","v":""},null,null,null,11,"","","",""]
[null,"選手　13",0,{"$f":"IFERROR(INDEX($D$42:$D$91, SMALL(IF($D$42:$D$91<>\"\", ROW($D$42:$D$91)-ROW($D$42)+1), ROW(A13))), \"\")","v":""},null,null,{"$f":"IFERROR(INDEX($E$42:$E$91, SMALL(IF($E$42:$E$91<>\"\", ROW($E$42:$E$91)-ROW($E$42)+1), ROW(A13))), \"\")","v":""},{"$f":"IFERROR(INDEX($F$42:$F$91, SMALL(IF($F$42:$F$91<>\"\", ROW($F$42:$F$91)-ROW($F$42)+1), ROW(B13))), \"\")","v":""},null,null,null,null,12,null,{"$f":"IFERROR(VLOOKUP(M25, C13:H32, 2, FALSE), \"\")","v":""},{"$f":"IFERROR(VLOOKUP(M25, C13:H32, 5, FALSE), \"\")","v":""},{"$f":"IFERROR(VLOOKUP(M25, C13:H32, 6, FALSE), \"\")","v":""},null,null,null,12,"","","","",null,null,null,"選手　13",0,{"$f":"IFERROR(INDEX($AE$42:$AE$91, SMALL(IF($AE$42:$AE$91<>\"\", ROW($AE$42:$AE$91)-ROW($AE$42)+1), ROW(A13))), \"\")","v":""},null,null,{"$f":"IFERROR(INDEX($AF$42:$AF$91, SMALL(IF($AF$42:$AF$91<>\"\", ROW($AF$42:$AF$91)-ROW($AF$42)+1), ROW(A13))), \"\")","v":""},{"$f":"IFERROR(INDEX($AG$42:$AG$91, SMALL(IF($AG$42:$AG$91<>\"\", ROW($AG$42:$AG$91)-ROW($AG$42)+1), ROW(B13))), \"\")","v":""},null,null,null,null,12,null,{"$f":"IFERROR(VLOOKUP(AN25, AD13:AI32, 2, FALSE), \"\")","v":""},{"$f":"IFERROR(VLOOKUP(AN25, AD13:AI32, 5, FALSE), \"\")","v":""},{"$f":"IFERROR(VLOOKUP(AN25, AD13:AI32, 6, FALSE), \"\")","v":""},null,null,null,12,"","","","",null,null,null,"選手　13",0,{"$f":"IFERROR(INDEX($BF$42:$BF$91, SMALL(IF($BF$42:$BF$91<>\"\", ROW($BF$42:$BF$91)-ROW($BF$42)+1), ROW(BC13))), \"\")","v":""},null,null,{"$f":"IFERROR(INDEX($BG$42:$BG$91, SMALL(IF($BG$42:$BG$91<>\"\", ROW($BG$42:$BG$91)-ROW($BG$42)+1), ROW(AB13))), \"\")","v":""},{"$f":"IFERROR(INDEX($BH$42:$BH$91, SMALL(IF($BH$42:$BH$91<>\"\", ROW($BH$42:$BH$91)-ROW($BH$42)+1), ROW(AC13))), \"\")","v":""},null,null,null,null,12,null,{"$f":"IFERROR(VLOOKUP(BO25, BE13:BJ32, 2, FALSE), \"\")","v":""},{"$f":"IFERROR(VLOOKUP(BO25, BE13:BJ32, 5, FALSE), \"\")","v":""},{"$f":"IFERROR(VLOOKUP(BO25, BE13:BJ32, 6, FALSE), \"\")","v":""},null,null,null,12,"","","","",null,null,null,"選手　13",0,{"$f":"IFERROR(INDEX($CG$42:$CG$91, SMALL(IF($CG$42:$CG$91<>\"\", ROW($CG$42:$CG$91)-ROW($CG$42)+1), ROW(CD13))), \"\")","v":""},null,null,{"$f":"IFERROR(INDEX($CH$42:$CH$91, SMALL(IF($CH$42:$CH$91<>\"\", ROW($CH$42:$CH$91)-ROW($CH$42)+1), ROW(BC13))), \"\")","v":""},{"$f":"IFERROR(INDEX($CI$42:$CI$91, SMALL(IF($CI$42:$CI$91<>\"\", ROW($CI$42:$CI$91)-ROW($CI$42)+1), ROW(BD13))), \"\")","v":""},null,null,null,null,12,null,{"$f":"IFERROR(VLOOKUP(CP25, CF13:CK32, 2, FALSE), \"\")","v":""},{"$f":"IFERROR(VLOOKUP(CP25, CF13:CK32, 5, FALSE), \"\")","v":""},{"$f":"IFERROR(VLOOKUP(CP25, CF13:CK32, 6, FALSE), \"\")","v":""},null,null,null,12,"","","",""]
[null,"選手　14",0,{"$f":"IFERROR(INDEX($D$42:$D$91, SMALL(IF($D$42:$D$91<>\"\", ROW($D$42:$D$91)-ROW($D$42)+1), ROW(A14))), \"\")","v":""},null,null,{"$f":"IFERROR(INDEX($E$42:$E$91, SMALL(IF($E$42:$E$91<>\"\", ROW($E$42:$E$91)-ROW($E$42)+1), ROW(A14))), \"\")","v":""},{"$f":"IFERROR(INDEX($F$42:$F$91, SMALL(IF($F$42:$F$91<>\"\", ROW($F$42:$F$91)-ROW($F$42)+1), ROW(B14))), \"\")","v":""},null,null,null,null,13,null,{"$f":"IFERROR(VLOOKUP(M26, C13:H32, 2, FALSE), \"\")","v":""},{"$f":"IFERROR(VLOOKUP(M26, C13:H32, 5, FALSE), \"\")","v":""},{"$f":"IFERROR(VLOOKUP(M26, C13:H32, 6, FALSE), \"\")","v":""},null,null,null,13,"","","","",null,null,null,"選手　14",0,{"$f":"IFERROR(INDEX($AE$42:$AE$91, SMALL(IF($AE$42:$AE$91<>\"\", ROW($AE$42:$AE$91)-ROW($AE$42)+1), ROW(A14))), \"\")","v":""},null,null,{"$f":"IFERROR(INDEX($AF$42:$AF$91, SMALL(IF($AF$42:$AF$91<>\"\", ROW($AF$42:$AF$91)-ROW($AF$42)+1), ROW(A14))), \"\")","v":""},{"$f":"IFERROR(INDEX($AG$42:$AG$91, SMALL(IF($AG$42:$AG$91<>\"\", ROW($AG$42:$AG$91)-ROW($AG$42)+1), ROW(B14))), \"\")","v":""},null,null,null,null,13,null,{"$f":"IFERROR(VLOOKUP(AN26, AD13:AI32, 2, FALSE), \"\")","v":""},{"$f":"IFERROR(VLOOKUP(AN26, AD13:AI32, 5, FALSE), \"\")","v":""},{"$f":"IFERROR(VLOOKUP(AN26, AD13:AI32, 6, FALSE), \"\")","v":""},null,null,null,13,"","","","",null,null,null,"選手　14",0,{"$f":"IFERROR(INDEX($BF$42:$BF$91, SMALL(IF($BF$42:$BF$91<>\"\", ROW($BF$42:$BF$91)-ROW($BF$42)+1), ROW(BC14))), \"\")","v":""},null,null,{"$f":"IFERROR(INDEX($BG$42:$BG$91, SMALL(IF($BG$42:$BG$91<>\"\", ROW($BG$42:$BG$91)-ROW($BG$42)+1), ROW(AB14))), \"\")","v":""},{"$f":"IFERROR(INDEX($BH$42:$BH$91, SMALL(IF($BH$42:$BH$91<>\"\", ROW($BH$42:$BH$91)-ROW($BH$42)+1), ROW(AC14))), \"\")","v":""},null,null,null,null,13,null,{"$f":"IFERROR(VLOOKUP(BO26, BE13:BJ32, 2, FALSE), \"\")","v":""},{"$f":"IFERROR(VLOOKUP(BO26, BE13:BJ32, 5, FALSE), \"\")","v":""},{"$f":"IFERROR(VLOOKUP(BO26, BE13:BJ32, 6, FALSE), \"\")","v":""},null,null,null,13,"","","","",null,null,null,"選手　14",0,{"$f":"IFERROR(INDEX($CG$42:$CG$91, SMALL(IF($CG$42:$CG$91<>\"\", ROW($CG$42:$CG$91)-ROW($CG$42)+1), ROW(CD14))), \"\")","v":""},null,null,{"$f":"IFERROR(INDEX($CH$42:$CH$91, SMALL(IF($CH$42:$CH$91<>\"\", ROW($CH$42:$CH$91)-ROW($CH$42)+1), ROW(BC14))), \"\")","v":""},{"$f":"IFERROR(INDEX($CI$42:$CI$91, SMALL(IF($CI$42:$CI$91<>\"\", ROW($CI$42:$CI$91)-ROW($CI$42)+1), ROW(BD14))), \"\")","v":""},null,null,null,null,13,null,{"$f":"IFERROR(VLOOKUP(CP26, CF13:CK32, 2, FALSE), \"\")","v":""},{"$f":"IFERROR(VLOOKUP(CP26, CF13:CK32, 5, FALSE), \"\")","v":""},{"$f":"IFERROR(VLOOKUP(CP26, CF13:CK32, 6, FALSE), \"\")","v":""},null,null,null,13,"","","",""]
[null,"選手　15",0,{"$f":"IFERROR(INDEX($D$42:$D$91, SMALL(IF($D$42:$D$91<>\"\", ROW($D$42:$D$91)-ROW($D$42)+1), ROW(A15))), \"\")","v":""},null,null,{"$f":"IFERROR(INDEX($E$42:$E$91, SMALL(IF($E$42:$E$91<>\"\", ROW($E$42:$E$91)-ROW($E$42)+1), ROW(A15))), \"\")","v":""},{"$f":"IFERROR(INDEX($F$42:$F$91, SMALL(IF($F$42:$F$91<>\"\", ROW($F$42:$F$91)-ROW($F$42)+1), ROW(B15))), \"\")","v":""},null,null,null,null,14,null,{"$f":"IFERROR(VLOOKUP(M27,C13:H32, 2, FALSE), \"\")","v":""},{"$f":"IFERROR(VLOOKUP(M27, C13:H32, 5, FALSE), \"\")","v":""},{"$f":"IFERROR(VLOOKUP(M27, C13:H32, 6, FALSE), \"\")","v":""},null,null,null,14,"","","","",null,null,null,"選手　15",0,{"$f":"IFERROR(INDEX($AE$42:$AE$91, SMALL(IF($AE$42:$AE$91<>\"\", ROW($AE$42:$AE$91)-ROW($AE$42)+1), ROW(A15))), \"\")","v":""},null,null,{"$f":"IFERROR(INDEX($AF$42:$AF$91, SMALL(IF($AF$42:$AF$91<>\"\", ROW($AF$42:$AF$91)-ROW($AF$42)+1), ROW(A15))), \"\")","v":""},{"$f":"IFERROR(INDEX($AG$42:$AG$91, SMALL(IF($AG$42:$AG$91<>\"\", ROW($AG$42:$AG$91)-ROW($AG$42)+1), ROW(B15))), \"\")","v":""},null,null,null,null,14,null,{"$f":"IFERROR(VLOOKUP(AN27,AD13:AI32, 2, FALSE), \"\")","v":""},{"$f":"IFERROR(VLOOKUP(AN27, AD13:AI32, 5, FALSE), \"\")","v":""},{"$f":"IFERROR(VLOOKUP(AN27, AD13:AI32, 6, FALSE), \"\")","v":""},null,null,null,14,"","","","",null,null,null,"選手　15",0,{"$f":"IFERROR(INDEX($BF$42:$BF$91, SMALL(IF($BF$42:$BF$91<>\"\", ROW($BF$42:$BF$91)-ROW($BF$42)+1), ROW(BC15))), \"\")","v":""},null,null,{"$f":"IFERROR(INDEX($BG$42:$BG$91, SMALL(IF($BG$42:$BG$91<>\"\", ROW($BG$42:$BG$91)-ROW($BG$42)+1), ROW(AB15))), \"\")","v":""},{"$f":"IFERROR(INDEX($BH$42:$BH$91, SMALL(IF($BH$42:$BH$91<>\"\", ROW($BH$42:$BH$91)-ROW($BH$42)+1), ROW(AC15))), \"\")","v":""},null,null,null,null,14,null,{"$f":"IFERROR(VLOOKUP(BO27,BE13:BJ32, 2, FALSE), \"\")","v":""},{"$f":"IFERROR(VLOOKUP(BO27, BE13:BJ32, 5, FALSE), \"\")","v":""},{"$f":"IFERROR(VLOOKUP(BO27, BE13:BJ32, 6, FALSE), \"\")","v":""},null,null,null,14,"","","","",null,null,null,"選手　15",0,{"$f":"IFERROR(INDEX($CG$42:$CG$91, SMALL(IF($CG$42:$CG$91<>\"\", ROW($CG$42:$CG$91)-ROW($CG$42)+1), ROW(CD15))), \"\")","v":""},null,null,{"$f":"IFERROR(INDEX($CH$42:$CH$91, SMALL(IF($CH$42:$CH$91<>\"\", ROW($CH$42:$CH$91)-ROW($CH$42)+1), ROW(BC15))), \"\")","v":""},{"$f":"IFERROR(INDEX($CI$42:$CI$91, SMALL(IF($CI$42:$CI$91<>\"\", ROW($CI$42:$CI$91)-ROW($CI$42)+1), ROW(BD15))), \"\")","v":""},null,null,null,null,14,null,{"$f":"IFERROR(VLOOKUP(CP27,CF13:CK32, 2, FALSE), \"\")","v":""},{"$f":"IFERROR(VLOOKUP(CP27, CF13:CK32, 5, FALSE), \"\")","v":""},{"$f":"IFERROR(VLOOKUP(CP27, CF13:CK32, 6, FALSE), \"\")","v":""},null,null,null,14,"","","",""]
[null,"選手　16",0,{"$f":"IFERROR(INDEX($D$42:$D$91, SMALL(IF($D$42:$D$91<>\"\", ROW($D$42:$D$91)-ROW($D$42)+1), ROW(A16))), \"\")","v":""},null,null,{"$f":"IFERROR(INDEX($E$42:$E$91, SMALL(IF($E$42:$E$91<>\"\", ROW($E$42:$E$91)-ROW($E$42)+1), ROW(A16))), \"\")","v":""},{"$f":"IFERROR(INDEX($F$42:$F$91, SMALL(IF($F$42:$F$91<>\"\", ROW($F$42:$F$91)-ROW($F$42)+1), ROW(B16))), \"\")","v":""},null,null,null,null,15,null,{"$f":"IFERROR(VLOOKUP(M28, C13:H32, 2, FALSE), \"\")","v":""},{"$f":"IFERROR(VLOOKUP(M28, C13:H32, 5, FALSE), \"\")","v":""},{"$f":"IFERROR(VLOOKUP(M28, C13:H32, 6, FALSE), \"\")","v":""},null,null,null,15,"","","","",null,null,null,"選手　16",0,{"$f":"IFERROR(INDEX($AE$42:$AE$91, SMALL(IF($AE$42:$AE$91<>\"\", ROW($AE$42:$AE$91)-ROW($AE$42)+1), ROW(A16))), \"\")","v":""},null,null,{"$f":"IFERROR(INDEX($AF$42:$AF$91, SMALL(IF($AF$42:$AF$91<>\"\", ROW($AF$42:$AF$91)-ROW($AF$42)+1), ROW(A16))), \"\")","v":""},{"$f":"IFERROR(INDEX($AG$42:$AG$91, SMALL(IF($AG$42:$AG$91<>\"\", ROW($AG$42:$AG$91)-ROW($AG$42)+1), ROW(B16))), \"\")","v":""},null,null,null,null,15,null,{"$f":"IFERROR(VLOOKUP(AN28, AD13:AI32, 2, FALSE), \"\")","v":""},{"$f":"IFERROR(VLOOKUP(AN28, AD13:AI32, 5, FALSE), \"\")","v":""},{"$f":"IFERROR(VLOOKUP(AN28, AD13:AI32, 6, FALSE), \"\")","v":""},null,null,null,15,"","","","",null,null,null,"選手　16",0,{"$f":"IFERROR(INDEX($BF$42:$BF$91, SMALL(IF($BF$42:$BF$91<>\"\", ROW($BF$42:$BF$91)-ROW($BF$42)+1), ROW(BC16))), \"\")","v":""},null,null,{"$f":"IFERROR(INDEX($BG$42:$BG$91, SMALL(IF($BG$42:$BG$91<>\"\", ROW($BG$42:$BG$91)-ROW($BG$42)+1), ROW(AB16))), \"\")","v":""},{"$f":"IFERROR(INDEX($BH$42:$BH$91, SMALL(IF($BH$42:$BH$91<>\"\", ROW($BH$42:$BH$91)-ROW($BH$42)+1), ROW(AC16))), \"\")","v":""},null,null,null,null,15,null,{"$f":"IFERROR(VLOOKUP(BO28, BE13:BJ32, 2, FALSE), \"\")","v":""},{"$f":"IFERROR(VLOOKUP(BO28, BE13:BJ32, 5, FALSE), \"\")","v":""},{"$f":"IFERROR(VLOOKUP(BO28, BE13:BJ32, 6, FALSE), \"\")","v":""},null,null,null,15,"","","","",null,null,null,"選手　16",0,{"$f":"IFERROR(INDEX($CG$42:$CG$91, SMALL(IF($CG$42:$CG$91<>\"\", ROW($CG$42:$CG$91)-ROW($CG$42)+1), ROW(CD16))), \"\")","v":""},null,null,{"$f":"IFERROR(INDEX($CH$42:$CH$91, SMALL(IF($CH$42:$CH$91<>\"\", ROW($CH$42:$CH$91)-ROW($CH$42)+1), ROW(BC16))), \"\")","v":""},{"$f":"IFERROR(INDEX($CI$42:$CI$91, SMALL(IF($CI$42:$CI$91<>\"\", ROW($CI$42:$CI$91)-ROW($CI$42)+1), ROW(BD16))), \"\")","v":""},null,null,null,null,15,null,{"$f":"IFERROR(VLOOKUP(CP28, CF13:CK32, 2, FALSE), \"\")","v":""},{"$f":"IFERROR(VLOOKUP(CP28, CF13:CK32, 5, FALSE), \"\")","v":""},{"$f":"IFERROR(VLOOKUP(CP28, CF13:CK32, 6, FALSE), \"\")","v":""},null,null,null,15,"","","",""]
[null,"選手　17",0,{"$f":"IFERROR(INDEX($D$42:$D$91, SMALL(IF($D$42:$D$91<>\"\", ROW($D$42:$D$91)-ROW($D$42)+1), ROW(A17))), \"\")","v":""},null,null,{"$f":"IFERROR(INDEX($E$42:$E$91, SMALL(IF($E$42:$E$91<>\"\", ROW($E$42:$E$91)-ROW($E$42)+1), ROW(A17))), \"\")","v":""},{"$f":"IFERROR(INDEX($F$42:$F$91, SMALL(IF($F$42:$F$91<>\"\", ROW($F$42:$F$91)-ROW($F$42)+1), ROW(B17))), \"\")","v":""},null,null,null,null,16,null,{"$f":"IFERROR(VLOOKUP(M29, C13:H32, 2, FALSE), \"\")","v":""},{"$f":"IFERROR(VLOOKUP(M29, C13:H32, 5, FALSE), \"\")","v":""},{"$f":"IFERROR(VLOOKUP(M29, C13:H32, 6, FALSE), \"\")","v":""},null,null,null,16,"","","","",null,null,null,"選手　17",0,{"$f":"IFERROR(INDEX($AE$42:$AE$91, SMALL(IF($AE$42:$AE$91<>\"\", ROW($AE$42:$AE$91)-ROW($AE$42)+1), ROW(A17))), \"\")","v":""},null,null,{"$f":"IFERROR(INDEX($AF$42:$AF$91, SMALL(IF($AF$42:$AF$91<>\"\", ROW($AF$42:$AF$91)-ROW($AF$42)+1), ROW(A17))), \"\")","v":""},{"$f":"IFERROR(INDEX($AG$42:$AG$91, SMALL(IF($AG$42:$AG$91<>\"\", ROW($AG$42:$AG$91)-ROW($AG$42)+1), ROW(B17))), \"\")","v":""},null,null,null,null,16,null,{"$f":"IFERROR(VLOOKUP(AN29, AD13:AI32, 2, FALSE), \"\")","v":""},{"$f":"IFERROR(VLOOKUP(AN29, AD13:AI32, 5, FALSE), \"\")","v":""},{"$f":"IFERROR(VLOOKUP(AN29, AD13:AI32, 6, FALSE), \"\")","v":""},null,null,null,16,"","","","",null,null,null,"選手　17",0,{"$f":"IFERROR(INDEX($BF$42:$BF$91, SMALL(IF($BF$42:$BF$91<>\"\", ROW($BF$42:$BF$91)-ROW($BF$42)+1), ROW(BC17))), \"\")","v":""},null,null,{"$f":"IFERROR(INDEX($BG$42:$BG$91, SMALL(IF($BG$42:$BG$91<>\"\", ROW($BG$42:$BG$91)-ROW($BG$42)+1), ROW(AB17))), \"\")","v":""},{"$f":"IFERROR(INDEX($BH$42:$BH$91, SMALL(IF($BH$42:$BH$91<>\"\", ROW($BH$42:$BH$91)-ROW($BH$42)+1), ROW(AC17))), \"\")","v":""},null,null,null,null,16,null,{"$f":"IFERROR(VLOOKUP(BO29, BE13:BJ32, 2, FALSE), \"\")","v":""},{"$f":"IFERROR(VLOOKUP(BO29, BE13:BJ32, 5, FALSE), \"\")","v":""},{"$f":"IFERROR(VLOOKUP(BO29, BE13:BJ32, 6, FALSE), \"\")","v":""},null,null,null,16,"","","","",null,null,null,"選手　17",0,{"$f":"IFERROR(INDEX($CG$42:$CG$91, SMALL(IF($CG$42:$CG$91<>\"\", ROW($CG$42:$CG$91)-ROW($CG$42)+1), ROW(CD17))), \"\")","v":""},null,null,{"$f":"IFERROR(INDEX($CH$42:$CH$91, SMALL(IF($CH$42:$CH$91<>\"\", ROW($CH$42:$CH$91)-ROW($CH$42)+1), ROW(BC17))), \"\")","v":""},{"$f":"IFERROR(INDEX($CI$42:$CI$91, SMALL(IF($CI$42:$CI$91<>\"\", ROW($CI$42:$CI$91)-ROW($CI$42)+1), ROW(BD17))), \"\")","v":""},null,null,null,null,16,null,{"$f":"IFERROR(VLOOKUP(CP29, CF13:CK32, 2, FALSE), \"\")","v":""},{"$f":"IFERROR(VLOOKUP(CP29, CF13:CK32, 5, FALSE), \"\")","v":""},{"$f":"IFERROR(VLOOKUP(CP29, CF13:CK32, 6, FALSE), \"\")","v":""},null,null,null,16,"","","",""]
[null,"選手　18",0,{"$f":"IFERROR(INDEX($D$42:$D$91, SMALL(IF($D$42:$D$91<>\"\", ROW($D$42:$D$91)-ROW($D$42)+1), ROW(A18))), \"\")","v":""},null,null,{"$f":"IFERROR(INDEX($E$42:$E$91, SMALL(IF($E$42:$E$91<>\"\", ROW($E$42:$E$91)-ROW($E$42)+1), ROW(A18))), \"\")","v":""},{"$f":"IFERROR(INDEX($F$42:$F$91, SMALL(IF($F$42:$F$91<>\"\", ROW($F$42:$F$91)-ROW($F$42)+1), ROW(B18))), \"\")","v":""},null,null,null,null,17,null,{"$f":"IFERROR(VLOOKUP(M30, C13:H32, 2, FALSE), \"\")","v":""},{"$f":"IFERROR(VLOOKUP(M30, C13:H32, 5, FALSE), \"\")","v":""},{"$f":"IFERROR(VLOOKUP(M30, C13:H32, 6, FALSE), \"\")","v":""},null,null,null,17,"","","","",null,null,null,"選手　18",0,{"$f":"IFERROR(INDEX($AE$42:$AE$91, SMALL(IF($AE$42:$AE$91<>\"\", ROW($AE$42:$AE$91)-ROW($AE$42)+1), ROW(A18))), \"\")","v":""},null,null,{"$f":"IFERROR(INDEX($AF$42:$AF$91, SMALL(IF($AF$42:$AF$91<>\"\", ROW($AF$42:$AF$91)-ROW($AF$42)+1), ROW(A18))), \"\")","v":""},{"$f":"IFERROR(INDEX($AG$42:$AG$91, SMALL(IF($AG$42:$AG$91<>\"\", ROW($AG$42:$AG$91)-ROW($AG$42)+1), ROW(B18))), \"\")","v":""},null,null,null,null,17,null,{"$f":"IFERROR(VLOOKUP(AN30, AD13:AI32, 2, FALSE), \"\")","v":""},{"$f":"IFERROR(VLOOKUP(AN30, AD13:AI32, 5, FALSE), \"\")","v":""},{"$f":"IFERROR(VLOOKUP(AN30, AD13:AI32, 6, FALSE), \"\")","v":""},null,null,null,17,"","","","",null,null,null,"選手　18",0,{"$f":"IFERROR(INDEX($BF$42:$BF$91, SMALL(IF($BF$42:$BF$91<>\"\", ROW($BF$42:$BF$91)-ROW($BF$42)+1), ROW(BC18))), \"\")","v":""},null,null,{"$f":"IFERROR(INDEX($BG$42:$BG$91, SMALL(IF($BG$42:$BG$91<>\"\", ROW($BG$42:$BG$91)-ROW($BG$42)+1), ROW(AB18))), \"\")","v":""},{"$f":"IFERROR(INDEX($BH$42:$BH$91, SMALL(IF($BH$42:$BH$91<>\"\", ROW($BH$42:$BH$91)-ROW($BH$42)+1), ROW(AC18))), \"\")","v":""},null,null,null,null,17,null,{"$f":"IFERROR(VLOOKUP(BO30, BE13:BJ32, 2, FALSE), \"\")","v":""},{"$f":"IFERROR(VLOOKUP(BO30, BE13:BJ32, 5, FALSE), \"\")","v":""},{"$f":"IFERROR(VLOOKUP(BO30, BE13:BJ32, 6, FALSE), \"\")","v":""},null,null,null,17,"","","","",null,null,null,"選手　18",0,{"$f":"IFERROR(INDEX($CG$42:$CG$91, SMALL(IF($CG$42:$CG$91<>\"\", ROW($CG$42:$CG$91)-ROW($CG$42)+1), ROW(CD18))), \"\")","v":""},null,null,{"$f":"IFERROR(INDEX($CH$42:$CH$91, SMALL(IF($CH$42:$CH$91<>\"\", ROW($CH$42:$CH$91)-ROW($CH$42)+1), ROW(BC18))), \"\")","v":""},{"$f":"IFERROR(INDEX($CI$42:$CI$91, SMALL(IF($CI$42:$CI$91<>\"\", ROW($CI$42:$CI$91)-ROW($CI$42)+1), ROW(BD18))), \"\")","v":""},null,null,null,null,17,null,{"$f":"IFERROR(VLOOKUP(CP30, CF13:CK32, 2, FALSE), \"\")","v":""},{"$f":"IFERROR(VLOOKUP(CP30, CF13:CK32, 5, FALSE), \"\")","v":""},{"$f":"IFERROR(VLOOKUP(CP30, CF13:CK32, 6, FALSE), \"\")","v":""},null,null,null,17,"","","",""]
[null,"選手　19",0,{"$f":"IFERROR(INDEX($D$42:$D$91, SMALL(IF($D$42:$D$91<>\"\", ROW($D$42:$D$91)-ROW($D$42)+1), ROW(A19))), \"\")","v":""},null,null,{"$f":"IFERROR(INDEX($E$42:$E$91, SMALL(IF($E$42:$E$91<>\"\", ROW($E$42:$E$91)-ROW($E$42)+1), ROW(A19))), \"\")","v":""},{"$f":"IFERROR(INDEX($F$42:$F$91, SMALL(IF($F$42:$F$91<>\"\", ROW($F$42:$F$91)-ROW($F$42)+1), ROW(B19))), \"\")","v":""},null,null,null,null,18,null,{"$f":"IFERROR(VLOOKUP(M31, C13:H32, 2, FALSE), \"\")","v":""},{"$f":"IFERROR(VLOOKUP(M31, C13:H32, 5, FALSE), \"\")","v":""},{"$f":"IFERROR(VLOOKUP(M31, C13:H32, 6, FALSE), \"\")","v":""},null,null,null,18,"","","","",null,null,null,"選手　19",0,{"$f":"IFERROR(INDEX($AE$42:$AE$91, SMALL(IF($AE$42:$AE$91<>\"\", ROW($AE$42:$AE$91)-ROW($AE$42)+1), ROW(A19))), \"\")","v":""},null,null,{"$f":"IFERROR(INDEX($AF$42:$AF$91, SMALL(IF($AF$42:$AF$91<>\"\", ROW($AF$42:$AF$91)-ROW($AF$42)+1), ROW(A19))), \"\")","v":""},{"$f":"IFERROR(INDEX($AG$42:$AG$91, SMALL(IF($AG$42:$AG$91<>\"\", ROW($AG$42:$AG$91)-ROW($AG$42)+1), ROW(B19))), \"\")","v":""},null,null,null,null,18,null,{"$f":"IFERROR(VLOOKUP(AN31, AD13:AI32, 2, FALSE), \"\")","v":""},{"$f":"IFERROR(VLOOKUP(AN31, AD13:AI32, 5, FALSE), \"\")","v":""},{"$f":"IFERROR(VLOOKUP(AN31, AD13:AI32, 6, FALSE), \"\")","v":""},null,null,null,18,"","","","",null,null,null,"選手　19",0,{"$f":"IFERROR(INDEX($BF$42:$BF$91, SMALL(IF($BF$42:$BF$91<>\"\", ROW($BF$42:$BF$91)-ROW($BF$42)+1), ROW(BC19))), \"\")","v":""},null,null,{"$f":"IFERROR(INDEX($BG$42:$BG$91, SMALL(IF($BG$42:$BG$91<>\"\", ROW($BG$42:$BG$91)-ROW($BG$42)+1), ROW(AB19))), \"\")","v":""},{"$f":"IFERROR(INDEX($BH$42:$BH$91, SMALL(IF($BH$42:$BH$91<>\"\", ROW($BH$42:$BH$91)-ROW($BH$42)+1), ROW(AC19))), \"\")","v":""},null,null,null,null,18,null,{"$f":"IFERROR(VLOOKUP(BO31, BE13:BJ32, 2, FALSE), \"\")","v":""},{"$f":"IFERROR(VLOOKUP(BO31, BE13:BJ32, 5, FALSE), \"\")","v":""},{"$f":"IFERROR(VLOOKUP(BO31, BE13:BJ32, 6, FALSE), \"\")","v":""},null,null,null,18,"","","","",null,null,null,"選手　19",0,{"$f":"IFERROR(INDEX($CG$42:$CG$91, SMALL(IF($CG$42:$CG$91<>\"\", ROW($CG$42:$CG$91)-ROW($CG$42)+1), ROW(CD19))), \"\")","v":""},null,null,{"$f":"IFERROR(INDEX($CH$42:$CH$91, SMALL(IF($CH$42:$CH$91<>\"\", ROW($CH$42:$CH$91)-ROW($CH$42)+1), ROW(BC19))), \"\")","v":""},{"$f":"IFERROR(INDEX($CI$42:$CI$91, SMALL(IF($CI$42:$CI$91<>\"\", ROW($CI$42:$CI$91)-ROW($CI$42)+1), ROW(BD19))), \"\")","v":""},null,null,null,null,18,null,{"$f":"IFERROR(VLOOKUP(CP31, CF13:CK32, 2, FALSE), \"\")","v":""},{"$f":"IFERROR(VLOOKUP(CP31, CF13:CK32, 5, FALSE), \"\")","v":""},{"$f":"IFERROR(VLOOKUP(CP31, CF13:CK32, 6, FALSE), \"\")","v":""},null,null,null,18,"","","",""]
[null,"選手　20",0,{"$f":"IFERROR(INDEX($D$42:$D$91, SMALL(IF($D$42:$D$91<>\"\", ROW($D$42:$D$91)-ROW($D$42)+1), ROW(A20))), \"\")","v":""},null,null,{"$f":"IFERROR(INDEX($E$42:$E$91, SMALL(IF($E$42:$E$91<>\"\", ROW($E$42:$E$91)-ROW($E$42)+1), ROW(A20))), \"\")","v":""},{"$f":"IFERROR(INDEX($F$42:$F$91, SMALL(IF($F$42:$F$91<>\"\", ROW($F$42:$F$91)-ROW($F$42)+1), ROW(B20))), \"\")","v":""},null,null,null,null,null,null,null,null,null,null,null,null,null,null,null,null,null,null,null,null,"選手　20",0,{"$f":"IFERROR(INDEX($AE$42:$AE$91, SMALL(IF($AE$42:$AE$91<>\"\", ROW($AE$42:$AE$91)-ROW($AE$42)+1), ROW(A20))), \"\")","v":""},null,null,{"$f":"IFERROR(INDEX($AF$42:$AF$91, SMALL(IF($AF$42:$AF$91<>\"\", ROW($AF$42:$AF$91)-ROW($AF$42)+1), ROW(A20))), \"\")","v":""},{"$f":"IFERROR(INDEX($AG$42:$AG$91, SMALL(IF($AG$42:$AG$91<>\"\", ROW($AG$42:$AG$91)-ROW($AG$42)+1), ROW(B20))), \"\")","v":""},null,null,null,null,null,null,null,null,null,null,null,null,null,null,null,null,null,null,null,null,"選手　20",0,{"$f":"IFERROR(INDEX($BF$42:$BF$91, SMALL(IF($BF$42:$BF$91<>\"\", ROW($BF$42:$BF$91)-ROW($BF$42)+1), ROW(BC20))), \"\")","v":""},null,null,{"$f":"IFERROR(INDEX($BG$42:$BG$91, SMALL(IF($BG$42:$BG$91<>\"\", ROW($BG$42:$BG$91)-ROW($BG$42)+1), ROW(AB20))), \"\")","v":""},{"$f":"IFERROR(INDEX($BH$42:$BH$91, SMALL(IF($BH$42:$BH$91<>\"\", ROW($BH$42:$BH$91)-ROW($BH$42)+1), ROW(AC20))), \"\")","v":""},null,null,null,null,null,null,null,null,null,null,null,null,null,null,null,null,null,null,null,null,"選手　20",0,{"$f":"IFERROR(INDEX($CG$42:$CG$91, SMALL(IF($CG$42:$CG$91<>\"\", ROW($CG$42:$CG$91)-ROW($CG$42)+1), ROW(CD20))), \"\")","v":""},null,null,{"$f":"IFERROR(INDEX($CH$42:$CH$91, SMALL(IF($CH$42:$CH$91<>\"\", ROW($CH$42:$CH$91)-ROW($CH$42)+1), ROW(BC20))), \"\")","v":""},{"$f":"IFERROR(INDEX($CI$42:$CI$91, SMALL(IF($CI$42:$CI$91<>\"\", ROW($CI$42:$CI$91)-ROW($CI$42)+1), ROW(BD20))), \"\")","v":""}]
[]
[null,"主審氏名",null,{"$f":"IFERROR(VLOOKUP(D35, 登録名簿!A11:G60, 3, FALSE), \"\")","v":""},null,"副審氏名",{"$f":"IFERROR(VLOOKUP(G35, 登録名簿!A11:G60, 3, FALSE), \"\")","v":""},null,"記録係",{"$f":"IFERROR(VLOOKUP(J35, 登録名簿!A11:G60, 3, FALSE), \"\")","v":""},null,null,"キャプテンは番号右横に〇を付ける",null,null,null,null,null,null,null,"キャプテンは番号右横に〇を付ける",null,null,null,null,null,null,null,"主審氏名",null,{"$f":"IFERROR(VLOOKUP(AE35, 登録名簿!A11:G60, 3, FALSE), \"\")","v":""},null,"副審氏名",{"$f":"IFERROR(VLOOKUP(AH35, 登録名簿!A11:G60, 3, FALSE), \"\")","v":""},null,"記録係",{"$f":"IFERROR(VLOOKUP(AK35, 登録名簿!A11:G60, 3, FALSE), \"\")","v":""},null,null,"キャプテンは番号右横に〇を付ける",null,null,null,null,null,null,null,"キャプテンは番号右横に〇を付ける",null,null,null,null,null,null,null,"主審氏名",null,{"$f":"IFERROR(VLOOKUP(BF35, 登録名簿!A11:G60, 3, FALSE), \"\")","v":""},null,"副審氏名",{"$f":"IFERROR(VLOOKUP(BI35, 登録名簿!A11:G60, 3, FALSE), \"\")","v":""},null,"記録係",{"$f":"IFERROR(VLOOKUP(BL35, 登録名簿!A11:G60, 3, FALSE), \"\")","v":""},null,null,"キャプテンは番号右横に〇を付ける",null,null,null,null,null,null,null,"キャプテンは番号右横に〇を付ける",null,null,null,null,null,null,null,"主審氏名",null,{"$f":"IFERROR(VLOOKUP(CG35, 登録名簿!A11:G60, 3, FALSE), \"\")","v":""},null,"副審氏名",{"$f":"IFERROR(VLOOKUP(CJ35, 登録名簿!A11:G60, 3, FALSE), \"\")","v":""},null,"記録係",{"$f":"IFERROR(VLOOKUP(CM35, 登録名簿!A11:G60, 3, FALSE), \"\")","v":""},null,null,"キャプテンは番号右横に〇を付ける",null,null,null,null,null,null,null,"キャプテンは番号右横に〇を付ける"]
[null,"※下記に注釈",null,null,null,null,null,null,null,null,null,null,"キャプテンサイン",null,null,null,null,null,null,null,"キャプテンサイン",null,null,null,null,null,null,null,"※下記に注釈",null,null,null,null,null,null,null,null,null,null,"キャプテンサイン",null,null,null,null,null,null,null,"キャプテンサイン",null,null,null,null,null,null,null,"※下記に注釈",null,null,null,null,null,null,null,null,null,null,"キャプテンサイン",null,null,null,null,null,null,null,"キャプテンサイン",null,null,null,null,null,null,null,"※下記に注釈",null,null,null,null,null,null,null,null,null,null,"キャプテンサイン",null,null,null,null,null,null,null,"キャプテンサイン"]
[null,"※注1　種目の該当項目を○で囲み、選手名・大会審判員・記録係を記入して下さい。",null,null,null,null,null,null,null,null,null,null,null,null,null,null,null,null,null,null,null,null,null,null,null,null,null,null,"※注1　種目の該当項目を○で囲み、選手名・大会審判員・記録係を記入して下さい。",null,null,null,null,null,null,null,null,null,null,null,null,null,null,null,null,null,null,null,null,null,null,null,null,null,null,"※注1　種目の該当項目を○で囲み、選手名・大会審判員・記録係を記入して下さい。",null,null,null,null,null,null,null,null,null,null,null,null,null,null,null,null,null,null,null,null,null,null,null,null,null,null,"※注1　種目の該当項目を○で囲み、選手名・大会審判員・記録係を記入して下さい。"]
[null,"※注2　女子のゴールド45歳～49歳、シルバー30歳代の選手は申告欄に○印を記入して下さい。",null,null,null,null,null,null,null,null,null,null,null,null,null,null,null,null,null,null,null,null,null,null,null,null,null,null,"※注2　女子のゴールド45歳～49歳、シルバー30歳代の選手は申告欄に○印を記入して下さい。",null,null,null,null,null,null,null,null,null,null,null,null,null,null,null,null,null,null,null,null,null,null,null,null,null,null,"※注2　女子のゴールド45歳～49歳、シルバー30歳代の選手は申告欄に○印を記入して下さい。",null,null,null,null,null,null,null,null,null,null,null,null,null,null,null,null,null,null,null,null,null,null,null,null,null,null,"※注2　女子のゴールド45歳～49歳、シルバー30歳代の選手は申告欄に○印を記入して下さい。"]
[null,"※注3　キャプテンは申告欄に◎印を記入して下さい。",null,null,null,null,null,null,null,null,null,null,null,null,null,null,null,null,null,null,null,null,null,null,null,null,null,null,"※注3　キャプテンは申告欄に◎印を記入して下さい。",null,null,null,null,null,null,null,null,null,null,null,null,null,null,null,null,null,null,null,null,null,null,null,null,null,null,"※注3　キャプテンは申告欄に◎印を記入して下さい。",null,null,null,null,null,null,null,null,null,null,null,null,null,null,null,null,null,null,null,null,null,null,null,null,null,null,"※注3　キャプテンは申告欄に◎印を記入して下さい。"]
[null,null,null,null,null,null,null,null,"金沢市中高年トリムバレーボール連盟",null,null,null,null,null,null,null,null,null,null,null,null,null,null,null,null,null,null,null,null,null,null,null,null,null,null,"金沢市中高年トリムバレーボール連盟",null,null,null,null,null,null,null,null,null,null,null,null,null,null,null,null,null,null,null,null,null,null,null,null,null,null,"金沢市中高年トリムバレーボール連盟",null,null,null,null,null,null,null,null,null,null,null,null,null,null,null,null,null,null,null,null,null,null,null,null,null,null,"金沢市中高年トリムバレーボール連盟"]
[]
[]
[null,1,null,{"$f":"IF(登録名簿!$AA$11=\"〇\",登録名簿!$C$11,\"\")","v":""},{"$f":"IF(登録名簿!$AA$11=\"〇\",OFFSET(登録名簿!$C$11,0,2,,),\"\")","v":""},{"$f":"IF(登録名簿!$AA$11=\"〇\",OFFSET(登録名簿!$C$11,0,4,,),\"\")","v":""},null,null,null,null,null,null,null,null,null,null,null,null,null,null,null,null,null,null,null,null,null,null,1,null,{"$f":"IF(登録名簿!$AB$11=\"〇\",登録名簿!$C$11,\"\")","v":""},{"$f":"IF(登録名簿!$AB$11=\"〇\",OFFSET(登録名簿!$C$11,0,2,,),\"\")","v":""},{"$f":"IF(登録名簿!$AB$11=\"〇\",OFFSET(登録名簿!$C$11,0,4,,),\"\")","v":""},null,null,null,null,null,null,null,null,null,null,null,null,null,null,null,null,null,null,null,null,null,null,1,null,{"$f":"IF(登録名簿!$AC$11=\"〇\",登録名簿!$C$11,\"\")","v":""},{"$f":"IF(登録名簿!$AC$11=\"〇\",OFFSET(登録名簿!$C$11,0,2,,),\"\")","v":""},{"$f":"IF(登録名簿!$AC$11=\"〇\",OFFSET(登録名簿!$C$11,0,4,,),\"\")","v":""},null,null,null,null,null,null,null,null,null,null,null,null,null,null,null,null,null,null,null,null,null,null,1,null,{"$f":"IF(登録名簿!$AD$11=\"〇\",登録名簿!$C$11,\"\")","v":""},{"$f":"IF(登録名簿!$AD$11=\"〇\",OFFSET(登録名簿!$C$11,0,2,,),\"\")","v":""},{"$f":"IF(登録名簿!$AD$11=\"〇\",OFFSET(登録名簿!$C$11,0,4,,),\"\")","v":""}]
[null,2,null,{"$f":"IF(登録名簿!$AA$12=\"〇\",登録名簿!$C$12,\"\")","v":""},{"$f":"IF(登録名簿!$AA$12=\"〇\",OFFSET(登録名簿!$C$12,0,2,,),\"\")","v":""},{"$f":"IF(登録名簿!$AA$12=\"〇\",OFFSET(登録名簿!$C$12,0,4,,),\"\")","v":""},null,null,null,null,null,null,null,null,null,null,null,null,null,null,null,null,null,null,null,null,null,null,2,null,{"$f":"IF(登録名簿!$AB$12=\"〇\",登録名簿!$C$12,\"\")","v":""},{"$f":"IF(登録名簿!$AB$12=\"〇\",OFFSET(登録名簿!$C$12,0,2,,),\"\")","v":""},{"$f":"IF(登録名簿!$AB$12=\"〇\",OFFSET(登録名簿!$C$12,0,4,,),\"\")","v":""},null,null,null,null,null,null,null,null,null,null,null,null,null,null,null,null,null,null,null,null,null,null,2,null,{"$f":"IF(登録名簿!$AC$12=\"〇\",登録名簿!$C$12,\"\")","v":""},{"$f":"IF(登録名簿!$AC$12=\"〇\",OFFSET(登録名簿!$C$12,0,2,,),\"\")","v":""},{"$f":"IF(登録名簿!$AC$12=\"〇\",OFFSET(登録名簿!$C$12,0,4,,),\"\")","v":""},null,null,null,null,null,null,null,null,null,null,null,null,null,null,null,null,null,null,null,null,null,null,2,null,{"$f":"IF(登録名簿!$AD$12=\"〇\",登録名簿!$C$12,\"\")","v":""},{"$f":"IF(登録名簿!$AD$12=\"〇\",OFFSET(登録名簿!$C$12,0,2,,),\"\")","v":""},{"$f":"IF(登録名簿!$AD$12=\"〇\",OFFSET(登録名簿!$C$12,0,4,,),\"\")","v":""}]
[null,3,null,{"$f":"IF(登録名簿!$AA$13=\"〇\",登録名簿!$C$13,\"\")","v":""},{"$f":"IF(登録名簿!$AA$13=\"〇\",OFFSET(登録名簿!$C$13,0,2,,),\"\")","v":""},{"$f":"IF(登録名簿!$AA$13=\"〇\",OFFSET(登録名簿!$C$13,0,4,,),\"\")","v":""},null,null,null,null,null,null,null,null,null,null,null,null,null,null,null,null,null,null,null,null,null,null,3,null,{"$f":"IF(登録名簿!$AB$13=\"〇\",登録名簿!$C$13,\"\")","v":""},{"$f":"IF(登録名簿!$AB$13=\"〇\",OFFSET(登録名簿!$C$13,0,2,,),\"\")","v":""},{"$f":"IF(登録名簿!$AB$13=\"〇\",OFFSET(登録名簿!$C$13,0,4,,),\"\")","v":""},null,null,null,null,null,null,null,null,null,null,null,null,null,null,null,null,null,null,null,null,null,null,3,null,{"$f":"IF(登録名簿!$AC$13=\"〇\",登録名簿!$C$13,\"\")","v":""},{"$f":"IF(登録名簿!$AC$13=\"〇\",OFFSET(登録名簿!$C$13,0,2,,),\"\")","v":""},{"$f":"IF(登録名簿!$AC$13=\"〇\",OFFSET(登録名簿!$C$13,0,4,,),\"\")","v":""},null,null,null,null,null,null,null,null,null,null,null,null,null,null,null,null,null,null,null,null,null,null,3,null,{"$f":"IF(登録名簿!$AD$13=\"〇\",登録名簿!$C$13,\"\")","v":""},{"$f":"IF(登録名簿!$AD$13=\"〇\",OFFSET(登録名簿!$C$13,0,2,,),\"\")","v":""},{"$f":"IF(登録名簿!$AD$13=\"〇\",OFFSET(登録名簿!$C$13,0,4,,),\"\")","v":""}]
[null,4,null,{"$f":"IF(登録名簿!$AA$14=\"〇\",登録名簿!$C$14,\"\")","v":""},{"$f":"IF(登録名簿!$AA$14=\"〇\",OFFSET(登録名簿!$C$14,0,2,,),\"\")","v":""},{"$f":"IF(登録名簿!$AA$14=\"〇\",OFFSET(登録名簿!$C$14,0,4,,),\"\")","v":""},null,null,null,null,null,null,null,null,null,null,null,null,null,null,null,null,null,null,null,null,null,null,4,null,{"$f":"IF(登録名簿!$AB$14=\"〇\",登録名簿!$C$14,\"\")","v":""},{"$f":"IF(登録名簿!$AB$14=\"〇\",OFFSET(登録名簿!$C$14,0,2,,),\"\")","v":""},{"$f":"IF(登録名簿!$AB$14=\"〇\",OFFSET(登録名簿!$C$14,0,4,,),\"\")","v":""},null,null,null,null,null,null,null,null,null,null,null,null,null,null,null,null,null,null,null,null,null,null,4,null,{"$f":"IF(登録名簿!$AC$14=\"〇\",登録名簿!$C$14,\"\")","v":""},{"$f":"IF(登録名簿!$AC$14=\"〇\",OFFSET(登録名簿!$C$14,0,2,,),\"\")","v":""},{"$f":"IF(登録名簿!$AC$14=\"〇\",OFFSET(登録名簿!$C$14,0,4,,),\"\")","v":""},null,null,null,null,null,null,null,null,null,null,null,null,null,null,null,null,null,null,null,null,null,null,4,null,{"$f":"IF(登録名簿!$AD$14=\"〇\",登録名簿!$C$14,\"\")","v":""},{"$f":"IF(登録名簿!$AD$14=\"〇\",OFFSET(登録名簿!$C$14,0,2,,),\"\")","v":""},{"$f":"IF(登録名簿!$AD$14=\"〇\",OFFSET(登録名簿!$C$14,0,4,,),\"\")","v":""}]
[null,5,null,{"$f":"IF(登録名簿!$AA$15=\"〇\",登録名簿!$C$15,\"\")","v":""},{"$f":"IF(登録名簿!$AA$15=\"〇\",OFFSET(登録名簿!$C$15,0,2,,),\"\")","v":""},{"$f":"IF(登録名簿!$AA$15=\"〇\",OFFSET(登録名簿!$C$15,0,4,,),\"\")","v":""},null,null,null,null,null,null,null,null,null,null,null,null,null,null,null,null,null,null,null,null,null,null,5,null,{"$f":"IF(登録名簿!$AB$15=\"〇\",登録名簿!$C$15,\"\")","v":""},{"$f":"IF(登録名簿!$AB$15=\"〇\",OFFSET(登録名簿!$C$15,0,2,,),\"\")","v":""},{"$f":"IF(登録名簿!$AB$15=\"〇\",OFFSET(登録名簿!$C$15,0,4,,),\"\")","v":""},null,null,null,null,null,null,null,null,null,null,null,null,null,null,null,null,null,null,null,null,null,null,5,null,{"$f":"IF(登録名簿!$AC$15=\"〇\",登録名簿!$C$15,\"\")","v":""},{"$f":"IF(登録名簿!$AC$15=\"〇\",OFFSET(登録名簿!$C$15,0,2,,),\"\")","v":""},{"$f":"IF(登録名簿!$AC$15=\"〇\",OFFSET(登録名簿!$C$15,0,4,,),\"\")","v":""},null,null,null,null,null,null,null,null,null,null,null,null,null,null,null,null,null,null,null,null,null,null,5,null,{"$f":"IF(登録名簿!$AD$15=\"〇\",登録名簿!$C$15,\"\")","v":""},{"$f":"IF(登録名簿!$AD$15=\"〇\",OFFSET(登録名簿!$C$15,0,2,,),\"\")","v":""},{"$f":"IF(登録名簿!$AD$15=\"〇\",OFFSET(登録名簿!$C$15,0,4,,),\"\")","v":""}]
[null,6,null,{"$f":"IF(登録名簿!$AA$16=\"〇\",登録名簿!$C$16,\"\")","v":""},{"$f":"IF(登録名簿!$AA$16=\"〇\",OFFSET(登録名簿!$C$16,0,2,,),\"\")","v":""},{"$f":"IF(登録名簿!$AA$16=\"〇\",OFFSET(登録名簿!$C$16,0,4,,),\"\")","v":""},null,null,null,null,null,null,null,null,null,null,null,null,null,null,null,null,null,null,null,null,null,null,6,null,{"$f":"IF(登録名簿!$AB$16=\"〇\",登録名簿!$C$16,\"\")","v":""},{"$f":"IF(登録名簿!$AB$16=\"〇\",OFFSET(登録名簿!$C$16,0,2,,),\"\")","v":""},{"$f":"IF(登録名簿!$AB$16=\"〇\",OFFSET(登録名簿!$C$16,0,4,,),\"\")","v":""},null,null,null,null,null,null,null,null,null,null,null,null,null,null,null,null,null,null,null,null,null,null,6,null,{"$f":"IF(登録名簿!$AC$16=\"〇\",登録名簿!$C$16,\"\")","v":""},{"$f":"IF(登録名簿!$AC$16=\"〇\",OFFSET(登録名簿!$C$16,0,2,,),\"\")","v":""},{"$f":"IF(登録名簿!$AC$16=\"〇\",OFFSET(登録名簿!$C$16,0,4,,),\"\")","v":""},null,null,null,null,null,null,null,null,null,null,null,null,null,null,null,null,null,null,null,null,null,null,6,null,{"$f":"IF(登録名簿!$AD$16=\"〇\",登録名簿!$C$16,\"\")","v":""},{"$f":"IF(登録名簿!$AD$16=\"〇\",OFFSET(登録名簿!$C$16,0,2,,),\"\")","v":""},{"$f":"IF(登録名簿!$AD$16=\"〇\",OFFSET(登録名簿!$C$16,0,4,,),\"\")","v":""}]
[null,7,null,{"$f":"IF(登録名簿!$AA$17=\"〇\",登録名簿!$C$17,\"\")","v":""},{"$f":"IF(登録名簿!$AA$17=\"〇\",OFFSET(登録名簿!$C$17,0,2,,),\"\")","v":""},{"$f":"IF(登録名簿!$AA$17=\"〇\",OFFSET(登録名簿!$C$17,0,4,,),\"\")","v":""},null,null,null,null,null,null,null,null,null,null,null,null,null,null,null,null,null,null,null,null,null,null,7,null,{"$f":"IF(登録名簿!$AB$17=\"〇\",登録名簿!$C$17,\"\")","v":""},{"$f":"IF(登録名簿!$AB$17=\"〇\",OFFSET(登録名簿!$C$17,0,2,,),\"\")","v":""},{"$f":"IF(登録名簿!$AB$17=\"〇\",OFFSET(登録名簿!$C$17,0,4,,),\"\")","v":""},null,null,null,null,null,null,null,null,null,null,null,null,null,null,null,null,null,null,null,null,null,null,7,null,{"$f":"IF(登録名簿!$AC$17=\"〇\",登録名簿!$C$17,\"\")","v":""},{"$f":"IF(登録名簿!$AC$17=\"〇\",OFFSET(登録名簿!$C$17,0,2,,),\"\")","v":""},{"$f":"IF(登録名簿!$AC$17=\"〇\",OFFSET(登録名簿!$C$17,0,4,,),\"\")","v":""},null,null,null,null,null,null,null,null,null,null,null,null,null,null,null,null,null,null,null,null,null,null,7,null,{"$f":"IF(登録名簿!$AD$17=\"〇\",登録名簿!$C$17,\"\")","v":""},{"$f":"IF(登録名簿!$AD$17=\"〇\",OFFSET(登録名簿!$C$17,0,2,,),\"\")","v":""},{"$f":"IF(登録名簿!$AD$17=\"〇\",OFFSET(登録名簿!$C$17,0,4,,),\"\")","v":""}]
[null,8,null,{"$f":"IF(登録名簿!$AA$18=\"〇\",登録名簿!$C$18,\"\")","v":""},{"$f":"IF(登録名簿!$AA$18=\"〇\",OFFSET(登録名簿!$C$18,0,2,,),\"\")","v":""},{"$f":"IF(登録名簿!$AA$18=\"〇\",OFFSET(登録名簿!$C$18,0,4,,),\"\")","v":""},null,null,null,null,null,null,null,null,null,null,null,null,null,null,null,null,null,null,null,null,null,null,8,null,{"$f":"IF(登録名簿!$AB$18=\"〇\",登録名簿!$C$18,\"\")","v":""},{"$f":"IF(登録名簿!$AB$18=\"〇\",OFFSET(登録名簿!$C$18,0,2,,),\"\")","v":""},{"$f":"IF(登録名簿!$AB$18=\"〇\",OFFSET(登録名簿!$C$18,0,4,,),\"\")","v":""},null,null,null,null,null,null,null,null,null,null,null,null,null,null,null,null,null,null,null,null,null,null,8,null,{"$f":"IF(登録名簿!$AC$18=\"〇\",登録名簿!$C$18,\"\")","v":""},{"$f":"IF(登録名簿!$AC$18=\"〇\",OFFSET(登録名簿!$C$18,0,2,,),\"\")","v":""},{"$f":"IF(登録名簿!$AC$18=\"〇\",OFFSET(登録名簿!$C$18,0,4,,),\"\")","v":""},null,null,null,null,null,null,null,null,null,null,null,null,null,null,null,null,null,null,null,null,null,null,8,null,{"$f":"IF(登録名簿!$AD$18=\"〇\",登録名簿!$C$18,\"\")","v":""},{"$f":"IF(登録名簿!$AD$18=\"〇\",OFFSET(登録名簿!$C$18,0,2,,),\"\")","v":""},{"$f":"IF(登録名簿!$AD$18=\"〇\",OFFSET(登録名簿!$C$18,0,4,,),\"\")","v":""}]
[null,9,null,{"$f":"IF(登録名簿!$AA$19=\"〇\",登録名簿!$C$19,\"\")","v":""},{"$f":"IF(登録名簿!$AA$19=\"〇\",OFFSET(登録名簿!$C$19,0,2,,),\"\")","v":""},{"$f":"IF(登録名簿!$AA$19=\"〇\",OFFSET(登録名簿!$C$19,0,4,,),\"\")","v":""},null,null,null,null,null,null,null,null,null,null,null,null,null,null,null,null,null,null,null,null,null,null,9,null,{"$f":"IF(登録名簿!$AB$19=\"〇\",登録名簿!$C$19,\"\")","v":""},{"$f":"IF(登録名簿!$AB$19=\"〇\",OFFSET(登録名簿!$C$19,0,2,,),\"\")","v":""},{"$f":"IF(登録名簿!$AB$19=\"〇\",OFFSET(登録名簿!$C$19,0,4,,),\"\")","v":""},null,null,null,null,null,null,null,null,null,null,null,null,null,null,null,null,null,null,null,null,null,null,9,null,{"$f":"IF(登録名簿!$AC$19=\"〇\",登録名簿!$C$19,\"\")","v":""},{"$f":"IF(登録名簿!$AC$19=\"〇\",OFFSET(登録名簿!$C$19,0,2,,),\"\")","v":""},{"$f":"IF(登録名簿!$AC$19=\"〇\",OFFSET(登録名簿!$C$19,0,4,,),\"\")","v":""},null,null,null,null,null,null,null,null,null,null,null,null,null,null,null,null,null,null,null,null,null,null,9,null,{"$f":"IF(登録名簿!$AD$19=\"〇\",登録名簿!$C$19,\"\")","v":""},{"$f":"IF(登録名簿!$AD$19=\"〇\",OFFSET(登録名簿!$C$19,0,2,,),\"\")","v":""},{"$f":"IF(登録名簿!$AD$19=\"〇\",OFFSET(登録名簿!$C$19,0,4,,),\"\")","v":""}]
[null,10,null,{"$f":"IF(登録名簿!$AA$20=\"〇\",登録名簿!$C$20,\"\")","v":""},{"$f":"IF(登録名簿!$AA$20=\"〇\",OFFSET(登録名簿!$C$20,0,2,,),\"\")","v":""},{"$f":"IF(登録名簿!$AA$20=\"〇\",OFFSET(登録名簿!$C$20,0,4,,),\"\")","v":""},null,null,null,null,null,null,null,null,null,null,null,null,null,null,null,null,null,null,null,null,null,null,10,null,{"$f":"IF(登録名簿!$AB$20=\"〇\",登録名簿!$C$20,\"\")","v":""},{"$f":"IF(登録名簿!$AB$20=\"〇\",OFFSET(登録名簿!$C$20,0,2,,),\"\")","v":""},{"$f":"IF(登録名簿!$AB$20=\"〇\",OFFSET(登録名簿!$C$20,0,4,,),\"\")","v":""},null,null,null,null,null,null,null,null,null,null,null,null,null,null,null,null,null,null,null,null,null,null,10,null,{"$f":"IF(登録名簿!$AC$20=\"〇\",登録名簿!$C$20,\"\")","v":""},{"$f":"IF(登録名簿!$AC$20=\"〇\",OFFSET(登録名簿!$C$20,0,2,,),\"\")","v":""},{"$f":"IF(登録名簿!$AC$20=\"〇\",OFFSET(登録名簿!$C$20,0,4,,),\"\")","v":""},null,null,null,null,null,null,null,null,null,null,null,null,null,null,null,null,null,null,null,null,null,null,10,null,{"$f":"IF(登録名簿!$AD$20=\"〇\",登録名簿!$C$20,\"\")","v":""},{"$f":"IF(登録名簿!$AD$20=\"〇\",OFFSET(登録名簿!$C$20,0,2,,),\"\")","v":""},{"$f":"IF(登録名簿!$AD$20=\"〇\",OFFSET(登録名簿!$C$20,0,4,,),\"\")","v":""}]
[null,11,null,{"$f":"IF(登録名簿!$AA$21=\"〇\",登録名簿!$C$21,\"\")","v":""},{"$f":"IF(登録名簿!$AA$21=\"〇\",OFFSET(登録名簿!$C$21,0,2,,),\"\")","v":""},{"$f":"IF(登録名簿!$AA$21=\"〇\",OFFSET(登録名簿!$C$21,0,4,,),\"\")","v":""},null,null,null,null,null,null,null,null,null,null,null,null,null,null,null,null,null,null,null,null,null,null,11,null,{"$f":"IF(登録名簿!$AB$21=\"〇\",登録名簿!$C$21,\"\")","v":""},{"$f":"IF(登録名簿!$AB$21=\"〇\",OFFSET(登録名簿!$C$21,0,2,,),\"\")","v":""},{"$f":"IF(登録名簿!$AB$21=\"〇\",OFFSET(登録名簿!$C$21,0,4,,),\"\")","v":""},null,null,null,null,null,null,null,null,null,null,null,null,null,null,null,null,null,null,null,null,null,null,11,null,{"$f":"IF(登録名簿!$AC$21=\"〇\",登録名簿!$C$21,\"\")","v":""},{"$f":"IF(登録名簿!$AC$21=\"〇\",OFFSET(登録名簿!$C$21,0,2,,),\"\")","v":""},{"$f":"IF(登録名簿!$AC$21=\"〇\",OFFSET(登録名簿!$C$21,0,4,,),\"\")","v":""},null,null,null,null,null,null,null,null,null,null,null,null,null,null,null,null,null,null,null,null,null,null,11,null,{"$f":"IF(登録名簿!$AD$21=\"〇\",登録名簿!$C$21,\"\")","v":""},{"$f":"IF(登録名簿!$AD$21=\"〇\",OFFSET(登録名簿!$C$21,0,2,,),\"\")","v":""},{"$f":"IF(登録名簿!$AD$21=\"〇\",OFFSET(登録名簿!$C$21,0,4,,),\"\")","v":""}]
[null,12,null,{"$f":"IF(登録名簿!$AA$22=\"〇\",登録名簿!$C$22,\"\")","v":""},{"$f":"IF(登録名簿!$AA$22=\"〇\",OFFSET(登録名簿!$C$22,0,2,,),\"\")","v":""},{"$f":"IF(登録名簿!$AA$22=\"〇\",OFFSET(登録名簿!$C$22,0,4,,),\"\")","v":""},null,null,null,null,null,null,null,null,null,null,null,null,null,null,null,null,null,null,null,null,null,null,12,null,{"$f":"IF(登録名簿!$AB$22=\"〇\",登録名簿!$C$22,\"\")","v":""},{"$f":"IF(登録名簿!$AB$22=\"〇\",OFFSET(登録名簿!$C$22,0,2,,),\"\")","v":""},{"$f":"IF(登録名簿!$AB$22=\"〇\",OFFSET(登録名簿!$C$22,0,4,,),\"\")","v":""},null,null,null,null,null,null,null,null,null,null,null,null,null,null,null,null,null,null,null,null,null,null,12,null,{"$f":"IF(登録名簿!$AC$22=\"〇\",登録名簿!$C$22,\"\")","v":""},{"$f":"IF(登録名簿!$AC$22=\"〇\",OFFSET(登録名簿!$C$22,0,2,,),\"\")","v":""},{"$f":"IF(登録名簿!$AC$22=\"〇\",OFFSET(登録名簿!$C$22,0,4,,),\"\")","v":""},null,null,null,null,null,null,null,null,null,null,null,null,null,null,null,null,null,null,null,null,null,null,12,null,{"$f":"IF(登録名簿!$AD$22=\"〇\",登録名簿!$C$22,\"\")","v":""},{"$f":"IF(登録名簿!$AD$22=\"〇\",OFFSET(登録名簿!$C$22,0,2,,),\"\")","v":""},{"$f":"IF(登録名簿!$AD$22=\"〇\",OFFSET(登録名簿!$C$22,0,4,,),\"\")","v":""}]
[null,13,null,{"$f":"IF(登録名簿!$AA$23=\"〇\",登録名簿!$C$23,\"\")","v":""},{"$f":"IF(登録名簿!$AA$23=\"〇\",OFFSET(登録名簿!$C$23,0,2,,),\"\")","v":""},{"$f":"IF(登録名簿!$AA$23=\"〇\",OFFSET(登録名簿!$C$23,0,4,,),\"\")","v":""},null,null,null,null,null,null,null,null,null,null,null,null,null,null,null,null,null,null,null,null,null,null,13,null,{"$f":"IF(登録名簿!$AB$23=\"〇\",登録名簿!$C$23,\"\")","v":""},{"$f":"IF(登録名簿!$AB$23=\"〇\",OFFSET(登録名簿!$C$23,0,2,,),\"\")","v":""},{"$f":"IF(登録名簿!$AB$23=\"〇\",OFFSET(登録名簿!$C$23,0,4,,),\"\")","v":""},null,null,null,null,null,null,null,null,null,null,null,null,null,null,null,null,null,null,null,null,null,null,13,null,{"$f":"IF(登録名簿!$AC$23=\"〇\",登録名簿!$C$23,\"\")","v":""},{"$f":"IF(登録名簿!$AC$23=\"〇\",OFFSET(登録名簿!$C$23,0,2,,),\"\")","v":""},{"$f":"IF(登録名簿!$AC$23=\"〇\",OFFSET(登録名簿!$C$23,0,4,,),\"\")","v":""},null,null,null,null,null,null,null,null,null,null,null,null,null,null,null,null,null,null,null,null,null,null,13,null,{"$f":"IF(登録名簿!$AD$23=\"〇\",登録名簿!$C$23,\"\")","v":""},{"$f":"IF(登録名簿!$AD$23=\"〇\",OFFSET(登録名簿!$C$23,0,2,,),\"\")","v":""},{"$f":"IF(登録名簿!$AD$23=\"〇\",OFFSET(登録名簿!$C$23,0,4,,),\"\")","v":""}]
[null,14,null,{"$f":"IF(登録名簿!$AA$24=\"〇\",登録名簿!$C$24,\"\")","v":""},{"$f":"IF(登録名簿!$AA$24=\"〇\",OFFSET(登録名簿!$C$24,0,2,,),\"\")","v":""},{"$f":"IF(登録名簿!$AA$24=\"〇\",OFFSET(登録名簿!$C$24,0,4,,),\"\")","v":""},null,null,null,null,null,null,null,null,null,null,null,null,null,null,null,null,null,null,null,null,null,null,14,null,{"$f":"IF(登録名簿!$AB$24=\"〇\",登録名簿!$C$24,\"\")","v":""},{"$f":"IF(登録名簿!$AB$24=\"〇\",OFFSET(登録名簿!$C$24,0,2,,),\"\")","v":""},{"$f":"IF(登録名簿!$AB$24=\"〇\",OFFSET(登録名簿!$C$24,0,4,,),\"\")","v":""},null,null,null,null,null,null,null,null,null,null,null,null,null,null,null,null,null,null,null,null,null,null,14,null,{"$f":"IF(登録名簿!$AC$24=\"〇\",登録名簿!$C$24,\"\")","v":""},{"$f":"IF(登録名簿!$AC$24=\"〇\",OFFSET(登録名簿!$C$24,0,2,,),\"\")","v":""},{"$f":"IF(登録名簿!$AC$24=\"〇\",OFFSET(登録名簿!$C$24,0,4,,),\"\")","v":""},null,null,null,null,null,null,null,null,null,null,null,null,null,null,null,null,null,null,null,null,null,null,14,null,{"$f":"IF(登録名簿!$AD$24=\"〇\",登録名簿!$C$24,\"\")","v":""},{"$f":"IF(登録名簿!$AD$24=\"〇\",OFFSET(登録名簿!$C$24,0,2,,),\"\")","v":""},{"$f":"IF(登録名簿!$AD$24=\"〇\",OFFSET(登録名簿!$C$24,0,4,,),\"\")","v":""}]
[null,15,null,{"$f":"IF(登録名簿!$AA$25=\"〇\",登録名簿!$C$25,\"\")","v":""},{"$f":"IF(登録名簿!$AA$25=\"〇\",OFFSET(登録名簿!$C$25,0,2,,),\"\")","v":""},{"$f":"IF(登録名簿!$AA$25=\"〇\",OFFSET(登録名簿!$C$25,0,4,,),\"\")","v":""},null,null,null,null,null,null,null,null,null,null,null,null,null,null,null,null,null,null,null,null,null,null,15,null,{"$f":"IF(登録名簿!$AB$25=\"〇\",登録名簿!$C$25,\"\")","v":""},{"$f":"IF(登録名簿!$AB$25=\"〇\",OFFSET(登録名簿!$C$25,0,2,,),\"\")","v":""},{"$f":"IF(登録名簿!$AB$25=\"〇\",OFFSET(登録名簿!$C$25,0,4,,),\"\")","v":""},null,null,null,null,null,null,null,null,null,null,null,null,null,null,null,null,null,null,null,null,null,null,15,null,{"$f":"IF(登録名簿!$AC$25=\"〇\",登録名簿!$C$25,\"\")","v":""},{"$f":"IF(登録名簿!$AC$25=\"〇\",OFFSET(登録名簿!$C$25,0,2,,),\"\")","v":""},{"$f":"IF(登録名簿!$AC$25=\"〇\",OFFSET(登録名簿!$C$25,0,4,,),\"\")","v":""},null,null,null,null,null,null,null,null,null,null,null,null,null,null,null,null,null,null,null,null,null,null,15,null,{"$f":"IF(登録名簿!$AD$25=\"〇\",登録名簿!$C$25,\"\")","v":""},{"$f":"IF(登録名簿!$AD$25=\"〇\",OFFSET(登録名簿!$C$25,0,2,,),\"\")","v":""},{"$f":"IF(登録名簿!$AD$25=\"〇\",OFFSET(登録名簿!$C$25,0,4,,),\"\")","v":""}]
[null,16,null,{"$f":"IF(登録名簿!$AA$26=\"〇\",登録名簿!$C$26,\"\")","v":""},{"$f":"IF(登録名簿!$AA$26=\"〇\",OFFSET(登録名簿!$C$26,0,2,,),\"\")","v":""},{"$f":"IF(登録名簿!$AA$26=\"〇\",OFFSET(登録名簿!$C$26,0,4,,),\"\")","v":""},null,null,null,null,null,null,null,null,null,null,null,null,null,null,null,null,null,null,null,null,null,null,16,null,{"$f":"IF(登録名簿!$AB$26=\"〇\",登録名簿!$C$26,\"\")","v":""},{"$f":"IF(登録名簿!$AB$26=\"〇\",OFFSET(登録名簿!$C$26,0,2,,),\"\")","v":""},{"$f":"IF(登録名簿!$AB$26=\"〇\",OFFSET(登録名簿!$C$26,0,4,,),\"\")","v":""},null,null,null,null,null,null,null,null,null,null,null,null,null,null,null,null,null,null,null,null,null,null,16,null,{"$f":"IF(登録名簿!$AC$26=\"〇\",登録名簿!$C$26,\"\")","v":""},{"$f":"IF(登録名簿!$AC$26=\"〇\",OFFSET(登録名簿!$C$26,0,2,,),\"\")","v":""},{"$f":"IF(登録名簿!$AC$26=\"〇\",OFFSET(登録名簿!$C$26,0,4,,),\"\")","v":""},null,null,null,null,null,null,null,null,null,null,null,null,null,null,null,null,null,null,null,null,null,null,16,null,{"$f":"IF(登録名簿!$AD$26=\"〇\",登録名簿!$C$26,\"\")","v":""},{"$f":"IF(登録名簿!$AD$26=\"〇\",OFFSET(登録名簿!$C$26,0,2,,),\"\")","v":""},{"$f":"IF(登録名簿!$AD$26=\"〇\",OFFSET(登録名簿!$C$26,0,4,,),\"\")","v":""}]
[null,17,null,{"$f":"IF(登録名簿!$AA$27=\"〇\",登録名簿!$C$27,\"\")","v":""},{"$f":"IF(登録名簿!$AA$27=\"〇\",OFFSET(登録名簿!$C$27,0,2,,),\"\")","v":""},{"$f":"IF(登録名簿!$AA$27=\"〇\",OFFSET(登録名簿!$C$27,0,4,,),\"\")","v":""},null,null,null,null,null,null,null,null,null,null,null,null,null,null,null,null,null,null,null,null,null,null,17,null,{"$f":"IF(登録名簿!$AB$27=\"〇\",登録名簿!$C$27,\"\")","v":""},{"$f":"IF(登録名簿!$AB$27=\"〇\",OFFSET(登録名簿!$C$27,0,2,,),\"\")","v":""},{"$f":"IF(登録名簿!$AB$27=\"〇\",OFFSET(登録名簿!$C$27,0,4,,),\"\")","v":""},null,null,null,null,null,null,null,null,null,null,null,null,null,null,null,null,null,null,null,null,null,null,17,null,{"$f":"IF(登録名簿!$AC$27=\"〇\",登録名簿!$C$27,\"\")","v":""},{"$f":"IF(登録名簿!$AC$27=\"〇\",OFFSET(登録名簿!$C$27,0,2,,),\"\")","v":""},{"$f":"IF(登録名簿!$AC$27=\"〇\",OFFSET(登録名簿!$C$27,0,4,,),\"\")","v":""},null,null,null,null,null,null,null,null,null,null,null,null,null,null,null,null,null,null,null,null,null,null,17,null,{"$f":"IF(登録名簿!$AD$27=\"〇\",登録名簿!$C$27,\"\")","v":""},{"$f":"IF(登録名簿!$AD$27=\"〇\",OFFSET(登録名簿!$C$27,0,2,,),\"\")","v":""},{"$f":"IF(登録名簿!$AD$27=\"〇\",OFFSET(登録名簿!$C$27,0,4,,),\"\")","v":""}]
[null,18,null,{"$f":"IF(登録名簿!$AA$28=\"〇\",登録名簿!$C$28,\"\")","v":""},{"$f":"IF(登録名簿!$AA$28=\"〇\",OFFSET(登録名簿!$C$28,0,2,,),\"\")","v":""},{"$f":"IF(登録名簿!$AA$28=\"〇\",OFFSET(登録名簿!$C$28,0,4,,),\"\")","v":""},null,null,null,null,null,null,null,null,null,null,null,null,null,null,null,null,null,null,null,null,null,null,18,null,{"$f":"IF(登録名簿!$AB$28=\"〇\",登録名簿!$C$28,\"\")","v":""},{"$f":"IF(登録名簿!$AB$28=\"〇\",OFFSET(登録名簿!$C$28,0,2,,),\"\")","v":""},{"$f":"IF(登録名簿!$AB$28=\"〇\",OFFSET(登録名簿!$C$28,0,4,,),\"\")","v":""},null,null,null,null,null,null,null,null,null,null,null,null,null,null,null,null,null,null,null,null,null,null,18,null,{"$f":"IF(登録名簿!$AC$28=\"〇\",登録名簿!$C$28,\"\")","v":""},{"$f":"IF(登録名簿!$AC$28=\"〇\",OFFSET(登録名簿!$C$28,0,2,,),\"\")","v":""},{"$f":"IF(登録名簿!$AC$28=\"〇\",OFFSET(登録名簿!$C$28,0,4,,),\"\")","v":""},null,null,null,null,null,null,null,null,null,null,null,null,null,null,null,null,null,null,null,null,null,null,18,null,{"$f":"IF(登録名簿!$AD$28=\"〇\",登録名簿!$C$28,\"\")","v":""},{"$f":"IF(登録名簿!$AD$28=\"〇\",OFFSET(登録名簿!$C$28,0,2,,),\"\")","v":""},{"$f":"IF(登録名簿!$AD$28=\"〇\",OFFSET(登録名簿!$C$28,0,4,,),\"\")","v":""}]
[null,19,null,{"$f":"IF(登録名簿!$AA$29=\"〇\",登録名簿!$C$29,\"\")","v":""},{"$f":"IF(登録名簿!$AA$29=\"〇\",OFFSET(登録名簿!$C$29,0,2,,),\"\")","v":""},{"$f":"IF(登録名簿!$AA$29=\"〇\",OFFSET(登録名簿!$C$29,0,4,,),\"\")","v":""},null,null,null,null,null,null,null,null,null,null,null,null,null,null,null,null,null,null,null,null,null,null,19,null,{"$f":"IF(登録名簿!$AB$29=\"〇\",登録名簿!$C$29,\"\")","v":""},{"$f":"IF(登録名簿!$AB$29=\"〇\",OFFSET(登録名簿!$C$29,0,2,,),\"\")","v":""},{"$f":"IF(登録名簿!$AB$29=\"〇\",OFFSET(登録名簿!$C$29,0,4,,),\"\")","v":""},null,null,null,null,null,null,null,null,null,null,null,null,null,null,null,null,null,null,null,null,null,null,19,null,{"$f":"IF(登録名簿!$AC$29=\"〇\",登録名簿!$C$29,\"\")","v":""},{"$f":"IF(登録名簿!$AC$29=\"〇\",OFFSET(登録名簿!$C$29,0,2,,),\"\")","v":""},{"$f":"IF(登録名簿!$AC$29=\"〇\",OFFSET(登録名簿!$C$29,0,4,,),\"\")","v":""},null,null,null,null,null,null,null,null,null,null,null,null,null,null,null,null,null,null,null,null,null,null,19,null,{"$f":"IF(登録名簿!$AD$29=\"〇\",登録名簿!$C$29,\"\")","v":""},{"$f":"IF(登録名簿!$AD$29=\"〇\",OFFSET(登録名簿!$C$29,0,2,,),\"\")","v":""},{"$f":"IF(登録名簿!$AD$29=\"〇\",OFFSET(登録名簿!$C$29,0,4,,),\"\")","v":""}]
[null,20,null,{"$f":"IF(登録名簿!$AA$30=\"〇\",登録名簿!$C$30,\"\")","v":""},{"$f":"IF(登録名簿!$AA$30=\"〇\",OFFSET(登録名簿!$C$30,0,2,,),\"\")","v":""},{"$f":"IF(登録名簿!$AA$30=\"〇\",OFFSET(登録名簿!$C$30,0,4,,),\"\")","v":""},null,null,null,null,null,null,null,null,null,null,null,null,null,null,null,null,null,null,null,null,null,null,20,null,{"$f":"IF(登録名簿!$AB$30=\"〇\",登録名簿!$C$30,\"\")","v":""},{"$f":"IF(登録名簿!$AB$30=\"〇\",OFFSET(登録名簿!$C$30,0,2,,),\"\")","v":""},{"$f":"IF(登録名簿!$AB$30=\"〇\",OFFSET(登録名簿!$C$30,0,4,,),\"\")","v":""},null,null,null,null,null,null,null,null,null,null,null,null,null,null,null,null,null,null,null,null,null,null,20,null,{"$f":"IF(登録名簿!$AC$30=\"〇\",登録名簿!$C$30,\"\")","v":""},{"$f":"IF(登録名簿!$AC$30=\"〇\",OFFSET(登録名簿!$C$30,0,2,,),\"\")","v":""},{"$f":"IF(登録名簿!$AC$30=\"〇\",OFFSET(登録名簿!$C$30,0,4,,),\"\")","v":""},null,null,null,null,null,null,null,null,null,null,null,null,null,null,null,null,null,null,null,null,null,null,20,null,{"$f":"IF(登録名簿!$AD$30=\"〇\",登録名簿!$C$30,\"\")","v":""},{"$f":"IF(登録名簿!$AD$30=\"〇\",OFFSET(登録名簿!$C$30,0,2,,),\"\")","v":""},{"$f":"IF(登録名簿!$AD$30=\"〇\",OFFSET(登録名簿!$C$30,0,4,,),\"\")","v":""}]
[null,21,null,{"$f":"IF(登録名簿!$AA$31=\"〇\",登録名簿!$C$31,\"\")","v":""},{"$f":"IF(登録名簿!$AA$31=\"〇\",OFFSET(登録名簿!$C$31,0,2,,),\"\")","v":""},{"$f":"IF(登録名簿!$AA$31=\"〇\",OFFSET(登録名簿!$C$31,0,4,,),\"\")","v":""},null,null,null,null,null,null,null,null,null,null,null,null,null,null,null,null,null,null,null,null,null,null,21,null,{"$f":"IF(登録名簿!$AB$31=\"〇\",登録名簿!$C$31,\"\")","v":""},{"$f":"IF(登録名簿!$AB$31=\"〇\",OFFSET(登録名簿!$C$31,0,2,,),\"\")","v":""},{"$f":"IF(登録名簿!$AB$31=\"〇\",OFFSET(登録名簿!$C$31,0,4,,),\"\")","v":""},null,null,null,null,null,null,null,null,null,null,null,null,null,null,null,null,null,null,null,null,null,null,21,null,{"$f":"IF(登録名簿!$AC$31=\"〇\",登録名簿!$C$31,\"\")","v":""},{"$f":"IF(登録名簿!$AC$31=\"〇\",OFFSET(登録名簿!$C$31,0,2,,),\"\")","v":""},{"$f":"IF(登録名簿!$AC$31=\"〇\",OFFSET(登録名簿!$C$31,0,4,,),\"\")","v":""},null,null,null,null,null,null,null,null,null,null,null,null,null,null,null,null,null,null,null,null,null,null,21,null,{"$f":"IF(登録名簿!$AD$31=\"〇\",登録名簿!$C$31,\"\")","v":""},{"$f":"IF(登録名簿!$AD$31=\"〇\",OFFSET(登録名簿!$C$31,0,2,,),\"\")","v":""},{"$f":"IF(登録名簿!$AD$31=\"〇\",OFFSET(登録名簿!$C$31,0,4,,),\"\")","v":""}]
[null,22,null,{"$f":"IF(登録名簿!$AA$32=\"〇\",登録名簿!$C$32,\"\")","v":""},{"$f":"IF(登録名簿!$AA$32=\"〇\",OFFSET(登録名簿!$C$32,0,2,,),\"\")","v":""},{"$f":"IF(登録名簿!$AA$32=\"〇\",OFFSET(登録名簿!$C$32,0,4,,),\"\")","v":""},null,null,null,null,null,null,null,null,null,null,null,null,null,null,null,null,null,null,null,null,null,null,22,null,{"$f":"IF(登録名簿!$AB$32=\"〇\",登録名簿!$C$32,\"\")","v":""},{"$f":"IF(登録名簿!$AB$32=\"〇\",OFFSET(登録名簿!$C$32,0,2,,),\"\")","v":""},{"$f":"IF(登録名簿!$AB$32=\"〇\",OFFSET(登録名簿!$C$32,0,4,,),\"\")","v":""},null,null,null,null,null,null,null,null,null,null,null,null,null,null,null,null,null,null,null,null,null,null,22,null,{"$f":"IF(登録名簿!$AC$32=\"〇\",登録名簿!$C$32,\"\")","v":""},{"$f":"IF(登録名簿!$AC$32=\"〇\",OFFSET(登録名簿!$C$32,0,2,,),\"\")","v":""},{"$f":"IF(登録名簿!$AC$32=\"〇\",OFFSET(登録名簿!$C$32,0,4,,),\"\")","v":""},null,null,null,null,null,null,null,null,null,null,null,null,null,null,null,null,null,null,null,null,null,null,22,null,{"$f":"IF(登録名簿!$AD$32=\"〇\",登録名簿!$C$32,\"\")","v":""},{"$f":"IF(登録名簿!$AD$32=\"〇\",OFFSET(登録名簿!$C$32,0,2,,),\"\")","v":""},{"$f":"IF(登録名簿!$AD$32=\"〇\",OFFSET(登録名簿!$C$32,0,4,,),\"\")","v":""}]
[null,23,null,{"$f":"IF(登録名簿!$AA$33=\"〇\",登録名簿!$C$33,\"\")","v":""},{"$f":"IF(登録名簿!$AA$33=\"〇\",OFFSET(登録名簿!$C$33,0,2,,),\"\")","v":""},{"$f":"IF(登録名簿!$AA$33=\"〇\",OFFSET(登録名簿!$C$33,0,4,,),\"\")","v":""},null,null,null,null,null,null,null,null,null,null,null,null,null,null,null,null,null,null,null,null,null,null,23,null,{"$f":"IF(登録名簿!$AB$33=\"〇\",登録名簿!$C$33,\"\")","v":""},{"$f":"IF(登録名簿!$AB$33=\"〇\",OFFSET(登録名簿!$C$33,0,2,,),\"\")","v":""},{"$f":"IF(登録名簿!$AB$33=\"〇\",OFFSET(登録名簿!$C$33,0,4,,),\"\")","v":""},null,null,null,null,null,null,null,null,null,null,null,null,null,null,null,null,null,null,null,null,null,null,23,null,{"$f":"IF(登録名簿!$AC$33=\"〇\",登録名簿!$C$33,\"\")","v":""},{"$f":"IF(登録名簿!$AC$33=\"〇\",OFFSET(登録名簿!$C$33,0,2,,),\"\")","v":""},{"$f":"IF(登録名簿!$AC$33=\"〇\",OFFSET(登録名簿!$C$33,0,4,,),\"\")","v":""},null,null,null,null,null,null,null,null,null,null,null,null,null,null,null,null,null,null,null,null,null,null,23,null,{"$f":"IF(登録名簿!$AD$33=\"〇\",登録名簿!$C$33,\"\")","v":""},{"$f":"IF(登録名簿!$AD$33=\"〇\",OFFSET(登録名簿!$C$33,0,2,,),\"\")","v":""},{"$f":"IF(登録名簿!$AD$33=\"〇\",OFFSET(登録名簿!$C$33,0,4,,),\"\")","v":""}]
[null,24,null,{"$f":"IF(登録名簿!$AA$34=\"〇\",登録名簿!$C$34,\"\")","v":""},{"$f":"IF(登録名簿!$AA$34=\"〇\",OFFSET(登録名簿!$C$34,0,2,,),\"\")","v":""},{"$f":"IF(登録名簿!$AA$34=\"〇\",OFFSET(登録名簿!$C$34,0,4,,),\"\")","v":""},null,null,null,null,null,null,null,null,null,null,null,null,null,null,null,null,null,null,null,null,null,null,24,null,{"$f":"IF(登録名簿!$AB$34=\"〇\",登録名簿!$C$34,\"\")","v":""},{"$f":"IF(登録名簿!$AB$34=\"〇\",OFFSET(登録名簿!$C$34,0,2,,),\"\")","v":""},{"$f":"IF(登録名簿!$AB$34=\"〇\",OFFSET(登録名簿!$C$34,0,4,,),\"\")","v":""},null,null,null,null,null,null,null,null,null,null,null,null,null,null,null,null,null,null,null,null,null,null,24,null,{"$f":"IF(登録名簿!$AC$34=\"〇\",登録名簿!$C$34,\"\")","v":""},{"$f":"IF(登録名簿!$AC$34=\"〇\",OFFSET(登録名簿!$C$34,0,2,,),\"\")","v":""},{"$f":"IF(登録名簿!$AC$34=\"〇\",OFFSET(登録名簿!$C$34,0,4,,),\"\")","v":""},null,null,null,null,null,null,null,null,null,null,null,null,null,null,null,null,null,null,null,null,null,null,24,null,{"$f":"IF(登録名簿!$AD$34=\"〇\",登録名簿!$C$34,\"\")","v":""},{"$f":"IF(登録名簿!$AD$34=\"〇\",OFFSET(登録名簿!$C$34,0,2,,),\"\")","v":""},{"$f":"IF(登録名簿!$AD$34=\"〇\",OFFSET(登録名簿!$C$34,0,4,,),\"\")","v":""}]
[null,25,null,{"$f":"IF(登録名簿!$AA$35=\"〇\",登録名簿!$C$35,\"\")","v":""},{"$f":"IF(登録名簿!$AA$35=\"〇\",OFFSET(登録名簿!$C$35,0,2,,),\"\")","v":""},{"$f":"IF(登録名簿!$AA$35=\"〇\",OFFSET(登録名簿!$C$35,0,4,,),\"\")","v":""},null,null,null,null,null,null,null,null,null,null,null,null,null,null,null,null,null,null,null,null,null,null,25,null,{"$f":"IF(登録名簿!$AB$35=\"〇\",登録名簿!$C$35,\"\")","v":""},{"$f":"IF(登録名簿!$AB$35=\"〇\",OFFSET(登録名簿!$C$35,0,2,,),\"\")","v":""},{"$f":"IF(登録名簿!$AB$35=\"〇\",OFFSET(登録名簿!$C$35,0,4,,),\"\")","v":""},null,null,null,null,null,null,null,null,null,null,null,null,null,null,null,null,null,null,null,null,null,null,25,null,{"$f":"IF(登録名簿!$AC$35=\"〇\",登録名簿!$C$35,\"\")","v":""},{"$f":"IF(登録名簿!$AC$35=\"〇\",OFFSET(登録名簿!$C$35,0,2,,),\"\")","v":""},{"$f":"IF(登録名簿!$AC$35=\"〇\",OFFSET(登録名簿!$C$35,0,4,,),\"\")","v":""},null,null,null,null,null,null,null,null,null,null,null,null,null,null,null,null,null,null,null,null,null,null,25,null,{"$f":"IF(登録名簿!$AD$35=\"〇\",登録名簿!$C$35,\"\")","v":""},{"$f":"IF(登録名簿!$AD$35=\"〇\",OFFSET(登録名簿!$C$35,0,2,,),\"\")","v":""},{"$f":"IF(登録名簿!$AD$35=\"〇\",OFFSET(登録名簿!$C$35,0,4,,),\"\")","v":""}]
[null,26,null,{"$f":"IF(登録名簿!$AA$36=\"〇\",登録名簿!$C$36,\"\")","v":""},{"$f":"IF(登録名簿!$AA$36=\"〇\",OFFSET(登録名簿!$C$36,0,2,,),\"\")","v":""},{"$f":"IF(登録名簿!$AA$36=\"〇\",OFFSET(登録名簿!$C$36,0,4,,),\"\")","v":""},null,null,null,null,null,null,null,null,null,null,null,null,null,null,null,null,null,null,null,null,null,null,26,null,{"$f":"IF(登録名簿!$AB$36=\"〇\",登録名簿!$C$36,\"\")","v":""},{"$f":"IF(登録名簿!$AB$36=\"〇\",OFFSET(登録名簿!$C$36,0,2,,),\"\")","v":""},{"$f":"IF(登録名簿!$AB$36=\"〇\",OFFSET(登録名簿!$C$36,0,4,,),\"\")","v":""},null,null,null,null,null,null,null,null,null,null,null,null,null,null,null,null,null,null,null,null,null,null,26,null,{"$f":"IF(登録名簿!$AC$36=\"〇\",登録名簿!$C$36,\"\")","v":""},{"$f":"IF(登録名簿!$AC$36=\"〇\",OFFSET(登録名簿!$C$36,0,2,,),\"\")","v":""},{"$f":"IF(登録名簿!$AC$36=\"〇\",OFFSET(登録名簿!$C$36,0,4,,),\"\")","v":""},null,null,null,null,null,null,null,null,null,null,null,null,null,null,null,null,null,null,null,null,null,null,26,null,{"$f":"IF(登録名簿!$AD$36=\"〇\",登録名簿!$C$36,\"\")","v":""},{"$f":"IF(登録名簿!$AD$36=\"〇\",OFFSET(登録名簿!$C$36,0,2,,),\"\")","v":""},{"$f":"IF(登録名簿!$AD$36=\"〇\",OFFSET(登録名簿!$C$36,0,4,,),\"\")","v":""}]
[null,27,null,{"$f":"IF(登録名簿!$AA$37=\"〇\",登録名簿!$C$37,\"\")","v":""},{"$f":"IF(登録名簿!$AA$37=\"〇\",OFFSET(登録名簿!$C$37,0,2,,),\"\")","v":""},{"$f":"IF(登録名簿!$AA$37=\"〇\",OFFSET(登録名簿!$C$37,0,4,,),\"\")","v":""},null,null,null,null,null,null,null,null,null,null,null,null,null,null,null,null,null,null,null,null,null,null,27,null,{"$f":"IF(登録名簿!$AB$37=\"〇\",登録名簿!$C$37,\"\")","v":""},{"$f":"IF(登録名簿!$AB$37=\"〇\",OFFSET(登録名簿!$C$37,0,2,,),\"\")","v":""},{"$f":"IF(登録名簿!$AB$37=\"〇\",OFFSET(登録名簿!$C$37,0,4,,),\"\")","v":""},null,null,null,null,null,null,null,null,null,null,null,null,null,null,null,null,null,null,null,null,null,null,27,null,{"$f":"IF(登録名簿!$AC$37=\"〇\",登録名簿!$C$37,\"\")","v":""},{"$f":"IF(登録名簿!$AC$37=\"〇\",OFFSET(登録名簿!$C$37,0,2,,),\"\")","v":""},{"$f":"IF(登録名簿!$AC$37=\"〇\",OFFSET(登録名簿!$C$37,0,4,,),\"\")","v":""},null,null,null,null,null,null,null,null,null,null,null,null,null,null,null,null,null,null,null,null,null,null,27,null,{"$f":"IF(登録名簿!$AD$37=\"〇\",登録名簿!$C$37,\"\")","v":""},{"$f":"IF(登録名簿!$AD$37=\"〇\",OFFSET(登録名簿!$C$37,0,2,,),\"\")","v":""},{"$f":"IF(登録名簿!$AD$37=\"〇\",OFFSET(登録名簿!$C$37,0,4,,),\"\")","v":""}]
[null,28,null,{"$f":"IF(登録名簿!$AA$38=\"〇\",登録名簿!$C$38,\"\")","v":""},{"$f":"IF(登録名簿!$AA$38=\"〇\",OFFSET(登録名簿!$C$38,0,2,,),\"\")","v":""},{"$f":"IF(登録名簿!$AA$38=\"〇\",OFFSET(登録名簿!$C$38,0,4,,),\"\")","v":""},null,null,null,null,null,null,null,null,null,null,null,null,null,null,null,null,null,null,null,null,null,null,28,null,{"$f":"IF(登録名簿!$AB$38=\"〇\",登録名簿!$C$38,\"\")","v":""},{"$f":"IF(登録名簿!$AB$38=\"〇\",OFFSET(登録名簿!$C$38,0,2,,),\"\")","v":""},{"$f":"IF(登録名簿!$AB$38=\"〇\",OFFSET(登録名簿!$C$38,0,4,,),\"\")","v":""},null,null,null,null,null,null,null,null,null,null,null,null,null,null,null,null,null,null,null,null,null,null,28,null,{"$f":"IF(登録名簿!$AC$38=\"〇\",登録名簿!$C$38,\"\")","v":""},{"$f":"IF(登録名簿!$AC$38=\"〇\",OFFSET(登録名簿!$C$38,0,2,,),\"\")","v":""},{"$f":"IF(登録名簿!$AC$38=\"〇\",OFFSET(登録名簿!$C$38,0,4,,),\"\")","v":""},null,null,null,null,null,null,null,null,null,null,null,null,null,null,null,null,null,null,null,null,null,null,28,null,{"$f":"IF(登録名簿!$AD$38=\"〇\",登録名簿!$C$38,\"\")","v":""},{"$f":"IF(登録名簿!$AD$38=\"〇\",OFFSET(登録名簿!$C$38,0,2,,),\"\")","v":""},{"$f":"IF(登録名簿!$AD$38=\"〇\",OFFSET(登録名簿!$C$38,0,4,,),\"\")","v":""}]
[null,29,null,{"$f":"IF(登録名簿!$AA$39=\"〇\",登録名簿!$C$39,\"\")","v":""},{"$f":"IF(登録名簿!$AA$39=\"〇\",OFFSET(登録名簿!$C$39,0,2,,),\"\")","v":""},{"$f":"IF(登録名簿!$AA$39=\"〇\",OFFSET(登録名簿!$C$39,0,4,,),\"\")","v":""},null,null,null,null,null,null,null,null,null,null,null,null,null,null,null,null,null,null,null,null,null,null,29,null,{"$f":"IF(登録名簿!$AB$39=\"〇\",登録名簿!$C$39,\"\")","v":""},{"$f":"IF(登録名簿!$AB$39=\"〇\",OFFSET(登録名簿!$C$39,0,2,,),\"\")","v":""},{"$f":"IF(登録名簿!$AB$39=\"〇\",OFFSET(登録名簿!$C$39,0,4,,),\"\")","v":""},null,null,null,null,null,null,null,null,null,null,null,null,null,null,null,null,null,null,null,null,null,null,29,null,{"$f":"IF(登録名簿!$AC$39=\"〇\",登録名簿!$C$39,\"\")","v":""},{"$f":"IF(登録名簿!$AC$39=\"〇\",OFFSET(登録名簿!$C$39,0,2,,),\"\")","v":""},{"$f":"IF(登録名簿!$AC$39=\"〇\",OFFSET(登録名簿!$C$39,0,4,,),\"\")","v":""},null,null,null,null,null,null,null,null,null,null,null,null,null,null,null,null,null,null,null,null,null,null,29,null,{"$f":"IF(登録名簿!$AD$39=\"〇\",登録名簿!$C$39,\"\")","v":""},{"$f":"IF(登録名簿!$AD$39=\"〇\",OFFSET(登録名簿!$C$39,0,2,,),\"\")","v":""},{"$f":"IF(登録名簿!$AD$39=\"〇\",OFFSET(登録名簿!$C$39,0,4,,),\"\")","v":""}]
[null,30,null,{"$f":"IF(登録名簿!$AA$40=\"〇\",登録名簿!$C$40,\"\")","v":""},{"$f":"IF(登録名簿!$AA$40=\"〇\",OFFSET(登録名簿!$C$40,0,2,,),\"\")","v":""},{"$f":"IF(登録名簿!$AA$40=\"〇\",OFFSET(登録名簿!$C$40,0,4,,),\"\")","v":""},null,null,null,null,null,null,null,null,null,null,null,null,null,null,null,null,null,null,null,null,null,null,30,null,{"$f":"IF(登録名簿!$AB$40=\"〇\",登録名簿!$C$40,\"\")","v":""},{"$f":"IF(登録名簿!$AB$40=\"〇\",OFFSET(登録名簿!$C$40,0,2,,),\"\")","v":""},{"$f":"IF(登録名簿!$AB$40=\"〇\",OFFSET(登録名簿!$C$40,0,4,,),\"\")","v":""},null,null,null,null,null,null,null,null,null,null,null,null,null,null,null,null,null,null,null,null,null,null,30,null,{"$f":"IF(登録名簿!$AC$40=\"〇\",登録名簿!$C$40,\"\")","v":""},{"$f":"IF(登録名簿!$AC$40=\"〇\",OFFSET(登録名簿!$C$40,0,2,,),\"\")","v":""},{"$f":"IF(登録名簿!$AC$40=\"〇\",OFFSET(登録名簿!$C$40,0,4,,),\"\")","v":""},null,null,null,null,null,null,null,null,null,null,null,null,null,null,null,null,null,null,null,null,null,null,30,null,{"$f":"IF(登録名簿!$AD$40=\"〇\",登録名簿!$C$40,\"\")","v":""},{"$f":"IF(登録名簿!$AD$40=\"〇\",OFFSET(登録名簿!$C$40,0,2,,),\"\")","v":""},{"$f":"IF(登録名簿!$AD$40=\"〇\",OFFSET(登録名簿!$C$40,0,4,,),\"\")","v":""}]
[null,31,null,{"$f":"IF(登録名簿!$AA$41=\"〇\",登録名簿!$C$41,\"\")","v":""},{"$f":"IF(登録名簿!$AA$41=\"〇\",OFFSET(登録名簿!$C$41,0,2,,),\"\")","v":""},{"$f":"IF(登録名簿!$AA$41=\"〇\",OFFSET(登録名簿!$C$41,0,4,,),\"\")","v":""},null,null,null,null,null,null,null,null,null,null,null,null,null,null,null,null,null,null,null,null,null,null,31,null,{"$f":"IF(登録名簿!$AB$41=\"〇\",登録名簿!$C$41,\"\")","v":""},{"$f":"IF(登録名簿!$AB$41=\"〇\",OFFSET(登録名簿!$C$41,0,2,,),\"\")","v":""},{"$f":"IF(登録名簿!$AB$41=\"〇\",OFFSET(登録名簿!$C$41,0,4,,),\"\")","v":""},null,null,null,null,null,null,null,null,null,null,null,null,null,null,null,null,null,null,null,null,null,null,31,null,{"$f":"IF(登録名簿!$AC$41=\"〇\",登録名簿!$C$41,\"\")","v":""},{"$f":"IF(登録名簿!$AC$41=\"〇\",OFFSET(登録名簿!$C$41,0,2,,),\"\")","v":""},{"$f":"IF(登録名簿!$AC$41=\"〇\",OFFSET(登録名簿!$C$41,0,4,,),\"\")","v":""},null,null,null,null,null,null,null,null,null,null,null,null,null,null,null,null,null,null,null,null,null,null,31,null,{"$f":"IF(登録名簿!$AD$41=\"〇\",登録名簿!$C$41,\"\")","v":""},{"$f":"IF(登録名簿!$AD$41=\"〇\",OFFSET(登録名簿!$C$41,0,2,,),\"\")","v":""},{"$f":"IF(登録名簿!$AD$41=\"〇\",OFFSET(登録名簿!$C$41,0,4,,),\"\")","v":""}]
[null,32,null,{"$f":"IF(登録名簿!$AA$42=\"〇\",登録名簿!$C$42,\"\")","v":""},{"$f":"IF(登録名簿!$AA$42=\"〇\",OFFSET(登録名簿!$C$42,0,2,,),\"\")","v":""},{"$f":"IF(登録名簿!$AA$42=\"〇\",OFFSET(登録名簿!$C$42,0,4,,),\"\")","v":""},null,null,null,null,null,null,null,null,null,null,null,null,null,null,null,null,null,null,null,null,null,null,32,null,{"$f":"IF(登録名簿!$AB$42=\"〇\",登録名簿!$C$42,\"\")","v":""},{"$f":"IF(登録名簿!$AB$42=\"〇\",OFFSET(登録名簿!$C$42,0,2,,),\"\")","v":""},{"$f":"IF(登録名簿!$AB$42=\"〇\",OFFSET(登録名簿!$C$42,0,4,,),\"\")","v":""},null,null,null,null,null,null,null,null,null,null,null,null,null,null,null,null,null,null,null,null,null,null,32,null,{"$f":"IF(登録名簿!$AC$42=\"〇\",登録名簿!$C$42,\"\")","v":""},{"$f":"IF(登録名簿!$AC$42=\"〇\",OFFSET(登録名簿!$C$42,0,2,,),\"\")","v":""},{"$f":"IF(登録名簿!$AC$42=\"〇\",OFFSET(登録名簿!$C$42,0,4,,),\"\")","v":""},null,null,null,null,null,null,null,null,null,null,null,null,null,null,null,null,null,null,null,null,null,null,32,null,{"$f":"IF(登録名簿!$AD$42=\"〇\",登録名簿!$C$42,\"\")","v":""},{"$f":"IF(登録名簿!$AD$42=\"〇\",OFFSET(登録名簿!$C$42,0,2,,),\"\")","v":""},{"$f":"IF(登録名簿!$AD$42=\"〇\",OFFSET(登録名簿!$C$42,0,4,,),\"\")","v":""}]
[null,33,null,{"$f":"IF(登録名簿!$AA$43=\"〇\",登録名簿!$C$43,\"\")","v":""},{"$f":"IF(登録名簿!$AA$43=\"〇\",OFFSET(登録名簿!$C$43,0,2,,),\"\")","v":""},{"$f":"IF(登録名簿!$AA$43=\"〇\",OFFSET(登録名簿!$C$43,0,4,,),\"\")","v":""},null,null,null,null,null,null,null,null,null,null,null,null,null,null,null,null,null,null,null,null,null,null,33,null,{"$f":"IF(登録名簿!$AB$43=\"〇\",登録名簿!$C$43,\"\")","v":""},{"$f":"IF(登録名簿!$AB$43=\"〇\",OFFSET(登録名簿!$C$43,0,2,,),\"\")","v":""},{"$f":"IF(登録名簿!$AB$43=\"〇\",OFFSET(登録名簿!$C$43,0,4,,),\"\")","v":""},null,null,null,null,null,null,null,null,null,null,null,null,null,null,null,null,null,null,null,null,null,null,33,null,{"$f":"IF(登録名簿!$AC$43=\"〇\",登録名簿!$C$43,\"\")","v":""},{"$f":"IF(登録名簿!$AC$43=\"〇\",OFFSET(登録名簿!$C$43,0,2,,),\"\")","v":""},{"$f":"IF(登録名簿!$AC$43=\"〇\",OFFSET(登録名簿!$C$43,0,4,,),\"\")","v":""},null,null,null,null,null,null,null,null,null,null,null,null,null,null,null,null,null,null,null,null,null,null,33,null,{"$f":"IF(登録名簿!$AD$43=\"〇\",登録名簿!$C$43,\"\")","v":""},{"$f":"IF(登録名簿!$AD$43=\"〇\",OFFSET(登録名簿!$C$43,0,2,,),\"\")","v":""},{"$f":"IF(登録名簿!$AD$43=\"〇\",OFFSET(登録名簿!$C$43,0,4,,),\"\")","v":""}]
[null,34,null,{"$f":"IF(登録名簿!$AA$44=\"〇\",登録名簿!$C$44,\"\")","v":""},{"$f":"IF(登録名簿!$AA$44=\"〇\",OFFSET(登録名簿!$C$44,0,2,,),\"\")","v":""},{"$f":"IF(登録名簿!$AA$44=\"〇\",OFFSET(登録名簿!$C$44,0,4,,),\"\")","v":""},null,null,null,null,null,null,null,null,null,null,null,null,null,null,null,null,null,null,null,null,null,null,34,null,{"$f":"IF(登録名簿!$AB$44=\"〇\",登録名簿!$C$44,\"\")","v":""},{"$f":"IF(登録名簿!$AB$44=\"〇\",OFFSET(登録名簿!$C$44,0,2,,),\"\")","v":""},{"$f":"IF(登録名簿!$AB$44=\"〇\",OFFSET(登録名簿!$C$44,0,4,,),\"\")","v":""},null,null,null,null,null,null,null,null,null,null,null,null,null,null,null,null,null,null,null,null,null,null,34,null,{"$f":"IF(登録名簿!$AC$44=\"〇\",登録名簿!$C$44,\"\")","v":""},{"$f":"IF(登録名簿!$AC$44=\"〇\",OFFSET(登録名簿!$C$44,0,2,,),\"\")","v":""},{"$f":"IF(登録名簿!$AC$44=\"〇\",OFFSET(登録名簿!$C$44,0,4,,),\"\")","v":""},null,null,null,null,null,null,null,null,null,null,null,null,null,null,null,null,null,null,null,null,null,null,34,null,{"$f":"IF(登録名簿!$AD$44=\"〇\",登録名簿!$C$44,\"\")","v":""},{"$f":"IF(登録名簿!$AD$44=\"〇\",OFFSET(登録名簿!$C$44,0,2,,),\"\")","v":""},{"$f":"IF(登録名簿!$AD$44=\"〇\",OFFSET(登録名簿!$C$44,0,4,,),\"\")","v":""}]
[null,35,null,{"$f":"IF(登録名簿!$AA$45=\"〇\",登録名簿!$C$45,\"\")","v":""},{"$f":"IF(登録名簿!$AA$45=\"〇\",OFFSET(登録名簿!$C$45,0,2,,),\"\")","v":""},{"$f":"IF(登録名簿!$AA$45=\"〇\",OFFSET(登録名簿!$C$45,0,4,,),\"\")","v":""},null,null,null,null,null,null,null,null,null,null,null,null,null,null,null,null,null,null,null,null,null,null,35,null,{"$f":"IF(登録名簿!$AB$45=\"〇\",登録名簿!$C$45,\"\")","v":""},{"$f":"IF(登録名簿!$AB$45=\"〇\",OFFSET(登録名簿!$C$45,0,2,,),\"\")","v":""},{"$f":"IF(登録名簿!$AB$45=\"〇\",OFFSET(登録名簿!$C$45,0,4,,),\"\")","v":""},null,null,null,null,null,null,null,null,null,null,null,null,null,null,null,null,null,null,null,null,null,null,35,null,{"$f":"IF(登録名簿!$AC$45=\"〇\",登録名簿!$C$45,\"\")","v":""},{"$f":"IF(登録名簿!$AC$45=\"〇\",OFFSET(登録名簿!$C$45,0,2,,),\"\")","v":""},{"$f":"IF(登録名簿!$AC$45=\"〇\",OFFSET(登録名簿!$C$45,0,4,,),\"\")","v":""},null,null,null,null,null,null,null,null,null,null,null,null,null,null,null,null,null,null,null,null,null,null,35,null,{"$f":"IF(登録名簿!$AD$45=\"〇\",登録名簿!$C$45,\"\")","v":""},{"$f":"IF(登録名簿!$AD$45=\"〇\",OFFSET(登録名簿!$C$45,0,2,,),\"\")","v":""},{"$f":"IF(登録名簿!$AD$45=\"〇\",OFFSET(登録名簿!$C$45,0,4,,),\"\")","v":""}]
[null,36,null,{"$f":"IF(登録名簿!$AA$46=\"〇\",登録名簿!$C$46,\"\")","v":""},{"$f":"IF(登録名簿!$AA$46=\"〇\",OFFSET(登録名簿!$C$46,0,2,,),\"\")","v":""},{"$f":"IF(登録名簿!$AA$46=\"〇\",OFFSET(登録名簿!$C$46,0,4,,),\"\")","v":""},null,null,null,null,null,null,null,null,null,null,null,null,null,null,null,null,null,null,null,null,null,null,36,null,{"$f":"IF(登録名簿!$AB$46=\"〇\",登録名簿!$C$46,\"\")","v":""},{"$f":"IF(登録名簿!$AB$46=\"〇\",OFFSET(登録名簿!$C$46,0,2,,),\"\")","v":""},{"$f":"IF(登録名簿!$AB$46=\"〇\",OFFSET(登録名簿!$C$46,0,4,,),\"\")","v":""},null,null,null,null,null,null,null,null,null,null,null,null,null,null,null,null,null,null,null,null,null,null,36,null,{"$f":"IF(登録名簿!$AC$46=\"〇\",登録名簿!$C$46,\"\")","v":""},{"$f":"IF(登録名簿!$AC$46=\"〇\",OFFSET(登録名簿!$C$46,0,2,,),\"\")","v":""},{"$f":"IF(登録名簿!$AC$46=\"〇\",OFFSET(登録名簿!$C$46,0,4,,),\"\")","v":""},null,null,null,null,null,null,null,null,null,null,null,null,null,null,null,null,null,null,null,null,null,null,36,null,{"$f":"IF(登録名簿!$AD$46=\"〇\",登録名簿!$C$46,\"\")","v":""},{"$f":"IF(登録名簿!$AD$46=\"〇\",OFFSET(登録名簿!$C$46,0,2,,),\"\")","v":""},{"$f":"IF(登録名簿!$AD$46=\"〇\",OFFSET(登録名簿!$C$46,0,4,,),\"\")","v":""}]
[null,37,null,{"$f":"IF(登録名簿!$AA$47=\"〇\",登録名簿!$C$47,\"\")","v":""},{"$f":"IF(登録名簿!$AA$47=\"〇\",OFFSET(登録名簿!$C$47,0,2,,),\"\")","v":""},{"$f":"IF(登録名簿!$AA$47=\"〇\",OFFSET(登録名簿!$C$47,0,4,,),\"\")","v":""},null,null,null,null,null,null,null,null,null,null,null,null,null,null,null,null,null,null,null,null,null,null,37,null,{"$f":"IF(登録名簿!$AB$47=\"〇\",登録名簿!$C$47,\"\")","v":""},{"$f":"IF(登録名簿!$AB$47=\"〇\",OFFSET(登録名簿!$C$47,0,2,,),\"\")","v":""},{"$f":"IF(登録名簿!$AB$47=\"〇\",OFFSET(登録名簿!$C$47,0,4,,),\"\")","v":""},null,null,null,null,null,null,null,null,null,null,null,null,null,null,null,null,null,null,null,null,null,null,37,null,{"$f":"IF(登録名簿!$AC$47=\"〇\",登録名簿!$C$47,\"\")","v":""},{"$f":"IF(登録名簿!$AC$47=\"〇\",OFFSET(登録名簿!$C$47,0,2,,),\"\")","v":""},{"$f":"IF(登録名簿!$AC$47=\"〇\",OFFSET(登録名簿!$C$47,0,4,,),\"\")","v":""},null,null,null,null,null,null,null,null,null,null,null,null,null,null,null,null,null,null,null,null,null,null,37,null,{"$f":"IF(登録名簿!$AD$47=\"〇\",登録名簿!$C$47,\"\")","v":""},{"$f":"IF(登録名簿!$AD$47=\"〇\",OFFSET(登録名簿!$C$47,0,2,,),\"\")","v":""},{"$f":"IF(登録名簿!$AD$47=\"〇\",OFFSET(登録名簿!$C$47,0,4,,),\"\")","v":""}]
[null,38,null,{"$f":"IF(登録名簿!$AA$48=\"〇\",登録名簿!$C$48,\"\")","v":""},{"$f":"IF(登録名簿!$AA$48=\"〇\",OFFSET(登録名簿!$C$48,0,2,,),\"\")","v":""},{"$f":"IF(登録名簿!$AA$48=\"〇\",OFFSET(登録名簿!$C$48,0,4,,),\"\")","v":""},null,null,null,null,null,null,null,null,null,null,null,null,null,null,null,null,null,null,null,null,null,null,38,null,{"$f":"IF(登録名簿!$AB$48=\"〇\",登録名簿!$C$48,\"\")","v":""},{"$f":"IF(登録名簿!$AB$48=\"〇\",OFFSET(登録名簿!$C$48,0,2,,),\"\")","v":""},{"$f":"IF(登録名簿!$AB$48=\"〇\",OFFSET(登録名簿!$C$48,0,4,,),\"\")","v":""},null,null,null,null,null,null,null,null,null,null,null,null,null,null,null,null,null,null,null,null,null,null,38,null,{"$f":"IF(登録名簿!$AC$48=\"〇\",登録名簿!$C$48,\"\")","v":""},{"$f":"IF(登録名簿!$AC$48=\"〇\",OFFSET(登録名簿!$C$48,0,2,,),\"\")","v":""},{"$f":"IF(登録名簿!$AC$48=\"〇\",OFFSET(登録名簿!$C$48,0,4,,),\"\")","v":""},null,null,null,null,null,null,null,null,null,null,null,null,null,null,null,null,null,null,null,null,null,null,38,null,{"$f":"IF(登録名簿!$AD$48=\"〇\",登録名簿!$C$48,\"\")","v":""},{"$f":"IF(登録名簿!$AD$48=\"〇\",OFFSET(登録名簿!$C$48,0,2,,),\"\")","v":""},{"$f":"IF(登録名簿!$AD$48=\"〇\",OFFSET(登録名簿!$C$48,0,4,,),\"\")","v":""}]
[null,39,null,{"$f":"IF(登録名簿!$AA$49=\"〇\",登録名簿!$C$49,\"\")","v":""},{"$f":"IF(登録名簿!$AA$49=\"〇\",OFFSET(登録名簿!$C$49,0,2,,),\"\")","v":""},{"$f":"IF(登録名簿!$AA$49=\"〇\",OFFSET(登録名簿!$C$49,0,4,,),\"\")","v":""},null,null,null,null,null,null,null,null,null,null,null,null,null,null,null,null,null,null,null,null,null,null,39,null,{"$f":"IF(登録名簿!$AB$49=\"〇\",登録名簿!$C$49,\"\")","v":""},{"$f":"IF(登録名簿!$AB$49=\"〇\",OFFSET(登録名簿!$C$49,0,2,,),\"\")","v":""},{"$f":"IF(登録名簿!$AB$49=\"〇\",OFFSET(登録名簿!$C$49,0,4,,),\"\")","v":""},null,null,null,null,null,null,null,null,null,null,null,null,null,null,null,null,null,null,null,null,null,null,39,null,{"$f":"IF(登録名簿!$AC$49=\"〇\",登録名簿!$C$49,\"\")","v":""},{"$f":"IF(登録名簿!$AC$49=\"〇\",OFFSET(登録名簿!$C$49,0,2,,),\"\")","v":""},{"$f":"IF(登録名簿!$AC$49=\"〇\",OFFSET(登録名簿!$C$49,0,4,,),\"\")","v":""},null,null,null,null,null,null,null,null,null,null,null,null,null,null,null,null,null,null,null,null,null,null,39,null,{"$f":"IF(登録名簿!$AD$49=\"〇\",登録名簿!$C$49,\"\")","v":""},{"$f":"IF(登録名簿!$AD$49=\"〇\",OFFSET(登録名簿!$C$49,0,2,,),\"\")","v":""},{"$f":"IF(登録名簿!$AD$49=\"〇\",OFFSET(登録名簿!$C$49,0,4,,),\"\")","v":""}]
[null,40,null,{"$f":"IF(登録名簿!$AA$50=\"〇\",登録名簿!$C$50,\"\")","v":""},{"$f":"IF(登録名簿!$AA$50=\"〇\",OFFSET(登録名簿!$C$50,0,2,,),\"\")","v":""},{"$f":"IF(登録名簿!$AA$50=\"〇\",OFFSET(登録名簿!$C$50,0,4,,),\"\")","v":""},null,null,null,null,null,null,null,null,null,null,null,null,null,null,null,null,null,null,null,null,null,null,40,null,{"$f":"IF(登録名簿!$AB$50=\"〇\",登録名簿!$C$50,\"\")","v":""},{"$f":"IF(登録名簿!$AB$50=\"〇\",OFFSET(登録名簿!$C$50,0,2,,),\"\")","v":""},{"$f":"IF(登録名簿!$AB$50=\"〇\",OFFSET(登録名簿!$C$50,0,4,,),\"\")","v":""},null,null,null,null,null,null,null,null,null,null,null,null,null,null,null,null,null,null,null,null,null,null,40,null,{"$f":"IF(登録名簿!$AC$50=\"〇\",登録名簿!$C$50,\"\")","v":""},{"$f":"IF(登録名簿!$AC$50=\"〇\",OFFSET(登録名簿!$C$50,0,2,,),\"\")","v":""},{"$f":"IF(登録名簿!$AC$50=\"〇\",OFFSET(登録名簿!$C$50,0,4,,),\"\")","v":""},null,null,null,null,null,null,null,null,null,null,null,null,null,null,null,null,null,null,null,null,null,null,40,null,{"$f":"IF(登録名簿!$AD$50=\"〇\",登録名簿!$C$50,\"\")","v":""},{"$f":"IF(登録名簿!$AD$50=\"〇\",OFFSET(登録名簿!$C$50,0,2,,),\"\")","v":""},{"$f":"IF(登録名簿!$AD$50=\"〇\",OFFSET(登録名簿!$C$50,0,4,,),\"\")","v":""}]
[null,41,null,{"$f":"IF(登録名簿!$AA$51=\"〇\",登録名簿!$C$51,\"\")","v":""},{"$f":"IF(登録名簿!$AA$51=\"〇\",OFFSET(登録名簿!$C$51,0,2,,),\"\")","v":""},{"$f":"IF(登録名簿!$AA$51=\"〇\",OFFSET(登録名簿!$C$51,0,4,,),\"\")","v":""},null,null,null,null,null,null,null,null,null,null,null,null,null,null,null,null,null,null,null,null,null,null,41,null,{"$f":"IF(登録名簿!$AB$51=\"〇\",登録名簿!$C$51,\"\")","v":""},{"$f":"IF(登録名簿!$AB$51=\"〇\",OFFSET(登録名簿!$C$51,0,2,,),\"\")","v":""},{"$f":"IF(登録名簿!$AB$51=\"〇\",OFFSET(登録名簿!$C$51,0,4,,),\"\")","v":""},null,null,null,null,null,null,null,null,null,null,null,null,null,null,null,null,null,null,null,null,null,null,41,null,{"$f":"IF(登録名簿!$AC$51=\"〇\",登録名簿!$C$51,\"\")","v":""},{"$f":"IF(登録名簿!$AC$51=\"〇\",OFFSET(登録名簿!$C$51,0,2,,),\"\")","v":""},{"$f":"IF(登録名簿!$AC$51=\"〇\",OFFSET(登録名簿!$C$51,0,4,,),\"\")","v":""},null,null,null,null,null,null,null,null,null,null,null,null,null,null,null,null,null,null,null,null,null,null,41,null,{"$f":"IF(登録名簿!$AD$51=\"〇\",登録名簿!$C$51,\"\")","v":""},{"$f":"IF(登録名簿!$AD$51=\"〇\",OFFSET(登録名簿!$C$51,0,2,,),\"\")","v":""},{"$f":"IF(登録名簿!$AD$51=\"〇\",OFFSET(登録名簿!$C$51,0,4,,),\"\")","v":""}]
[null,42,null,{"$f":"IF(登録名簿!$AA$52=\"〇\",登録名簿!$C$52,\"\")","v":""},{"$f":"IF(登録名簿!$AA$52=\"〇\",OFFSET(登録名簿!$C$52,0,2,,),\"\")","v":""},{"$f":"IF(登録名簿!$AA$52=\"〇\",OFFSET(登録名簿!$C$52,0,4,,),\"\")","v":""},null,null,null,null,null,null,null,null,null,null,null,null,null,null,null,null,null,null,null,null,null,null,42,null,{"$f":"IF(登録名簿!$AB$52=\"〇\",登録名簿!$C$52,\"\")","v":""},{"$f":"IF(登録名簿!$AB$52=\"〇\",OFFSET(登録名簿!$C$52,0,2,,),\"\")","v":""},{"$f":"IF(登録名簿!$AB$52=\"〇\",OFFSET(登録名簿!$C$52,0,4,,),\"\")","v":""},null,null,null,null,null,null,null,null,null,null,null,null,null,null,null,null,null,null,null,null,null,null,42,null,{"$f":"IF(登録名簿!$AC$52=\"〇\",登録名簿!$C$52,\"\")","v":""},{"$f":"IF(登録名簿!$AC$52=\"〇\",OFFSET(登録名簿!$C$52,0,2,,),\"\")","v":""},{"$f":"IF(登録名簿!$AC$52=\"〇\",OFFSET(登録名簿!$C$52,0,4,,),\"\")","v":""},null,null,null,null,null,null,null,null,null,null,null,null,null,null,null,null,null,null,null,null,null,null,42,null,{"$f":"IF(登録名簿!$AD$52=\"〇\",登録名簿!$C$52,\"\")","v":""},{"$f":"IF(登録名簿!$AD$52=\"〇\",OFFSET(登録名簿!$C$52,0,2,,),\"\")","v":""},{"$f":"IF(登録名簿!$AD$52=\"〇\",OFFSET(登録名簿!$C$52,0,4,,),\"\")","v":""}]
[null,43,null,{"$f":"IF(登録名簿!$AA$53=\"〇\",登録名簿!$C$53,\"\")","v":""},{"$f":"IF(登録名簿!$AA$53=\"〇\",OFFSET(登録名簿!$C$53,0,2,,),\"\")","v":""},{"$f":"IF(登録名簿!$AA$53=\"〇\",OFFSET(登録名簿!$C$53,0,4,,),\"\")","v":""},null,null,null,null,null,null,null,null,null,null,null,null,null,null,null,null,null,null,null,null,null,null,43,null,{"$f":"IF(登録名簿!$AB$53=\"〇\",登録名簿!$C$53,\"\")","v":""},{"$f":"IF(登録名簿!$AB$53=\"〇\",OFFSET(登録名簿!$C$53,0,2,,),\"\")","v":""},{"$f":"IF(登録名簿!$AB$53=\"〇\",OFFSET(登録名簿!$C$53,0,4,,),\"\")","v":""},null,null,null,null,null,null,null,null,null,null,null,null,null,null,null,null,null,null,null,null,null,null,43,null,{"$f":"IF(登録名簿!$AC$53=\"〇\",登録名簿!$C$53,\"\")","v":""},{"$f":"IF(登録名簿!$AC$53=\"〇\",OFFSET(登録名簿!$C$53,0,2,,),\"\")","v":""},{"$f":"IF(登録名簿!$AC$53=\"〇\",OFFSET(登録名簿!$C$53,0,4,,),\"\")","v":""},null,null,null,null,null,null,null,null,null,null,null,null,null,null,null,null,null,null,null,null,null,null,43,null,{"$f":"IF(登録名簿!$AD$53=\"〇\",登録名簿!$C$53,\"\")","v":""},{"$f":"IF(登録名簿!$AD$53=\"〇\",OFFSET(登録名簿!$C$53,0,2,,),\"\")","v":""},{"$f":"IF(登録名簿!$AD$53=\"〇\",OFFSET(登録名簿!$C$53,0,4,,),\"\")","v":""}]
[null,44,null,{"$f":"IF(登録名簿!$AA$54=\"〇\",登録名簿!$C$54,\"\")","v":""},{"$f":"IF(登録名簿!$AA$54=\"〇\",OFFSET(登録名簿!$C$54,0,2,,),\"\")","v":""},{"$f":"IF(登録名簿!$AA$54=\"〇\",OFFSET(登録名簿!$C$54,0,4,,),\"\")","v":""},null,null,null,null,null,null,null,null,null,null,null,null,null,null,null,null,null,null,null,null,null,null,44,null,{"$f":"IF(登録名簿!$AB$54=\"〇\",登録名簿!$C$54,\"\")","v":""},{"$f":"IF(登録名簿!$AB$54=\"〇\",OFFSET(登録名簿!$C$54,0,2,,),\"\")","v":""},{"$f":"IF(登録名簿!$AB$54=\"〇\",OFFSET(登録名簿!$C$54,0,4,,),\"\")","v":""},null,null,null,null,null,null,null,null,null,null,null,null,null,null,null,null,null,null,null,null,null,null,44,null,{"$f":"IF(登録名簿!$AC$54=\"〇\",登録名簿!$C$54,\"\")","v":""},{"$f":"IF(登録名簿!$AC$54=\"〇\",OFFSET(登録名簿!$C$54,0,2,,),\"\")","v":""},{"$f":"IF(登録名簿!$AC$54=\"〇\",OFFSET(登録名簿!$C$54,0,4,,),\"\")","v":""},null,null,null,null,null,null,null,null,null,null,null,null,null,null,null,null,null,null,null,null,null,null,44,null,{"$f":"IF(登録名簿!$AD$54=\"〇\",登録名簿!$C$54,\"\")","v":""},{"$f":"IF(登録名簿!$AD$54=\"〇\",OFFSET(登録名簿!$C$54,0,2,,),\"\")","v":""},{"$f":"IF(登録名簿!$AD$54=\"〇\",OFFSET(登録名簿!$C$54,0,4,,),\"\")","v":""}]
[null,45,null,{"$f":"IF(登録名簿!$AA$55=\"〇\",登録名簿!$C$55,\"\")","v":""},{"$f":"IF(登録名簿!$AA$55=\"〇\",OFFSET(登録名簿!$C$55,0,2,,),\"\")","v":""},{"$f":"IF(登録名簿!$AA$55=\"〇\",OFFSET(登録名簿!$C$55,0,4,,),\"\")","v":""},null,null,null,null,null,null,null,null,null,null,null,null,null,null,null,null,null,null,null,null,null,null,45,null,{"$f":"IF(登録名簿!$AB$55=\"〇\",登録名簿!$C$55,\"\")","v":""},{"$f":"IF(登録名簿!$AB$55=\"〇\",OFFSET(登録名簿!$C$55,0,2,,),\"\")","v":""},{"$f":"IF(登録名簿!$AB$55=\"〇\",OFFSET(登録名簿!$C$55,0,4,,),\"\")","v":""},null,null,null,null,null,null,null,null,null,null,null,null,null,null,null,null,null,null,null,null,null,null,45,null,{"$f":"IF(登録名簿!$AC$55=\"〇\",登録名簿!$C$55,\"\")","v":""},{"$f":"IF(登録名簿!$AC$55=\"〇\",OFFSET(登録名簿!$C$55,0,2,,),\"\")","v":""},{"$f":"IF(登録名簿!$AC$55=\"〇\",OFFSET(登録名簿!$C$55,0,4,,),\"\")","v":""},null,null,null,null,null,null,null,null,null,null,null,null,null,null,null,null,null,null,null,null,null,null,45,null,{"$f":"IF(登録名簿!$AD$55=\"〇\",登録名簿!$C$55,\"\")","v":""},{"$f":"IF(登録名簿!$AD$55=\"〇\",OFFSET(登録名簿!$C$55,0,2,,),\"\")","v":""},{"$f":"IF(登録名簿!$AD$55=\"〇\",OFFSET(登録名簿!$C$55,0,4,,),\"\")","v":""}]
[null,46,null,{"$f":"IF(登録名簿!$AA$56=\"〇\",登録名簿!$C$56,\"\")","v":""},{"$f":"IF(登録名簿!$AA$56=\"〇\",OFFSET(登録名簿!$C$56,0,2,,),\"\")","v":""},{"$f":"IF(登録名簿!$AA$56=\"〇\",OFFSET(登録名簿!$C$56,0,4,,),\"\")","v":""},null,null,null,null,null,null,null,null,null,null,null,null,null,null,null,null,null,null,null,null,null,null,46,null,{"$f":"IF(登録名簿!$AB$56=\"〇\",登録名簿!$C$56,\"\")","v":""},{"$f":"IF(登録名簿!$AB$56=\"〇\",OFFSET(登録名簿!$C$56,0,2,,),\"\")","v":""},{"$f":"IF(登録名簿!$AB$56=\"〇\",OFFSET(登録名簿!$C$56,0,4,,),\"\")","v":""},null,null,null,null,null,null,null,null,null,null,null,null,null,null,null,null,null,null,null,null,null,null,46,null,{"$f":"IF(登録名簿!$AC$56=\"〇\",登録名簿!$C$56,\"\")","v":""},{"$f":"IF(登録名簿!$AC$56=\"〇\",OFFSET(登録名簿!$C$56,0,2,,),\"\")","v":""},{"$f":"IF(登録名簿!$AC$56=\"〇\",OFFSET(登録名簿!$C$56,0,4,,),\"\")","v":""},null,null,null,null,null,null,null,null,null,null,null,null,null,null,null,null,null,null,null,null,null,null,46,null,{"$f":"IF(登録名簿!$AD$56=\"〇\",登録名簿!$C$56,\"\")","v":""},{"$f":"IF(登録名簿!$AD$56=\"〇\",OFFSET(登録名簿!$C$56,0,2,,),\"\")","v":""},{"$f":"IF(登録名簿!$AD$56=\"〇\",OFFSET(登録名簿!$C$56,0,4,,),\"\")","v":""}]
[null,47,null,{"$f":"IF(登録名簿!$AA$57=\"〇\",登録名簿!$C$57,\"\")","v":""},{"$f":"IF(登録名簿!$AA$57=\"〇\",OFFSET(登録名簿!$C$57,0,2,,),\"\")","v":""},{"$f":"IF(登録名簿!$AA$57=\"〇\",OFFSET(登録名簿!$C$57,0,4,,),\"\")","v":""},null,null,null,null,null,null,null,null,null,null,null,null,null,null,null,null,null,null,null,null,null,null,47,null,{"$f":"IF(登録名簿!$AB$57=\"〇\",登録名簿!$C$57,\"\")","v":""},{"$f":"IF(登録名簿!$AB$57=\"〇\",OFFSET(登録名簿!$C$57,0,2,,),\"\")","v":""},{"$f":"IF(登録名簿!$AB$57=\"〇\",OFFSET(登録名簿!$C$57,0,4,,),\"\")","v":""},null,null,null,null,null,null,null,null,null,null,null,null,null,null,null,null,null,null,null,null,null,null,47,null,{"$f":"IF(登録名簿!$AC$57=\"〇\",登録名簿!$C$57,\"\")","v":""},{"$f":"IF(登録名簿!$AC$57=\"〇\",OFFSET(登録名簿!$C$57,0,2,,),\"\")","v":""},{"$f":"IF(登録名簿!$AC$57=\"〇\",OFFSET(登録名簿!$C$57,0,4,,),\"\")","v":""},null,null,null,null,null,null,null,null,null,null,null,null,null,null,null,null,null,null,null,null,null,null,47,null,{"$f":"IF(登録名簿!$AD$57=\"〇\",登録名簿!$C$57,\"\")","v":""},{"$f":"IF(登録名簿!$AD$57=\"〇\",OFFSET(登録名簿!$C$57,0,2,,),\"\")","v":""},{"$f":"IF(登録名簿!$AD$57=\"〇\",OFFSET(登録名簿!$C$57,0,4,,),\"\")","v":""}]
[null,48,null,{"$f":"IF(登録名簿!$AA$58=\"〇\",登録名簿!$C$58,\"\")","v":""},{"$f":"IF(登録名簿!$AA$58=\"〇\",OFFSET(登録名簿!$C$58,0,2,,),\"\")","v":""},{"$f":"IF(登録名簿!$AA$58=\"〇\",OFFSET(登録名簿!$C$58,0,4,,),\"\")","v":""},null,null,null,null,null,null,null,null,null,null,null,null,null,null,null,null,null,null,null,null,null,null,48,null,{"$f":"IF(登録名簿!$AB$58=\"〇\",登録名簿!$C$58,\"\")","v":""},{"$f":"IF(登録名簿!$AB$58=\"〇\",OFFSET(登録名簿!$C$58,0,2,,),\"\")","v":""},{"$f":"IF(登録名簿!$AB$58=\"〇\",OFFSET(登録名簿!$C$58,0,4,,),\"\")","v":""},null,null,null,null,null,null,null,null,null,null,null,null,null,null,null,null,null,null,null,null,null,null,48,null,{"$f":"IF(登録名簿!$AC$58=\"〇\",登録名簿!$C$58,\"\")","v":""},{"$f":"IF(登録名簿!$AC$58=\"〇\",OFFSET(登録名簿!$C$58,0,2,,),\"\")","v":""},{"$f":"IF(登録名簿!$AC$58=\"〇\",OFFSET(登録名簿!$C$58,0,4,,),\"\")","v":""},null,null,null,null,null,null,null,null,null,null,null,null,null,null,null,null,null,null,null,null,null,null,48,null,{"$f":"IF(登録名簿!$AD$58=\"〇\",登録名簿!$C$58,\"\")","v":""},{"$f":"IF(登録名簿!$AD$58=\"〇\",OFFSET(登録名簿!$C$58,0,2,,),\"\")","v":""},{"$f":"IF(登録名簿!$AD$58=\"〇\",OFFSET(登録名簿!$C$58,0,4,,),\"\")","v":""}]
[null,49,null,{"$f":"IF(登録名簿!$AA$59=\"〇\",登録名簿!$C$59,\"\")","v":""},{"$f":"IF(登録名簿!$AA$59=\"〇\",OFFSET(登録名簿!$C$59,0,2,,),\"\")","v":""},{"$f":"IF(登録名簿!$AA$59=\"〇\",OFFSET(登録名簿!$C$59,0,4,,),\"\")","v":""},null,null,null,null,null,null,null,null,null,null,null,null,null,null,null,null,null,null,null,null,null,null,49,null,{"$f":"IF(登録名簿!$AB$59=\"〇\",登録名簿!$C$59,\"\")","v":""},{"$f":"IF(登録名簿!$AB$59=\"〇\",OFFSET(登録名簿!$C$59,0,2,,),\"\")","v":""},{"$f":"IF(登録名簿!$AB$59=\"〇\",OFFSET(登録名簿!$C$59,0,4,,),\"\")","v":""},null,null,null,null,null,null,null,null,null,null,null,null,null,null,null,null,null,null,null,null,null,null,49,null,{"$f":"IF(登録名簿!$AC$59=\"〇\",登録名簿!$C$59,\"\")","v":""},{"$f":"IF(登録名簿!$AC$59=\"〇\",OFFSET(登録名簿!$C$59,0,2,,),\"\")","v":""},{"$f":"IF(登録名簿!$AC$59=\"〇\",OFFSET(登録名簿!$C$59,0,4,,),\"\")","v":""},null,null,null,null,null,null,null,null,null,null,null,null,null,null,null,null,null,null,null,null,null,null,49,null,{"$f":"IF(登録名簿!$AD$59=\"〇\",登録名簿!$C$59,\"\")","v":""},{"$f":"IF(登録名簿!$AD$59=\"〇\",OFFSET(登録名簿!$C$59,0,2,,),\"\")","v":""},{"$f":"IF(登録名簿!$AD$59=\"〇\",OFFSET(登録名簿!$C$59,0,4,,),\"\")","v":""}]
[null,50,null,{"$f":"IF(登録名簿!$AA$60=\"〇\",登録名簿!$C$60,\"\")","v":""},{"$f":"IF(登録名簿!$AA$60=\"〇\",OFFSET(登録名簿!$C$60,0,2,,),\"\")","v":""},{"$f":"IF(登録名簿!$AA$60=\"〇\",OFFSET(登録名簿!$C$60,0,4,,),\"\")","v":""},null,null,null,null,null,null,null,null,null,null,null,null,null,null,null,null,null,null,null,null,null,null,50,null,{"$f":"IF(登録名簿!$AB$60=\"〇\",登録名簿!$C$60,\"\")","v":""},{"$f":"IF(登録名簿!$AB$60=\"〇\",OFFSET(登録名簿!$C$60,0,2,,),\"\")","v":""},{"$f":"IF(登録名簿!$AB$60=\"〇\",OFFSET(登録名簿!$C$60,0,4,,),\"\")","v":""},null,null,null,null,null,null,null,null,null,null,null,null,null,null,null,null,null,null,null,null,null,null,50,null,{"$f":"IF(登録名簿!$AC$60=\"〇\",登録名簿!$C$60,\"\")","v":""},{"$f":"IF(登録名簿!$AC$60=\"〇\",OFFSET(登録名簿!$C$60,0,2,,),\"\")","v":""},{"$f":"IF(登録名簿!$AC$60=\"〇\",OFFSET(登録名簿!$C$60,0,4,,),\"\")","v":""},null,null,null,null,null,null,null,null,null,null,null,null,null,null,null,null,null,null,null,null,null,null,50,null,{"$f":"IF(登録名簿!$AD$60=\"〇\",登録名簿!$C$60,\"\")","v":""},{"$f":"IF(登録名簿!$AD$60=\"〇\",OFFSET(登録名簿!$C$60,0,2,,),\"\")","v":""},{"$f":"IF(登録名簿!$AD$60=\"〇\",OFFSET(登録名簿!$C$60,0,4,,),\"\")","v":""}]
[null,"ＮＯ記入注意",null,"監督・コーチ・マネージャーは黄色いところにクラブ登録名簿の左端ＮＯを入れる",null,null,null,null,null,null,null,null,null,null,null,null,null,null,null,null,null,null,null,null,null,null,null,null,"ＮＯ記入注意",null,"監督・コーチ・マネージャーは黄色いところにクラブ登録名簿の左端ＮＯを入れる",null,null,null,null,null,null,null,null,null,null,null,null,null,null,null,null,null,null,null,null,null,null,null,null,"ＮＯ記入注意",null,"監督・コーチ・マネージャーは黄色いところにクラブ登録名簿の左端ＮＯを入れる",null,null,null,null,null,null,null,null,null,null,null,null,null,null,null,null,null,null,null,null,null,null,null,null,"ＮＯ記入注意",null,"監督・コーチ・マネージャーは黄色いところにクラブ登録名簿の左端ＮＯを入れる"]
[null,"ＮＯ記入注意",null,"主審、副審、記録係は水色のところにクラブ登録名簿の左端NOを入れる。",null,null,null,null,null,null,null,null,null,null,null,null,null,null,null,null,null,null,null,null,null,null,null,null,"ＮＯ記入注意",null,"主審、副審、記録係は水色のところにクラブ登録名簿の左端NOを入れる。",null,null,null,null,null,null,null,null,null,null,null,null,null,null,null,null,null,null,null,null,null,null,null,null,"ＮＯ記入注意",null,"主審、副審、記録係は水色のところにクラブ登録名簿の左端NOを入れる。",null,null,null,null,null,null,null,null,null,null,null,null,null,null,null,null,null,null,null,null,null,null,null,null,"ＮＯ記入注意",null,"主審、副審、記録係は水色のところにクラブ登録名簿の左端NOを入れる。"]

{"sheet":"⑤１１．２2（３6回秋季大会）","index":5,"n_rows":93,"n_cols":106,"rows_kept":93,"cut":false,"hidden":false,"merged":[[15,90,15,91],[16,90,16,91],[11,90,11,91],[12,90,12,91],[13,90,13,91],[21,84,21,85],[22,84,22,85],[23,84,23,85],[0,93,0,94],[8,84,8,85],[0,97,0,98],[0,101,0,102],[0,105,0,106],[1,93,1,98],[1,101,1,106],[2,93,2,98],[2,101,2,106],[3,93,3,98],[3,101,3,106],[9,95,9,98],[9,101,9,102],[9,103,9,106],[1,74,1,79],[2,66,2,71],[2,74,2,79],[9,84,9,85],[27,84,27,85],[28,84,28,85],[10,93,10,94],[10,95,10,98],[10,101,10,102],[10,103,10,106],[10,84,10,85],[11,84,11,85],[12,84,12,85],[5,95,5,98],[5,103,5,106],[8,93,8,94],[8,95,8,98],[8,101,8,102],[8,103,8,106],[9,93,9,94],[14,90,14,91],[29,84,29,85],[30,84,30,85],[31,84,31,85],[26,84,26,85],[13,84,13,85],[14,84,14,85],[15,84,15,85],[16,84,16,85],[17,84,17,85],[18,84,18,85],[28,57,28,58],[29,57,29,58],[30,57,30,58],[31,57,31,58],[3,66,3,71],[3,74,3,79],[5,68,5,71],[5,76,5,79],[8,66,8,67],[8,68,8,71],[8,74,8,75],[8,76,8,79],[9,66,9,67],[9,68,9,71],[9,74,9,75],[9,76,9,79],[10,66,10,67],[10,68,10,71],[10,74,10,75],[10,76,10,79],[14,57,14,58],[15,57,15,58],[16,57,16,58],[17,57,17,58],[18,57,18,58],[19,57,19,58],[20,57,20,58],[21,57,21,58],[22,57,22,58],[0,39,0,40],[0,43,0,44],[0,47,0,48],[0,51,0,52],[1,39,1,44],[1,47,1,52],[2,39,2,44],[2,47,2,52],[8,57,8,58],[9,57,9,58],[10,57,10,58],[11,57,11,58],[12,57,12,58],[13,57,13,58],[30,30,30,31],[31,30,31,31],[3,39,3,44],[3,47,3,52],[5,41,5,44],[5,49,5,52],[8,39,8,40],[8,41,8,44],[8,47,8,48],[8,49,8,52],[9,39,9,40],[9,41,9,44],[9,47,9,48],[9,49,9,52],[10,39,10,40],[10,41,10,44],[10,47,10,48],[10,49,10,52],[18,30,18,31],[19,30,19,31],[20,30,20,31],[9,30,9,31],[10,30,10,31],[11,30,11,31],[12,30,12,31],[13,30,13,31],[14,30,14,31],[15,30,15,31],[16,30,16,31],[17,30,17,31],[0,12,0,13],[0,16,0,17],[0,20,0,21],[0,24,0,25],[1,12,1,17],[1,20,1,25],[2,12,2,17],[2,20,2,25],[8,30,8,31],[31,3,31,4],[3,12,3,17],[3,20,3,25],[5,14,5,17],[5,22,5,25],[8,12,8,13],[8,14,8,17],[8,20,8,21],[8,22,8,25],[9,12,9,13],[9,14,9,17],[9,20,9,21],[9,22,9,25],[10,12,10,13],[10,14,10,17],[10,20,10,21],[10,22,10,25],[10,3,10,4],[11,3,11,4],[12,3,12,4],[13,3,13,4],[14,3,14,4],[15,3,15,4],[16,3,16,4],[17,3,17,4],[18,3,18,4],[37,89,37,91],[38,89,38,91],[29,90,29,91],[30,90,30,91],[31,90,31,91],[22,90,22,91],[26,90,26,91],[27,90,27,91],[28,90,28,91],[23,90,23,91],[24,90,24,91],[25,90,25,91],[33,84,33,85],[33,87,33,88],[33,90,33,91],[20,90,20,91],[21,90,21,91],[17,90,17,91],[18,90,18,91],[19,90,19,91],[19,84,19,85],[20,84,20,85],[38,62,38,64],[0,84,0,91],[1,86,1,87],[1,90,1,91],[2,82,2,91],[3,84,3,91],[31,63,31,64],[26,63,26,64],[27,63,27,64],[8,63,8,64],[9,63,9,64],[16,63,16,64],[17,63,17,64],[18,63,18,64],[13,63,13,64],[14,63,14,64],[15,63,15,64],[34,87,34,88],[34,90,34,91],[0,66,0,67],[0,70,0,71],[0,74,0,75],[0,78,0,79],[1,66,1,71],[33,63,33,64],[37,62,37,64],[8,90,8,91],[9,90,9,91],[10,90,10,91],[4,84,4,86],[4,87,5,87],[4,89,4,91],[5,84,5,86],[5,88,5,91],[6,84,6,86],[6,88,6,91],[22,63,22,64],[23,63,23,64],[24,63,24,64],[19,63,19,64],[20,63,20,64],[21,63,21,64],[28,63,28,64],[29,63,29,64],[30,63,30,64],[25,63,25,64],[24,84,24,85],[25,84,25,85],[33,33,33,34],[33,36,33,37],[37,35,37,37],[38,35,38,37],[0,57,0,64],[29,36,29,37],[30,36,30,37],[31,36,31,37],[1,59,1,60],[1,63,1,64],[2,55,2,64],[3,57,3,64],[4,57,4,59],[4,60,5,60],[4,62,4,64],[5,57,5,59],[5,61,5,64],[10,63,10,64],[11,63,11,64],[12,63,12,64],[6,57,6,59],[6,61,6,64],[33,57,33,58],[33,60,33,61],[20,36,20,37],[21,36,21,37],[22,36,22,37],[17,36,17,37],[18,36,18,37],[19,36,19,37],[26,36,26,37],[28,9,28,10],[29,9,29,10],[25,9,25,10],[25,36,25,37],[21,30,21,31],[22,30,22,31],[23,30,23,31],[24,30,24,31],[25,30,25,31],[26,30,26,31],[27,30,27,31],[28,30,28,31],[29,30,29,31],[8,36,8,37],[9,36,9,37],[10,36,10,37],[14,36,14,37],[15,36,15,37],[16,36,16,37],[11,36,11,37],[12,36,12,37],[13,36,13,37],[38,8,38,10],[0,30,0,37],[1,32,1,33],[1,36,1,37],[2,28,2,37],[3,30,3,37],[31,9,31,10],[4,30,4,32],[4,33,5,33],[4,35,4,37],[5,30,5,32],[5,34,5,37],[6,30,6,32],[6,34,6,37],[27,36,27,37],[28,36,28,37],[23,36,23,37],[24,36,24,37],[16,9,16,10],[17,9,17,10],[18,9,18,10],[13,9,13,10],[33,9,33,10],[37,8,37,10],[14,9,14,10],[15,9,15,10],[22,9,22,10],[23,9,23,10],[24,9,24,10],[19,9,19,10],[20,9,20,10],[21,9,21,10],[10,9,10,10],[11,9,11,10],[12,9,12,10],[6,3,6,5],[6,7,6,10],[8,9,8,10],[9,9,9,10],[0,3,0,10],[1,5,1,6],[1,9,1,10],[2,1,2,10],[3,3,3,10],[4,3,4,5],[4,6,5,6],[4,8,4,10],[5,3,5,5],[5,7,5,10],[8,3,8,4],[9,3,9,4],[19,3,19,4],[20,3,20,4],[21,3,21,4],[22,3,22,4],[23,3,23,4],[24,3,24,4],[25,3,25,4],[26,3,26,4],[27,3,27,4],[28,3,28,4],[29,3,29,4],[30,3,30,4],[23,57,23,58],[24,57,24,58],[25,57,25,58],[26,57,26,58],[27,57,27,58],[34,84,34,85],[34,3,34,4],[34,6,34,7],[34,9,34,10],[34,30,34,31],[34,33,34,34],[34,36,34,37],[34,57,34,58],[34,60,34,61],[34,63,34,64],[26,9,26,10],[27,9,27,10],[33,3,33,4],[33,6,33,7],[30,9,30,10],[33,30,33,31]]}
[null,"【R8年度】",null,"第36回秋季トリムバレ-ボ-ル大会　　【参加申込書】",null,null,null,null,null,null,null,null,{"$f":"B1","v":"【R8年度】"},null,null,null,"2026-11-22",null,null,null,{"$f":"B1","v":"【R8年度】"},null,null,null,{"$f":"Q1","v":"2026-11-22"},null,null,null,{"$f":"B1","v":"【R8年度】"},null,{"$f":"D1","v":"第36回秋季トリムバレ-ボ-ル大会　　【参加申込書】"},null,null,null,null,null,null,null,null,{"$f":"B1","v":"【R8年度】"},null,null,null,{"$f":"Q1","v":"2026-11-22"},null,null,null,{"$f":"B1","v":"【R8年度】"},null,null,null,{"$f":"AR1","v":"2026-11-22"},null,null,null,{"$f":"B1","v":"【R8年度】"},null,{"$f":"D1","v":"第36回秋季トリムバレ-ボ-ル大会　　【参加申込書】"},null,null,null,null,null,null,null,null,{"$f":"B1","v":"【R8年度】"},null,null,null,{"$f":"AZ1","v":"2026-11-22"},null,null,null,{"$f":"B1","v":"【R8年度】"},null,null,null,{"$f":"BS1","v":"2026-11-22"},null,null,null,{"$f":"AC1","v":"【R8年度】"},null,{"$f":"AE1","v":"第36回秋季トリムバレ-ボ-ル大会　　【参加申込書】"},null,null,null,null,null,null,null,null,{"$f":"B1","v":"【R8年度】"},null,null,null,{"$f":"CA1","v":"2026-11-22"},null,null,null,{"$f":"B1","v":"【R8年度】"},null,null,null,{"$f":"CT1","v":"2026-11-22"}]
[null,null,null,null,"開催日:","2026-11-22",null,{"$f":"WEEKDAY(F2,1)","v":1},"申込日:",null,null,null,"　　　第３6回",null,null,null,null,null,null,null,{"$f":"M2","v":"　　　第３6回"},null,null,null,null,null,null,null,null,null,null,"開催日:",{"$f":"F2","v":"2026-11-22"},null,{"$f":"WEEKDAY(AG2,1)","v":1},"申込日:",null,null,null,{"$f":"M2","v":"　　　第３6回"},null,null,null,null,null,null,null,{"$f":"M2","v":"　　　第３6回"},null,null,null,null,null,null,null,null,null,null,"開催日:",{"$f":"F2","v":"2026-11-22"},null,{"$f":"WEEKDAY(BH2,1)","v":1},"申込日:",null,null,null,{"$f":"AV2","v":"　　　第３6回"},null,null,null,null,null,null,null,{"$f":"BO2","v":"　　　第３6回"},null,null,null,null,null,null,null,null,null,null,"開催日:",{"$f":"AG2","v":"2026-11-22"},null,{"$f":"WEEKDAY(CI2,1)","v":1},"申込日:",null,null,null,{"$f":"BW2","v":"　　　第３6回"},null,null,null,null,null,null,null,{"$f":"CP2","v":"　　　第３6回"}]
[null,"下記メンバーを登録し、表記トリムバレーボール大会の参加を申し込みます。",null,null,null,null,null,null,null,null,null,null,"秋季トリムバレ-ボ-ル大会",null,null,null,null,null,null,null,{"$f":"M3","v":"秋季トリムバレ-ボ-ル大会"},null,null,null,null,null,null,null,"下記メンバーを登録し、表記トリムバレーボール大会の参加を申し込みます。",null,null,null,null,null,null,null,null,null,null,{"$f":"M3","v":"秋季トリムバレ-ボ-ル大会"},null,null,null,null,null,null,null,{"$f":"AN3","v":"秋季トリムバレ-ボ-ル大会"},null,null,null,null,null,null,null,"下記メンバーを登録し、表記トリムバレーボール大会の参加を申し込みます。",null,null,null,null,null,null,null,null,null,null,{"$f":"AV3","v":"秋季トリムバレ-ボ-ル大会"},null,null,null,null,null,null,null,{"$f":"BO3","v":"秋季トリムバレ-ボ-ル大会"},null,null,null,null,null,null,null,"下記メンバーを登録し、表記トリムバレーボール大会の参加を申し込みます。",null,null,null,null,null,null,null,null,null,null,{"$f":"BW3","v":"秋季トリムバレ-ボ-ル大会"},null,null,null,null,null,null,null,{"$f":"CP3","v":"秋季トリムバレ-ボ-ル大会"}]
[null,"種　　　目",null,"シ　ル　バ　ー　　　　",null,null,null,null,null,null,null,null,"構成メンバー表",null,null,null,null,null,null,null,"構成メンバー表",null,null,null,null,null,null,null,"種　　　目",null,"ゴ　ー　ル　ド　　A　",null,null,null,null,null,null,null,null,"構成メンバー表",null,null,null,null,null,null,null,"構成メンバー表",null,null,null,null,null,null,null,"種　　　目",null,"ゴ　ー　ル　ド　　B　",null,null,null,null,null,null,null,null,"構成メンバー表",null,null,null,null,null,null,null,"構成メンバー表",null,null,null,null,null,null,null,"種　　　目",null,"ゴ　ー　ル　ド　　C",null,null,null,null,null,null,null,null,"構成メンバー表",null,null,null,null,null,null,null,"構成メンバー表"]
[null,"チーム名",null,null,null,null,"住　 所","　〒",null,null,null,null,null,null,null,null,null,null,null,null,null,null,null,null,null,null,null,null,"チーム名",null,null,null,null,"住　 所","　〒",null,null,null,null,null,null,null,null,null,null,null,null,null,null,null,null,null,null,null,null,"チーム名",null,null,null,null,"住　 所","　〒",null,null,null,null,null,null,null,null,null,null,null,null,null,null,null,null,null,null,null,null,"チーム名",null,null,null,null,"住　 所","　〒"]
[null,"代 表 者",null,{"$f":"登録名簿!J4","v":0},null,null,null,{"$f":"登録名簿!J6","v":0},null,null,null,null,"チーム名",null,{"$f":"D5","v":0},null,null,null,null,null,"チーム名",null,{"$f":"D5","v":0},null,null,null,null,null,"代 表 者",null,{"$f":"登録名簿!J4","v":0},null,null,null,{"$f":"登録名簿!J6","v":0},null,null,null,null,"チーム名",null,{"$f":"AE5","v":0},null,null,null,null,null,"チーム名",null,{"$f":"AE5","v":0},null,null,null,null,null,"代 表 者",null,{"$f":"登録名簿!J4","v":0},null,null,null,{"$f":"登録名簿!J6","v":0},null,null,null,null,"チーム名",null,{"$f":"BF5","v":0},null,null,null,null,null,"チーム名",null,{"$f":"BF5","v":0},null,null,null,null,null,"代 表 者",null,{"$f":"登録名簿!J4","v":0},null,null,null,{"$f":"登録名簿!J6","v":0},null,null,null,null,"チーム名",null,{"$f":"CG5","v":0},null,null,null,null,null,"チーム名",null,{"$f":"CG5","v":0}]
[null,"T  E  L",null,{"$f":"登録名簿!J7","v":0},null,null,"mail",{"$f":"登録名簿!J8","v":0},null,null,null,null,null,null,null,null,null,null,null,null,null,null,null,null,null,null,null,null,"T  E  L",null,{"$f":"登録名簿!J7","v":0},null,null,"mail",{"$f":"登録名簿!J8","v":0},null,null,null,null,null,null,null,null,null,null,null,null,null,null,null,null,null,null,null,null,"T  E  L",null,{"$f":"登録名簿!J7","v":0},null,null,"mail",{"$f":"登録名簿!J8","v":0},null,null,null,null,null,null,null,null,null,null,null,null,null,null,null,null,null,null,null,null,"T  E  L",null,{"$f":"登録名簿!J7","v":0},null,null,"mail",{"$f":"登録名簿!J8","v":0}]
[]
["※下記に注釈","No.",null,"氏　　　　名",null,"背番号","性　別","年　齢","申告欄","摘　　　　要",null,null,"監督",null,{"$f":"IFERROR(VLOOKUP(A10, 登録名簿!A11:G60, 3, FALSE), \"\")","v":""},null,null,null,null,null,"監督",null,{"$f":"IFERROR(VLOOKUP(A10, 登録名簿!A11:G60, 3, FALSE), \"\")","v":""},null,null,null,null,"※下記に注釈","No.",null,"氏　　　　名",null,"背番号","性　別","年　齢","申告欄","摘　　　　要",null,null,"監督",null,{"$f":"IFERROR(VLOOKUP(AB10, 登録名簿!AB11:AH60, 3, FALSE), \"\")","v":""},null,null,null,null,null,"監督",null,{"$f":"IFERROR(VLOOKUP(AA10, 登録名簿!AA11:AG60, 3, FALSE), \"\")","v":""},null,null,null,null,"※下記に注釈","No.",null,"氏　　　　名",null,"背番号","性　別","年　齢","申告欄","摘　　　　要",null,null,"監督",null,{"$f":"IFERROR(VLOOKUP(BB10, 登録名簿!BB11:BH60, 3, FALSE), \"\")","v":""},null,null,null,null,null,"監督",null,{"$f":"IFERROR(VLOOKUP(BB10, 登録名簿!BB11:BH60, 3, FALSE), \"\")","v":""},null,null,null,null,"※下記に注釈","No.",null,"氏　　　　名",null,"背番号","性　別","年　齢","申告欄","摘　　　　要",null,null,"監督",null,{"$f":"IFERROR(VLOOKUP(CC10, 登録名簿!CC11:CI60, 3, FALSE), \"\")","v":""},null,null,null,null,null,"監督",null,{"$f":"IFERROR(VLOOKUP(CC10, 登録名簿!CC11:CI60, 3, FALSE), \"\")","v":""}]
[null,"監　　　督",{"$f":"F10","v":0},{"$f":"IFERROR(VLOOKUP(A10, 登録名簿!A11:G60, 3, FALSE), \"\")","v":""},null,{"$f":"IFERROR(VLOOKUP(D10, D13:F32, 3, FALSE), \"\")","v":0},{"$f":"IFERROR(VLOOKUP(A10, 登録名簿!A11:G60, 5, FALSE), \"\")","v":""},{"$f":"IFERROR(VLOOKUP(A10, 登録名簿!A11:G60, 7, FALSE), \"\")","v":""},null,null,null,null,"コーチ",null,{"$f":"IFERROR(VLOOKUP(A11, 登録名簿!A11:G60, 3, FALSE), \"\")","v":""},null,null,null,null,null,"コーチ",null,{"$f":"IFERROR(VLOOKUP(A11, 登録名簿!A11:G60, 3, FALSE), \"\")","v":""},null,null,null,null,null,"監　　　督",{"$f":"AG10","v":0},{"$f":"IFERROR(VLOOKUP(AB10, 登録名簿!A11:G60, 3, FALSE), \"\")","v":""},null,{"$f":"IFERROR(VLOOKUP(AE10, AE13:AG32, 3, FALSE), \"\")","v":0},{"$f":"IFERROR(VLOOKUP(AB10, 登録名簿!A11:G60, 5, FALSE), \"\")","v":""},{"$f":"IFERROR(VLOOKUP(AB10, 登録名簿!A11:G60, 7, FALSE), \"\")","v":""},null,null,null,null,"コーチ",null,{"$f":"IFERROR(VLOOKUP(AB11, 登録名簿!AB11:AH60, 3, FALSE), \"\")","v":""},null,null,null,null,null,"コーチ",null,{"$f":"IFERROR(VLOOKUP(AA11, 登録名簿!AA11:AG60, 3, FALSE), \"\")","v":""},null,null,null,null,null,"監　　　督",{"$f":"BH10","v":0},{"$f":"IFERROR(VLOOKUP(BC10, 登録名簿!A11:G60, 3, FALSE), \"\")","v":""},null,{"$f":"IFERROR(VLOOKUP(BF10, BF13:BH32, 3, FALSE), \"\")","v":0},{"$f":"IFERROR(VLOOKUP(BC10, 登録名簿!A11:G60, 5, FALSE), \"\")","v":""},{"$f":"IFERROR(VLOOKUP(BC10, 登録名簿!A11:G60, 7, FALSE), \"\")","v":""},null,null,null,null,"コーチ",null,{"$f":"IFERROR(VLOOKUP(BB11, 登録名簿!BB11:BH60, 3, FALSE), \"\")","v":""},null,null,null,null,null,"コーチ",null,{"$f":"IFERROR(VLOOKUP(BB11, 登録名簿!BB11:BH60, 3, FALSE), \"\")","v":""},null,null,null,null,null,"監　　　督",{"$f":"CI10","v":0},{"$f":"IFERROR(VLOOKUP(CD10, 登録名簿!A11:G60, 3, FALSE), \"\")","v":""},null,{"$f":"IFERROR(VLOOKUP(CG10, CG13:CI32, 3, FALSE), \"\")","v":0},{"$f":"IFERROR(VLOOKUP(CD10, 登録名簿!A11:G60, 5, FALSE), \"\")","v":""},{"$f":"IFERROR(VLOOKUP(CD10, 登録名簿!A11:G60,7, FALSE), \"\")","v":""},null,null,null,null,"コーチ",null,{"$f":"IFERROR(VLOOKUP(CC11, 登録名簿!CC11:CI60, 3, FALSE), \"\")","v":""},null,null,null,null,null,"コーチ",null,{"$f":"IFERROR(VLOOKUP(CC11, 登録名簿!CC11:CI60, 3, FALSE), \"\")","v":""}]
[null,"コ　ー　チ",{"$f":"F11","v":0},{"$f":"IFERROR(VLOOKUP(A11, 登録名簿!A11:G60, 3, FALSE), \"\")","v":""},null,{"$f":"IFERROR(VLOOKUP(D11, D13:F32, 3, FALSE), \"\")","v":0},{"$f":"IFERROR(VLOOKUP(A11, 登録名簿!A11:G60, 5, FALSE), \"\")","v":""},{"$f":"IFERROR(VLOOKUP(A11, 登録名簿!A11:G60, 7, FALSE), \"\")","v":""},null,null,null,null,"マネージャー",null,{"$f":"IFERROR(VLOOKUP(A12, 登録名簿!A11:G60, 3, FALSE), \"\")","v":""},null,null,null,null,null,"マネージャー",null,{"$f":"IFERROR(VLOOKUP(A12, 登録名簿!A11:G60, 3, FALSE), \"\")","v":""},null,null,null,null,null,"コ　ー　チ",{"$f":"AG11","v":0},{"$f":"IFERROR(VLOOKUP(AB11, 登録名簿!A11:G60, 3, FALSE), \"\")","v":""},null,{"$f":"IFERROR(VLOOKUP(AE11, AE13:AG32, 3, FALSE), \"\")","v":0},{"$f":"IFERROR(VLOOKUP(AB11, 登録名簿!A11:G60, 5, FALSE), \"\")","v":""},{"$f":"IFERROR(VLOOKUP(AB11, 登録名簿!A11:G60, 7, FALSE), \"\")","v":""},null,null,null,null,"マネージャー",null,{"$f":"IFERROR(VLOOKUP(AB12, 登録名簿!AB11:AH60, 3, FALSE), \"\")","v":""},null,null,null,null,null,"マネージャー",null,{"$f":"IFERROR(VLOOKUP(AA12, 登録名簿!AA11:AG60, 3, FALSE), \"\")","v":""},null,null,null,null,null,"コ　ー　チ",{"$f":"BH11","v":0},{"$f":"IFERROR(VLOOKUP(BC11, 登録名簿!A11:G60, 3, FALSE), \"\")","v":""},null,{"$f":"IFERROR(VLOOKUP(BF11, BF13:BH32, 3, FALSE), \"\")","v":0},{"$f":"IFERROR(VLOOKUP(BC11, 登録名簿!A11:G60, 5, FALSE), \"\")","v":""},{"$f":"IFERROR(VLOOKUP(BC11, 登録名簿!A11:G60, 7, FALSE), \"\")","v":""},null,null,null,null,"マネージャー",null,{"$f":"IFERROR(VLOOKUP(BB12, 登録名簿!BB11:BH60, 3, FALSE), \"\")","v":""},null,null,null,null,null,"マネージャー",null,{"$f":"IFERROR(VLOOKUP(BB12, 登録名簿!BB11:BH60, 3, FALSE), \"\")","v":""},null,null,null,null,null,"コ　ー　チ",{"$f":"CI11","v":0},{"$f":"IFERROR(VLOOKUP(CD11, 登録名簿!A11:G60, 3, FALSE), \"\")","v":""},null,{"$f":"IFERROR(VLOOKUP(CG11, CG13:CI32, 3, FALSE), \"\")","v":0},{"$f":"IFERROR(VLOOKUP(CD11, 登録名簿!A11:G60, 5, FALSE), \"\")","v":""},{"$f":"IFERROR(VLOOKUP(CD11, 登録名簿!A11:G60, 7, FALSE), \"\")","v":""},null,null,null,null,"マネージャー",null,{"$f":"IFERROR(VLOOKUP(CC12, 登録名簿!CC11:CI60, 3, FALSE), \"\")","v":""},null,null,null,null,null,"マネージャー",null,{"$f":"IFERROR(VLOOKUP(CC12, 登録名簿!CC11:CI60, 3, FALSE), \"\")","v":""}]
[null,"マネージャー",0,{"$f":"IFERROR(VLOOKUP(A12, 登録名簿!A11:G60, 3, FALSE), \"\")","v":""},null,{"$f":"IFERROR(VLOOKUP(D12, D13:F32, 3, FALSE), \"\")","v":0},{"$f":"IFERROR(VLOOKUP(A12, 登録名簿!A11:G60, 5, FALSE), \"\")","v":""},{"$f":"IFERROR(VLOOKUP(A12, 登録名簿!A11:G60, 7, FALSE), \"\")","v":""},null,null,null,null,null,null,null,null,null,null,null,null,null,null,null,null,null,null,null,null,"マネージャー",0,{"$f":"IFERROR(VLOOKUP(AB12, 登録名簿!A11:G60, 3, FALSE), \"\")","v":""},null,{"$f":"IFERROR(VLOOKUP(AE12, AE13:AG32, 3, FALSE), \"\")","v":0},{"$f":"IFERROR(VLOOKUP(AB12, 登録名簿!A11:G60, 5, FALSE), \"\")","v":""},{"$f":"IFERROR(VLOOKUP(AB12, 登録名簿!A11:G60, 7, FALSE), \"\")","v":""},null,null,null,null,null,null,null,null,null,null,null,null,null,null,null,null,null,null,null,null,"マネージャー",0,{"$f":"IFERROR(VLOOKUP(BC12, 登録名簿!A11:G60, 3, FALSE), \"\")","v":""},null,{"$f":"IFERROR(VLOOKUP(BF12, BF13:BH32, 3, FALSE), \"\")","v":0},{"$f":"IFERROR(VLOOKUP(BC12, 登録名簿!A11:G60, 5, FALSE), \"\")","v":""},{"$f":"IFERROR(VLOOKUP(BC12, 登録名簿!A11:G60, 7, FALSE), \"\")","v":""},null,null,null,null,null,null,null,null,null,null,null,null,null,null,null,null,null,null,null,null,"マネージャー",0,{"$f":"IFERROR(VLOOKUP(CD12, 登録名簿!A11:G60, 3, FALSE), \"\")","v":""},null,{"$f":"IFERROR(VLOOKUP(CG12, CG13:CI32, 3, FALSE), \"\")","v":0},{"$f":"IFERROR(VLOOKUP(CD12, 登録名簿!A11:G60, 5, FALSE), \"\")","v":""},{"$f":"IFERROR(VLOOKUP(CD12, 登録名簿!A11:G60, 7, FALSE), \"\")","v":""}]
[null,"選手　1",{"$f":"F13","v":0},{"$f":"IFERROR(INDEX($D$42:$D$91, SMALL(IF($D$42:$D$91<>\"\", ROW($D$42:$D$91)-ROW($D$42)+1), ROW(A1))), \"\")","v":""},null,null,{"$f":"IFERROR(INDEX($E$42:$E$91, SMALL(IF($E$42:$E$91<>\"\", ROW($E$42:$E$91)-ROW($E$42)+1), ROW(E1))), \"\")","v":""},{"$f":"IFERROR(INDEX($F$42:$F$91, SMALL(IF($F$42:$F$91<>\"\", ROW($F$42:$F$91)-ROW($F$42)+1), ROW(B1))), \"\")","v":""},null,null,null,null,"背番号","キ","競技者氏名","性別","年齢",null,null,null,"背番号","キ","競技者氏名","性別","年齢",null,null,null,"選手　1",{"$f":"AG13","v":0},{"$f":"IFERROR(INDEX($AE$42:$AE$91, SMALL(IF($AE$42:$AE$91<>\"\", ROW($AE$42:$AE$91)-ROW($AE$42)+1), ROW(A1))), \"\")","v":""},null,null,{"$f":"IFERROR(INDEX($AF$42:$AF$91, SMALL(IF($AF$42:$AF$91<>\"\", ROW($AF$42:$AF$91)-ROW($AF$42)+1), ROW(A1))), \"\")","v":""},{"$f":"IFERROR(INDEX($AG$42:$AG$91, SMALL(IF($AG$42:$AG$91<>\"\", ROW($AG$42:$AG$91)-ROW($AG$42)+1), ROW(B1))), \"\")","v":""},null,null,null,null,"背番号","キ","競技者氏名","性別","年齢",null,null,null,"背番号","キ","競技者氏名","性別","年齢",null,null,null,"選手　1",0,{"$f":"IFERROR(INDEX($BF$42:$BF$91, SMALL(IF($BF$42:$BF$91<>\"\", ROW($BF$42:$BF$91)-ROW($BF$42)+1), ROW(BC1))), \"\")","v":""},null,null,{"$f":"IFERROR(INDEX($BG$42:$BG$91, SMALL(IF($BG$42:$BG$91<>\"\", ROW($BG$42:$BG$91)-ROW($BG$42)+1), ROW(AB1))), \"\")","v":""},{"$f":"IFERROR(INDEX($BH$42:$BH$91, SMALL(IF($BH$42:$BH$91<>\"\", ROW($BH$42:$BH$91)-ROW($BH$42)+1), ROW(AC1))), \"\")","v":""},null,null,null,null,"背番号","キ","競技者氏名","性別","年齢",null,null,null,"背番号","キ","競技者氏名","性別","年齢",null,null,null,"選手　1",{"$f":"CI13","v":0},{"$f":"IFERROR(INDEX($CG$42:$CG$91, SMALL(IF($CG$42:$CG$91<>\"\", ROW($CG$42:$CG$91)-ROW($CG$42)+1), ROW(CD1))), \"\")","v":""},null,null,{"$f":"IFERROR(INDEX($CH$42:$CH$91, SMALL(IF($CH$42:$CH$91<>\"\", ROW($CH$42:$CH$91)-ROW($CH$42)+1), ROW(BC1))), \"\")","v":""},{"$f":"IFERROR(INDEX($CI$42:$CI$91, SMALL(IF($CI$42:$CI$91<>\"\", ROW($CI$42:$CI$91)-ROW($CI$42)+1), ROW(BD1))), \"\")","v":""},null,null,null,null,"背番号","キ","競技者氏名","性別","年齢",null,null,null,"背番号","キ","競技者氏名","性別","年齢"]
[null,"選手　2",{"$f":"F14","v":0},{"$f":"IFERROR(INDEX($D$42:$D$91, SMALL(IF($D$42:$D$91<>\"\", ROW($D$42:$D$91)-ROW($D$42)+1), ROW(A2))), \"\")","v":""},null,null,{"$f":"IFERROR(INDEX($E$42:$E$91, SMALL(IF($E$42:$E$91<>\"\", ROW($E$42:$E$91)-ROW($E$42)+1), ROW(A2))), \"\")","v":""},{"$f":"IFERROR(INDEX($F$42:$F$91, SMALL(IF($F$42:$F$91<>\"\", ROW($F$42:$F$91)-ROW($F$42)+1), ROW(B2))), \"\")","v":""},null,null,null,null,1,null,{"$f":"IFERROR(VLOOKUP(M14, C13:H32, 2, FALSE), \"\")","v":""},{"$f":"IFERROR(VLOOKUP(M14, C13:H32, 5, FALSE), \"\")","v":""},{"$f":"IFERROR(VLOOKUP(M14, C13:H32, 6, FALSE), \"\")","v":""},null,null,null,1,{"$f":"IF(N14>0,N14,\"\")","v":""},{"$f":"IF(O14>0,O14,\"\")","v":""},"","",null,null,null,"選手　2",{"$f":"AG14","v":0},{"$f":"IFERROR(INDEX($AE$42:$AE$91, SMALL(IF($AE$42:$AE$91<>\"\", ROW($AE$42:$AE$91)-ROW($AE$42)+1), ROW(A2))), \"\")","v":""},null,null,{"$f":"IFERROR(INDEX($AF$42:$AF$91, SMALL(IF($AF$42:$AF$91<>\"\", ROW($AF$42:$AF$91)-ROW($AF$42)+1), ROW(A2))), \"\")","v":""},{"$f":"IFERROR(INDEX($AG$42:$AG$91, SMALL(IF($AG$42:$AG$91<>\"\", ROW($AG$42:$AG$91)-ROW($AG$42)+1), ROW(B2))), \"\")","v":""},null,null,null,null,1,null,{"$f":"IFERROR(VLOOKUP(AN14, AD13:AI32, 2, FALSE), \"\")","v":""},{"$f":"IFERROR(VLOOKUP(AN14, AD13:AI32, 5, FALSE), \"\")","v":""},{"$f":"IFERROR(VLOOKUP(AN14, AD13:AI32, 6, FALSE), \"\")","v":""},null,null,null,1,{"$f":"IF(AO14>0,AO14,\"\")","v":""},{"$f":"IF(AP14>0,AP14,\"\")","v":""},"","",null,null,null,"選手　2",0,{"$f":"IFERROR(INDEX($BF$42:$BF$91, SMALL(IF($BF$42:$BF$91<>\"\", ROW($BF$42:$BF$91)-ROW($BF$42)+1), ROW(BC2))), \"\")","v":""},null,null,{"$f":"IFERROR(INDEX($BG$42:$BG$91, SMALL(IF($BG$42:$BG$91<>\"\", ROW($BG$42:$BG$91)-ROW($BG$42)+1), ROW(AB2))), \"\")","v":""},{"$f":"IFERROR(INDEX($BH$42:$BH$91, SMALL(IF($BH$42:$BH$91<>\"\", ROW($BH$42:$BH$91)-ROW($BH$42)+1), ROW(AC2))), \"\")","v":""},null,null,null,null,1,null,{"$f":"IFERROR(VLOOKUP(BO14, BE13:BJ32, 2, FALSE), \"\")","v":""},{"$f":"IFERROR(VLOOKUP(BO14, BE13:BJ32, 5, FALSE), \"\")","v":""},{"$f":"IFERROR(VLOOKUP(BO14, BE13:BJ32, 6, FALSE), \"\")","v":""},null,null,null,1,{"$f":"IF(BP14>0,BP14,\"\")","v":""},{"$f":"IF(BQ14>0,BQ14,\"\")","v":""},"","",null,null,null,"選手　2",{"$f":"CI14","v":0},{"$f":"IFERROR(INDEX($CG$42:$CG$91, SMALL(IF($CG$42:$CG$91<>\"\", ROW($CG$42:$CG$91)-ROW($CG$42)+1), ROW(CD2))), \"\")","v":""},null,null,{"$f":"IFERROR(INDEX($CH$42:$CH$91, SMALL(IF($CH$42:$CH$91<>\"\", ROW($CH$42:$CH$91)-ROW($CH$42)+1), ROW(BC2))), \"\")","v":""},{"$f":"IFERROR(INDEX($CI$42:$CI$91, SMALL(IF($CI$42:$CI$91<>\"\", ROW($CI$42:$CI$91)-ROW($CI$42)+1), ROW(BD2))), \"\")","v":""},null,null,null,null,1,null,{"$f":"IFERROR(VLOOKUP(CP14, CF13:CK32, 2, FALSE), \"\")","v":""},{"$f":"IFERROR(VLOOKUP(CP14, CF13:CK32, 5, FALSE), \"\")","v":""},{"$f":"IFERROR(VLOOKUP(CP14, CF13:CK32, 6, FALSE), \"\")","v":""},null,null,null,1,{"$f":"IF(CQ14>0,CQ14,\"\")","v":""},{"$f":"IF(CR14>0,CR14,\"\")","v":""},"",""]
[null,"選手　3",0,{"$f":"IFERROR(INDEX($D$42:$D$91, SMALL(IF($D$42:$D$91<>\"\", ROW($D$42:$D$91)-ROW($D$42)+1), ROW(A3))), \"\")","v":""},null,null,{"$f":"IFERROR(INDEX($E$42:$E$91, SMALL(IF($E$42:$E$91<>\"\", ROW($E$42:$E$91)-ROW($E$42)+1), ROW(A3))), \"\")","v":""},{"$f":"IFERROR(INDEX($F$42:$F$91, SMALL(IF($F$42:$F$91<>\"\", ROW($F$42:$F$91)-ROW($F$42)+1), ROW(B3))), \"\")","v":""},null,null,null,null,2,null,{"$f":"IFERROR(VLOOKUP(M15,C13:H32, 2, FALSE), \"\")","v":""},{"$f":"IFERROR(VLOOKUP(M15, C13:H32, 5, FALSE), \"\")","v":""},{"$f":"IFERROR(VLOOKUP(M15, C13:H32, 6, FALSE), \"\")","v":""},null,null,null,2,{"$f":"IF(N15>0,N15,\"\")","v":""},"","","",null,null,null,"選手　3",0,{"$f":"IFERROR(INDEX($AE$42:$AE$91, SMALL(IF($AE$42:$AE$91<>\"\", ROW($AE$42:$AE$91)-ROW($AE$42)+1), ROW(A3))), \"\")","v":""},null,null,{"$f":"IFERROR(INDEX($AF$42:$AF$91, SMALL(IF($AF$42:$AF$91<>\"\", ROW($AF$42:$AF$91)-ROW($AF$42)+1), ROW(A3))), \"\")","v":""},{"$f":"IFERROR(INDEX($AG$42:$AG$91, SMALL(IF($AG$42:$AG$91<>\"\", ROW($AG$42:$AG$91)-ROW($AG$42)+1), ROW(B3))), \"\")","v":""},null,null,null,null,2,null,{"$f":"IFERROR(VLOOKUP(AN15,AD13:AI32, 2, FALSE), \"\")","v":""},{"$f":"IFERROR(VLOOKUP(AN15, AD13:AI32, 5, FALSE), \"\")","v":""},{"$f":"IFERROR(VLOOKUP(AN15, AD13:AI32, 6, FALSE), \"\")","v":""},null,null,null,2,{"$f":"IF(AO15>0,AO15,\"\")","v":""},"","","",null,null,null,"選手　3",0,{"$f":"IFERROR(INDEX($BF$42:$BF$91, SMALL(IF($BF$42:$BF$91<>\"\", ROW($BF$42:$BF$91)-ROW($BF$42)+1), ROW(BC3))), \"\")","v":""},null,null,{"$f":"IFERROR(INDEX($BG$42:$BG$91, SMALL(IF($BG$42:$BG$91<>\"\", ROW($BG$42:$BG$91)-ROW($BG$42)+1), ROW(AB3))), \"\")","v":""},{"$f":"IFERROR(INDEX($BH$42:$BH$91, SMALL(IF($BH$42:$BH$91<>\"\", ROW($BH$42:$BH$91)-ROW($BH$42)+1), ROW(AC3))), \"\")","v":""},null,null,null,null,2,null,{"$f":"IFERROR(VLOOKUP(BO15,BE13:BJ32, 2, FALSE), \"\")","v":""},{"$f":"IFERROR(VLOOKUP(BO15, BE13:BJ32, 5, FALSE), \"\")","v":""},{"$f":"IFERROR(VLOOKUP(BO15, BE13:BJ32, 6, FALSE), \"\")","v":""},null,null,null,2,{"$f":"IF(BP15>0,BP15,\"\")","v":""},"","","",null,null,null,"選手　3",0,{"$f":"IFERROR(INDEX($CG$42:$CG$91, SMALL(IF($CG$42:$CG$91<>\"\", ROW($CG$42:$CG$91)-ROW($CG$42)+1), ROW(CD3))), \"\")","v":""},null,null,{"$f":"IFERROR(INDEX($CH$42:$CH$91, SMALL(IF($CH$42:$CH$91<>\"\", ROW($CH$42:$CH$91)-ROW($CH$42)+1), ROW(BC3))), \"\")","v":""},{"$f":"IFERROR(INDEX($CI$42:$CI$91, SMALL(IF($CI$42:$CI$91<>\"\", ROW($CI$42:$CI$91)-ROW($CI$42)+1), ROW(BD3))), \"\")","v":""},null,null,null,null,2,null,{"$f":"IFERROR(VLOOKUP(CP15,CF13:CK32, 2, FALSE), \"\")","v":""},{"$f":"IFERROR(VLOOKUP(CP15, CF13:CK32, 5, FALSE), \"\")","v":""},{"$f":"IFERROR(VLOOKUP(CP15, CF13:CK32, 6, FALSE), \"\")","v":""},null,null,null,2,{"$f":"IF(CQ15>0,CQ15,\"\")","v":""},"","",""]
[null,"選手　4",0,{"$f":"IFERROR(INDEX($D$42:$D$91, SMALL(IF($D$42:$D$91<>\"\", ROW($D$42:$D$91)-ROW($D$42)+1), ROW(A4))), \"\")","v":""},null,null,{"$f":"IFERROR(INDEX($E$42:$E$91, SMALL(IF($E$42:$E$91<>\"\", ROW($E$42:$E$91)-ROW($E$42)+1), ROW(A4))), \"\")","v":""},{"$f":"IFERROR(INDEX($F$42:$F$91, SMALL(IF($F$42:$F$91<>\"\", ROW($F$42:$F$91)-ROW($F$42)+1), ROW(B4))), \"\")","v":""},null,null,null,null,3,null,{"$f":"IFERROR(VLOOKUP(M16, C13:H32, 2, FALSE), \"\")","v":""},{"$f":"IFERROR(VLOOKUP(M16, C13:H32, 5, FALSE), \"\")","v":""},{"$f":"IFERROR(VLOOKUP(M16, C13:H32, 6, FALSE), \"\")","v":""},null,null,null,3,"","","","",null,null,null,"選手　4",0,{"$f":"IFERROR(INDEX($AE$42:$AE$91, SMALL(IF($AE$42:$AE$91<>\"\", ROW($AE$42:$AE$91)-ROW($AE$42)+1), ROW(A4))), \"\")","v":""},null,null,{"$f":"IFERROR(INDEX($AF$42:$AF$91, SMALL(IF($AF$42:$AF$91<>\"\", ROW($AF$42:$AF$91)-ROW($AF$42)+1), ROW(A4))), \"\")","v":""},{"$f":"IFERROR(INDEX($AG$42:$AG$91, SMALL(IF($AG$42:$AG$91<>\"\", ROW($AG$42:$AG$91)-ROW($AG$42)+1), ROW(B4))), \"\")","v":""},null,null,null,null,3,null,{"$f":"IFERROR(VLOOKUP(AN16, AD13:AI32, 2, FALSE), \"\")","v":""},{"$f":"IFERROR(VLOOKUP(AN16, AD13:AI32, 5, FALSE), \"\")","v":""},{"$f":"IFERROR(VLOOKUP(AN16, AD13:AI32, 6, FALSE), \"\")","v":""},null,null,null,3,"","","","",null,null,null,"選手　4",0,{"$f":"IFERROR(INDEX($BF$42:$BF$91, SMALL(IF($BF$42:$BF$91<>\"\", ROW($BF$42:$BF$91)-ROW($BF$42)+1), ROW(BC4))), \"\")","v":""},null,null,{"$f":"IFERROR(INDEX($BG$42:$BG$91, SMALL(IF($BG$42:$BG$91<>\"\", ROW($BG$42:$BG$91)-ROW($BG$42)+1), ROW(AB4))), \"\")","v":""},{"$f":"IFERROR(INDEX($BH$42:$BH$91, SMALL(IF($BH$42:$BH$91<>\"\", ROW($BH$42:$BH$91)-ROW($BH$42)+1), ROW(AC4))), \"\")","v":""},null,null,null,null,3,null,{"$f":"IFERROR(VLOOKUP(BO16, BE13:BJ32, 2, FALSE), \"\")","v":""},{"$f":"IFERROR(VLOOKUP(BO16, BE13:BJ32, 5, FALSE), \"\")","v":""},{"$f":"IFERROR(VLOOKUP(BO16, BE13:BJ32, 6, FALSE), \"\")","v":""},null,null,null,3,"","","","",null,null,null,"選手　4",0,{"$f":"IFERROR(INDEX($CG$42:$CG$91, SMALL(IF($CG$42:$CG$91<>\"\", ROW($CG$42:$CG$91)-ROW($CG$42)+1), ROW(CD4))), \"\")","v":""},null,null,{"$f":"IFERROR(INDEX($CH$42:$CH$91, SMALL(IF($CH$42:$CH$91<>\"\", ROW($CH$42:$CH$91)-ROW($CH$42)+1), ROW(BC4))), \"\")","v":""},{"$f":"IFERROR(INDEX($CI$42:$CI$91, SMALL(IF($CI$42:$CI$91<>\"\", ROW($CI$42:$CI$91)-ROW($CI$42)+1), ROW(BD4))), \"\")","v":""},null,null,null,null,3,null,{"$f":"IFERROR(VLOOKUP(CP16, CF13:CK32, 2, FALSE), \"\")","v":""},{"$f":"IFERROR(VLOOKUP(CP16, CF13:CK32, 5, FALSE), \"\")","v":""},{"$f":"IFERROR(VLOOKUP(CP16, CF13:CK32, 6, FALSE), \"\")","v":""},null,null,null,3,"","","",""]
[null,"選手　5",0,{"$f":"IFERROR(INDEX($D$42:$D$91, SMALL(IF($D$42:$D$91<>\"\", ROW($D$42:$D$91)-ROW($D$42)+1), ROW(A5))), \"\")","v":""},null,null,{"$f":"IFERROR(INDEX($E$42:$E$91, SMALL(IF($E$42:$E$91<>\"\", ROW($E$42:$E$91)-ROW($E$42)+1), ROW(A5))), \"\")","v":""},{"$f":"IFERROR(INDEX($F$42:$F$91, SMALL(IF($F$42:$F$91<>\"\", ROW($F$42:$F$91)-ROW($F$42)+1), ROW(B5))), \"\")","v":""},null,null,null,null,4,null,{"$f":"IFERROR(VLOOKUP(M17, C13:H32, 2, FALSE), \"\")","v":""},{"$f":"IFERROR(VLOOKUP(M17, C13:H32, 5, FALSE), \"\")","v":""},{"$f":"IFERROR(VLOOKUP(M17, C13:H32, 6, FALSE), \"\")","v":""},null,null,null,4,"","","","",null,null,null,"選手　5",0,{"$f":"IFERROR(INDEX($AE$42:$AE$91, SMALL(IF($AE$42:$AE$91<>\"\", ROW($AE$42:$AE$91)-ROW($AE$42)+1), ROW(A5))), \"\")","v":""},null,null,{"$f":"IFERROR(INDEX($AF$42:$AF$91, SMALL(IF($AF$42:$AF$91<>\"\", ROW($AF$42:$AF$91)-ROW($AF$42)+1), ROW(A5))), \"\")","v":""},{"$f":"IFERROR(INDEX($AG$42:$AG$91, SMALL(IF($AG$42:$AG$91<>\"\", ROW($AG$42:$AG$91)-ROW($AG$42)+1), ROW(B5))), \"\")","v":""},null,null,null,null,4,null,{"$f":"IFERROR(VLOOKUP(AN17, AD13:AI32, 2, FALSE), \"\")","v":""},{"$f":"IFERROR(VLOOKUP(AN17, AD13:AI32, 5, FALSE), \"\")","v":""},{"$f":"IFERROR(VLOOKUP(AN17, AD13:AI32, 6, FALSE), \"\")","v":""},null,null,null,4,"","","","",null,null,null,"選手　5",0,{"$f":"IFERROR(INDEX($BF$42:$BF$91, SMALL(IF($BF$42:$BF$91<>\"\", ROW($BF$42:$BF$91)-ROW($BF$42)+1), ROW(BC5))), \"\")","v":""},null,null,{"$f":"IFERROR(INDEX($BG$42:$BG$91, SMALL(IF($BG$42:$BG$91<>\"\", ROW($BG$42:$BG$91)-ROW($BG$42)+1), ROW(AB5))), \"\")","v":""},{"$f":"IFERROR(INDEX($BH$42:$BH$91, SMALL(IF($BH$42:$BH$91<>\"\", ROW($BH$42:$BH$91)-ROW($BH$42)+1), ROW(AC5))), \"\")","v":""},null,null,null,null,4,null,{"$f":"IFERROR(VLOOKUP(BO17, BE13:BJ32, 2, FALSE), \"\")","v":""},{"$f":"IFERROR(VLOOKUP(BO17, BE13:BJ32, 5, FALSE), \"\")","v":""},{"$f":"IFERROR(VLOOKUP(BO17, BE13:BJ32, 6, FALSE), \"\")","v":""},null,null,null,4,"","","","",null,null,null,"選手　5",0,{"$f":"IFERROR(INDEX($CG$42:$CG$91, SMALL(IF($CG$42:$CG$91<>\"\", ROW($CG$42:$CG$91)-ROW($CG$42)+1), ROW(CD5))), \"\")","v":""},null,null,{"$f":"IFERROR(INDEX($CH$42:$CH$91, SMALL(IF($CH$42:$CH$91<>\"\", ROW($CH$42:$CH$91)-ROW($CH$42)+1), ROW(BC5))), \"\")","v":""},{"$f":"IFERROR(INDEX($CI$42:$CI$91, SMALL(IF($CI$42:$CI$91<>\"\", ROW($CI$42:$CI$91)-ROW($CI$42)+1), ROW(BD5))), \"\")","v":""},null,null,null,null,4,null,{"$f":"IFERROR(VLOOKUP(CP17, CF13:CK32, 2, FALSE), \"\")","v":""},{"$f":"IFERROR(VLOOKUP(CP17, CF13:CK32, 5, FALSE), \"\")","v":""},{"$f":"IFERROR(VLOOKUP(CP17, CF13:CK32, 6, FALSE), \"\")","v":""},null,null,null,4,"","","",""]
[null,"選手　6",0,{"$f":"IFERROR(INDEX($D$42:$D$91, SMALL(IF($D$42:$D$91<>\"\", ROW($D$42:$D$91)-ROW($D$42)+1), ROW(A6))), \"\")","v":""},null,null,{"$f":"IFERROR(INDEX($E$42:$E$91, SMALL(IF($E$42:$E$91<>\"\", ROW($E$42:$E$91)-ROW($E$42)+1), ROW(A6))), \"\")","v":""},{"$f":"IFERROR(INDEX($F$42:$F$91, SMALL(IF($F$42:$F$91<>\"\", ROW($F$42:$F$91)-ROW($F$42)+1), ROW(B6))), \"\")","v":""},null,null,null,null,5,null,{"$f":"IFERROR(VLOOKUP(M18, C13:H32, 2, FALSE), \"\")","v":""},{"$f":"IFERROR(VLOOKUP(M18, C13:H32, 5, FALSE), \"\")","v":""},{"$f":"IFERROR(VLOOKUP(M18, C13:H32, 6, FALSE), \"\")","v":""},null,null,null,5,"","","","",null,null,null,"選手　6",0,{"$f":"IFERROR(INDEX($AE$42:$AE$91, SMALL(IF($AE$42:$AE$91<>\"\", ROW($AE$42:$AE$91)-ROW($AE$42)+1), ROW(A6))), \"\")","v":""},null,null,{"$f":"IFERROR(INDEX($AF$42:$AF$91, SMALL(IF($AF$42:$AF$91<>\"\", ROW($AF$42:$AF$91)-ROW($AF$42)+1), ROW(A6))), \"\")","v":""},{"$f":"IFERROR(INDEX($AG$42:$AG$91, SMALL(IF($AG$42:$AG$91<>\"\", ROW($AG$42:$AG$91)-ROW($AG$42)+1), ROW(B6))), \"\")","v":""},null,null,null,null,5,null,{"$f":"IFERROR(VLOOKUP(AN18, AD13:AI32, 2, FALSE), \"\")","v":""},{"$f":"IFERROR(VLOOKUP(AN18, AD13:AI32, 5, FALSE), \"\")","v":""},{"$f":"IFERROR(VLOOKUP(AN18, AD13:AI32, 6, FALSE), \"\")","v":""},null,null,null,5,"","","","",null,null,null,"選手　6",0,{"$f":"IFERROR(INDEX($BF$42:$BF$91, SMALL(IF($BF$42:$BF$91<>\"\", ROW($BF$42:$BF$91)-ROW($BF$42)+1), ROW(BC6))), \"\")","v":""},null,null,{"$f":"IFERROR(INDEX($BG$42:$BG$91, SMALL(IF($BG$42:$BG$91<>\"\", ROW($BG$42:$BG$91)-ROW($BG$42)+1), ROW(AB6))), \"\")","v":""},{"$f":"IFERROR(INDEX($BH$42:$BH$91, SMALL(IF($BH$42:$BH$91<>\"\", ROW($BH$42:$BH$91)-ROW($BH$42)+1), ROW(AC6))), \"\")","v":""},null,null,null,null,5,null,{"$f":"IFERROR(VLOOKUP(BO18, BE13:BJ32, 2, FALSE), \"\")","v":""},{"$f":"IFERROR(VLOOKUP(BO18, BE13:BJ32, 5, FALSE), \"\")","v":""},{"$f":"IFERROR(VLOOKUP(BO18, BE13:BJ32, 6, FALSE), \"\")","v":""},null,null,null,5,"","","","",null,null,null,"選手　6",0,{"$f":"IFERROR(INDEX($CG$42:$CG$91, SMALL(IF($CG$42:$CG$91<>\"\", ROW($CG$42:$CG$91)-ROW($CG$42)+1), ROW(CD6))), \"\")","v":""},null,null,{"$f":"IFERROR(INDEX($CH$42:$CH$91, SMALL(IF($CH$42:$CH$91<>\"\", ROW($CH$42:$CH$91)-ROW($CH$42)+1), ROW(BC6))), \"\")","v":""},{"$f":"IFERROR(INDEX($CI$42:$CI$91, SMALL(IF($CI$42:$CI$91<>\"\", ROW($CI$42:$CI$91)-ROW($CI$42)+1), ROW(BD6))), \"\")","v":""},null,null,null,null,5,null,{"$f":"IFERROR(VLOOKUP(CP18, CF13:CK32, 2, FALSE), \"\")","v":""},{"$f":"IFERROR(VLOOKUP(CP18, CF13:CK32, 5, FALSE), \"\")","v":""},{"$f":"IFERROR(VLOOKUP(CP18, CF13:CK32, 6, FALSE), \"\")","v":""},null,null,null,5,"","","",""]
[null,"選手　7",0,{"$f":"IFERROR(INDEX($D$42:$D$91, SMALL(IF($D$42:$D$91<>\"\", ROW($D$42:$D$91)-ROW($D$42)+1), ROW(A7))), \"\")","v":""},null,null,{"$f":"IFERROR(INDEX($E$42:$E$91, SMALL(IF($E$42:$E$91<>\"\", ROW($E$42:$E$91)-ROW($E$42)+1), ROW(A7))), \"\")","v":""},{"$f":"IFERROR(INDEX($F$42:$F$91, SMALL(IF($F$42:$F$91<>\"\", ROW($F$42:$F$91)-ROW($F$42)+1), ROW(B7))), \"\")","v":""},null,null,null,null,6,null,{"$f":"IFERROR(VLOOKUP(M19, C13:H32, 2, FALSE), \"\")","v":""},{"$f":"IFERROR(VLOOKUP(M19, C13:H32, 5, FALSE), \"\")","v":""},{"$f":"IFERROR(VLOOKUP(M19, C13:H32, 6, FALSE), \"\")","v":""},null,null,null,6,"","","","",null,null,null,"選手　7",0,{"$f":"IFERROR(INDEX($AE$42:$AE$91, SMALL(IF($AE$42:$AE$91<>\"\", ROW($AE$42:$AE$91)-ROW($AE$42)+1), ROW(A7))), \"\")","v":""},null,null,{"$f":"IFERROR(INDEX($AF$42:$AF$91, SMALL(IF($AF$42:$AF$91<>\"\", ROW($AF$42:$AF$91)-ROW($AF$42)+1), ROW(A7))), \"\")","v":""},{"$f":"IFERROR(INDEX($AG$42:$AG$91, SMALL(IF($AG$42:$AG$91<>\"\", ROW($AG$42:$AG$91)-ROW($AG$42)+1), ROW(B7))), \"\")","v":""},null,null,null,null,6,null,{"$f":"IFERROR(VLOOKUP(AN19, AD13:AI32, 2, FALSE), \"\")","v":""},{"$f":"IFERROR(VLOOKUP(AN19, AD13:AI32, 5, FALSE), \"\")","v":""},{"$f":"IFERROR(VLOOKUP(AN19, AD13:AI32, 6, FALSE), \"\")","v":""},null,null,null,6,"","","","",null,null,null,"選手　7",0,{"$f":"IFERROR(INDEX($BF$42:$BF$91, SMALL(IF($BF$42:$BF$91<>\"\", ROW($BF$42:$BF$91)-ROW($BF$42)+1), ROW(BC7))), \"\")","v":""},null,null,{"$f":"IFERROR(INDEX($BG$42:$BG$91, SMALL(IF($BG$42:$BG$91<>\"\", ROW($BG$42:$BG$91)-ROW($BG$42)+1), ROW(AB7))), \"\")","v":""},{"$f":"IFERROR(INDEX($BH$42:$BH$91, SMALL(IF($BH$42:$BH$91<>\"\", ROW($BH$42:$BH$91)-ROW($BH$42)+1), ROW(AC7))), \"\")","v":""},null,null,null,null,6,null,{"$f":"IFERROR(VLOOKUP(BO19, BE13:BJ32, 2, FALSE), \"\")","v":""},{"$f":"IFERROR(VLOOKUP(BO19, BE13:BJ32, 5, FALSE), \"\")","v":""},{"$f":"IFERROR(VLOOKUP(BO19, BE13:BJ32, 6, FALSE), \"\")","v":""},null,null,null,6,"","","","",null,null,null,"選手　7",0,{"$f":"IFERROR(INDEX($CG$42:$CG$91, SMALL(IF($CG$42:$CG$91<>\"\", ROW($CG$42:$CG$91)-ROW($CG$42)+1), ROW(CD7))), \"\")","v":""},null,null,{"$f":"IFERROR(INDEX($CH$42:$CH$91, SMALL(IF($CH$42:$CH$91<>\"\", ROW($CH$42:$CH$91)-ROW($CH$42)+1), ROW(BC7))), \"\")","v":""},{"$f":"IFERROR(INDEX($CI$42:$CI$91, SMALL(IF($CI$42:$CI$91<>\"\", ROW($CI$42:$CI$91)-ROW($CI$42)+1), ROW(BD7))), \"\")","v":""},null,null,null,null,6,null,{"$f":"IFERROR(VLOOKUP(CP19, CF13:CK32, 2, FALSE), \"\")","v":""},{"$f":"IFERROR(VLOOKUP(CP19, CF13:CK32, 5, FALSE), \"\")","v":""},{"$f":"IFERROR(VLOOKUP(CP19, CF13:CK32, 6, FALSE), \"\")","v":""},null,null,null,6,"","","",""]
[null,"選手　8",0,{"$f":"IFERROR(INDEX($D$42:$D$91, SMALL(IF($D$42:$D$91<>\"\", ROW($D$42:$D$91)-ROW($D$42)+1), ROW(A8))), \"\")","v":""},null,null,{"$f":"IFERROR(INDEX($E$42:$E$91, SMALL(IF($E$42:$E$91<>\"\", ROW($E$42:$E$91)-ROW($E$42)+1), ROW(A8))), \"\")","v":""},{"$f":"IFERROR(INDEX($F$42:$F$91, SMALL(IF($F$42:$F$91<>\"\", ROW($F$42:$F$91)-ROW($F$42)+1), ROW(B8))), \"\")","v":""},null,null,null,null,7,null,{"$f":"IFERROR(VLOOKUP(M20, C13:H32, 2, FALSE), \"\")","v":""},{"$f":"IFERROR(VLOOKUP(M20, C13:H32, 5, FALSE), \"\")","v":""},{"$f":"IFERROR(VLOOKUP(M20, C13:H32, 6, FALSE), \"\")","v":""},null,null,null,7,"","","","",null,null,null,"選手　8",0,{"$f":"IFERROR(INDEX($AE$42:$AE$91, SMALL(IF($AE$42:$AE$91<>\"\", ROW($AE$42:$AE$91)-ROW($AE$42)+1), ROW(A8))), \"\")","v":""},null,null,{"$f":"IFERROR(INDEX($AF$42:$AF$91, SMALL(IF($AF$42:$AF$91<>\"\", ROW($AF$42:$AF$91)-ROW($AF$42)+1), ROW(A8))), \"\")","v":""},{"$f":"IFERROR(INDEX($AG$42:$AG$91, SMALL(IF($AG$42:$AG$91<>\"\", ROW($AG$42:$AG$91)-ROW($AG$42)+1), ROW(B8))), \"\")","v":""},null,null,null,null,7,null,{"$f":"IFERROR(VLOOKUP(AN20, AD13:AI32, 2, FALSE), \"\")","v":""},{"$f":"IFERROR(VLOOKUP(AN20, AD13:AI32, 5, FALSE), \"\")","v":""},{"$f":"IFERROR(VLOOKUP(AN20, AD13:AI32, 6, FALSE), \"\")","v":""},null,null,null,7,"","","","",null,null,null,"選手　8",0,{"$f":"IFERROR(INDEX($BF$42:$BF$91, SMALL(IF($BF$42:$BF$91<>\"\", ROW($BF$42:$BF$91)-ROW($BF$42)+1), ROW(BC8))), \"\")","v":""},null,null,{"$f":"IFERROR(INDEX($BG$42:$BG$91, SMALL(IF($BG$42:$BG$91<>\"\", ROW($BG$42:$BG$91)-ROW($BG$42)+1), ROW(AB8))), \"\")","v":""},{"$f":"IFERROR(INDEX($BH$42:$BH$91, SMALL(IF($BH$42:$BH$91<>\"\", ROW($BH$42:$BH$91)-ROW($BH$42)+1), ROW(AC8))), \"\")","v":""},null,null,null,null,7,null,{"$f":"IFERROR(VLOOKUP(BO20, BE13:BJ32, 2, FALSE), \"\")","v":""},{"$f":"IFERROR(VLOOKUP(BO20, BE13:BJ32, 5, FALSE), \"\")","v":""},{"$f":"IFERROR(VLOOKUP(BO20, BE13:BJ32, 6, FALSE), \"\")","v":""},null,null,null,7,"","","","",null,null,null,"選手　8",0,{"$f":"IFERROR(INDEX($CG$42:$CG$91, SMALL(IF($CG$42:$CG$91<>\"\", ROW($CG$42:$CG$91)-ROW($CG$42)+1), ROW(CD8))), \"\")","v":""},null,null,{"$f":"IFERROR(INDEX($CH$42:$CH$91, SMALL(IF($CH$42:$CH$91<>\"\", ROW($CH$42:$CH$91)-ROW($CH$42)+1), ROW(BC8))), \"\")","v":""},{"$f":"IFERROR(INDEX($CI$42:$CI$91, SMALL(IF($CI$42:$CI$91<>\"\", ROW($CI$42:$CI$91)-ROW($CI$42)+1), ROW(BD8))), \"\")","v":""},null,null,null,null,7,null,{"$f":"IFERROR(VLOOKUP(CP20, CF13:CK32, 2, FALSE), \"\")","v":""},{"$f":"IFERROR(VLOOKUP(CP20, CF13:CK32, 5, FALSE), \"\")","v":""},{"$f":"IFERROR(VLOOKUP(CP20, CF13:CK32, 6, FALSE), \"\")","v":""},null,null,null,7,"","","",""]
[null,"選手　9",0,{"$f":"IFERROR(INDEX($D$42:$D$91, SMALL(IF($D$42:$D$91<>\"\", ROW($D$42:$D$91)-ROW($D$42)+1), ROW(A9))), \"\")","v":""},null,null,{"$f":"IFERROR(INDEX($E$42:$E$91, SMALL(IF($E$42:$E$91<>\"\", ROW($E$42:$E$91)-ROW($E$42)+1), ROW(A9))), \"\")","v":""},{"$f":"IFERROR(INDEX($F$42:$F$91, SMALL(IF($F$42:$F$91<>\"\", ROW($F$42:$F$91)-ROW($F$42)+1), ROW(B9))), \"\")","v":""},null,null,null,null,8,null,{"$f":"IFERROR(VLOOKUP(M21, C13:H32, 2, FALSE), \"\")","v":""},{"$f":"IFERROR(VLOOKUP(M21, C13:H32, 5, FALSE), \"\")","v":""},{"$f":"IFERROR(VLOOKUP(M21, C13:H32, 6, FALSE), \"\")","v":""},null,null,null,8,"","","","",null,null,null,"選手　9",0,{"$f":"IFERROR(INDEX($AE$42:$AE$91, SMALL(IF($AE$42:$AE$91<>\"\", ROW($AE$42:$AE$91)-ROW($AE$42)+1), ROW(A9))), \"\")","v":""},null,null,{"$f":"IFERROR(INDEX($AF$42:$AF$91, SMALL(IF($AF$42:$AF$91<>\"\", ROW($AF$42:$AF$91)-ROW($AF$42)+1), ROW(A9))), \"\")","v":""},{"$f":"IFERROR(INDEX($AG$42:$AG$91, SMALL(IF($AG$42:$AG$91<>\"\", ROW($AG$42:$AG$91)-ROW($AG$42)+1), ROW(B9))), \"\")","v":""},null,null,null,null,8,null,{"$f":"IFERROR(VLOOKUP(AN21, AD13:AI32, 2, FALSE), \"\")","v":""},{"$f":"IFERROR(VLOOKUP(AN21, AD13:AI32, 5, FALSE), \"\")","v":""},{"$f":"IFERROR(VLOOKUP(AN21, AD13:AI32, 6, FALSE), \"\")","v":""},null,null,null,8,"","","","",null,null,null,"選手　9",0,{"$f":"IFERROR(INDEX($BF$42:$BF$91, SMALL(IF($BF$42:$BF$91<>\"\", ROW($BF$42:$BF$91)-ROW($BF$42)+1), ROW(BC9))), \"\")","v":""},null,null,{"$f":"IFERROR(INDEX($BG$42:$BG$91, SMALL(IF($BG$42:$BG$91<>\"\", ROW($BG$42:$BG$91)-ROW($BG$42)+1), ROW(AB9))), \"\")","v":""},{"$f":"IFERROR(INDEX($BH$42:$BH$91, SMALL(IF($BH$42:$BH$91<>\"\", ROW($BH$42:$BH$91)-ROW($BH$42)+1), ROW(AC9))), \"\")","v":""},null,null,null,null,8,null,{"$f":"IFERROR(VLOOKUP(BO21, BE13:BJ32, 2, FALSE), \"\")","v":""},{"$f":"IFERROR(VLOOKUP(BO21, BE13:BJ32, 5, FALSE), \"\")","v":""},{"$f":"IFERROR(VLOOKUP(BO21, BE13:BJ32, 6, FALSE), \"\")","v":""},null,null,null,8,"","","","",null,null,null,"選手　9",0,{"$f":"IFERROR(INDEX($CG$42:$CG$91, SMALL(IF($CG$42:$CG$91<>\"\", ROW($CG$42:$CG$91)-ROW($CG$42)+1), ROW(CD9))), \"\")","v":""},null,null,{"$f":"IFERROR(INDEX($CH$42:$CH$91, SMALL(IF($CH$42:$CH$91<>\"\", ROW($CH$42:$CH$91)-ROW($CH$42)+1), ROW(BC9))), \"\")","v":""},{"$f":"IFERROR(INDEX($CI$42:$CI$91, SMALL(IF($CI$42:$CI$91<>\"\", ROW($CI$42:$CI$91)-ROW($CI$42)+1), ROW(BD9))), \"\")","v":""},null,null,null,null,8,null,{"$f":"IFERROR(VLOOKUP(CP21, CF13:CK32, 2, FALSE), \"\")","v":""},{"$f":"IFERROR(VLOOKUP(CP21, CF13:CK32, 5, FALSE), \"\")","v":""},{"$f":"IFERROR(VLOOKUP(CP21, CF13:CK32, 6, FALSE), \"\")","v":""},null,null,null,8,"","","",""]
[null,"選手　10",0,{"$f":"IFERROR(INDEX($D$42:$D$91, SMALL(IF($D$42:$D$91<>\"\", ROW($D$42:$D$91)-ROW($D$42)+1), ROW(A10))), \"\")","v":""},null,null,{"$f":"IFERROR(INDEX($E$42:$E$91, SMALL(IF($E$42:$E$91<>\"\", ROW($E$42:$E$91)-ROW($E$42)+1), ROW(A10))), \"\")","v":""},{"$f":"IFERROR(INDEX($F$42:$F$91, SMALL(IF($F$42:$F$91<>\"\", ROW($F$42:$F$91)-ROW($F$42)+1), ROW(B10))), \"\")","v":""},null,null,null,null,9,null,{"$f":"IFERROR(VLOOKUP(M22, C13:H32, 2, FALSE), \"\")","v":""},{"$f":"IFERROR(VLOOKUP(M22, C13:H32, 5, FALSE), \"\")","v":""},{"$f":"IFERROR(VLOOKUP(M22, C13:H32, 6, FALSE), \"\")","v":""},null,null,null,9,"","","","",null,null,null,"選手　10",0,{"$f":"IFERROR(INDEX($AE$42:$AE$91, SMALL(IF($AE$42:$AE$91<>\"\", ROW($AE$42:$AE$91)-ROW($AE$42)+1), ROW(A10))), \"\")","v":""},null,null,{"$f":"IFERROR(INDEX($AF$42:$AF$91, SMALL(IF($AF$42:$AF$91<>\"\", ROW($AF$42:$AF$91)-ROW($AF$42)+1), ROW(A10))), \"\")","v":""},{"$f":"IFERROR(INDEX($AG$42:$AG$91, SMALL(IF($AG$42:$AG$91<>\"\", ROW($AG$42:$AG$91)-ROW($AG$42)+1), ROW(B10))), \"\")","v":""},null,null,null,null,9,null,{"$f":"IFERROR(VLOOKUP(AN22, AD13:AI32, 2, FALSE), \"\")","v":""},{"$f":"IFERROR(VLOOKUP(AN22, AD13:AI32, 5, FALSE), \"\")","v":""},{"$f":"IFERROR(VLOOKUP(AN22, AD13:AI32, 6, FALSE), \"\")","v":""},null,null,null,9,"","","","",null,null,null,"選手　10",0,{"$f":"IFERROR(INDEX($BF$42:$BF$91, SMALL(IF($BF$42:$BF$91<>\"\", ROW($BF$42:$BF$91)-ROW($BF$42)+1), ROW(BC10))), \"\")","v":""},null,null,{"$f":"IFERROR(INDEX($BG$42:$BG$91, SMALL(IF($BG$42:$BG$91<>\"\", ROW($BG$42:$BG$91)-ROW($BG$42)+1), ROW(AB10))), \"\")","v":""},{"$f":"IFERROR(INDEX($BH$42:$BH$91, SMALL(IF($BH$42:$BH$91<>\"\", ROW($BH$42:$BH$91)-ROW($BH$42)+1), ROW(AC10))), \"\")","v":""},null,null,null,null,9,null,{"$f":"IFERROR(VLOOKUP(BO22, BE13:BJ32, 2, FALSE), \"\")","v":""},{"$f":"IFERROR(VLOOKUP(BO22, BE13:BJ32, 5, FALSE), \"\")","v":""},{"$f":"IFERROR(VLOOKUP(BO22, BE13:BJ32, 6, FALSE), \"\")","v":""},null,null,null,9,"","","","",null,null,null,"選手　10",0,{"$f":"IFERROR(INDEX($CG$42:$CG$91, SMALL(IF($CG$42:$CG$91<>\"\", ROW($CG$42:$CG$91)-ROW($CG$42)+1), ROW(CD10))), \"\")","v":""},null,null,{"$f":"IFERROR(INDEX($CH$42:$CH$91, SMALL(IF($CH$42:$CH$91<>\"\", ROW($CH$42:$CH$91)-ROW($CH$42)+1), ROW(BC10))), \"\")","v":""},{"$f":"IFERROR(INDEX($CI$42:$CI$91, SMALL(IF($CI$42:$CI$91<>\"\", ROW($CI$42:$CI$91)-ROW($CI$42)+1), ROW(BD10))), \"\")","v":""},null,null,null,null,9,null,{"$f":"IFERROR(VLOOKUP(CP22, CF13:CK32, 2, FALSE), \"\")","v":""},{"$f":"IFERROR(VLOOKUP(CP22, CF13:CK32, 5, FALSE), \"\")","v":""},{"$f":"IFERROR(VLOOKUP(CP22, CF13:CK32, 6, FALSE), \"\")","v":""},null,null,null,9,"","","",""]
[null,"選手　11",0,{"$f":"IFERROR(INDEX($D$42:$D$91, SMALL(IF($D$42:$D$91<>\"\", ROW($D$42:$D$91)-ROW($D$42)+1), ROW(A11))), \"\")","v":""},null,null,{"$f":"IFERROR(INDEX($E$42:$E$91, SMALL(IF($E$42:$E$91<>\"\", ROW($E$42:$E$91)-ROW($E$42)+1), ROW(A11))), \"\")","v":""},{"$f":"IFERROR(INDEX($F$42:$F$91, SMALL(IF($F$42:$F$91<>\"\", ROW($F$42:$F$91)-ROW($F$42)+1), ROW(B11))), \"\")","v":""},null,null,null,null,10,null,{"$f":"IFERROR(VLOOKUP(M23,C13:H32, 2, FALSE), \"\")","v":""},{"$f":"IFERROR(VLOOKUP(M23, C13:H32, 5, FALSE), \"\")","v":""},{"$f":"IFERROR(VLOOKUP(M23, C13:H32, 6, FALSE), \"\")","v":""},null,null,null,10,"","","","",null,null,null,"選手　11",0,{"$f":"IFERROR(INDEX($AE$42:$AE$91, SMALL(IF($AE$42:$AE$91<>\"\", ROW($AE$42:$AE$91)-ROW($AE$42)+1), ROW(A11))), \"\")","v":""},null,null,{"$f":"IFERROR(INDEX($AF$42:$AF$91, SMALL(IF($AF$42:$AF$91<>\"\", ROW($AF$42:$AF$91)-ROW($AF$42)+1), ROW(A11))), \"\")","v":""},{"$f":"IFERROR(INDEX($AG$42:$AG$91, SMALL(IF($AG$42:$AG$91<>\"\", ROW($AG$42:$AG$91)-ROW($AG$42)+1), ROW(B11))), \"\")","v":""},null,null,null,null,10,null,{"$f":"IFERROR(VLOOKUP(AN23,AD13:AI32, 2, FALSE), \"\")","v":""},{"$f":"IFERROR(VLOOKUP(AN23, AD13:AI32, 5, FALSE), \"\")","v":""},{"$f":"IFERROR(VLOOKUP(AN23, AD13:AI32, 6, FALSE), \"\")","v":""},null,null,null,10,"","","","",null,null,null,"選手　11",0,{"$f":"IFERROR(INDEX($BF$42:$BF$91, SMALL(IF($BF$42:$BF$91<>\"\", ROW($BF$42:$BF$91)-ROW($BF$42)+1), ROW(BC11))), \"\")","v":""},null,null,{"$f":"IFERROR(INDEX($BG$42:$BG$91, SMALL(IF($BG$42:$BG$91<>\"\", ROW($BG$42:$BG$91)-ROW($BG$42)+1), ROW(AB11))), \"\")","v":""},{"$f":"IFERROR(INDEX($BH$42:$BH$91, SMALL(IF($BH$42:$BH$91<>\"\", ROW($BH$42:$BH$91)-ROW($BH$42)+1), ROW(AC11))), \"\")","v":""},null,null,null,null,10,null,{"$f":"IFERROR(VLOOKUP(BO23,BE13:BJ32, 2, FALSE), \"\")","v":""},{"$f":"IFERROR(VLOOKUP(BO23, BE13:BJ32, 5, FALSE), \"\")","v":""},{"$f":"IFERROR(VLOOKUP(BO23, BE13:BJ32, 6, FALSE), \"\")","v":""},null,null,null,10,"","","","",null,null,null,"選手　11",0,{"$f":"IFERROR(INDEX($CG$42:$CG$91, SMALL(IF($CG$42:$CG$91<>\"\", ROW($CG$42:$CG$91)-ROW($CG$42)+1), ROW(CD11))), \"\")","v":""},null,null,{"$f":"IFERROR(INDEX($CH$42:$CH$91, SMALL(IF($CH$42:$CH$91<>\"\", ROW($CH$42:$CH$91)-ROW($CH$42)+1), ROW(BC11))), \"\")","v":""},{"$f":"IFERROR(INDEX($CI$42:$CI$91, SMALL(IF($CI$42:$CI$91<>\"\", ROW($CI$42:$CI$91)-ROW($CI$42)+1), ROW(BD11))), \"\")","v":""},null,null,null,null,10,null,{"$f":"IFERROR(VLOOKUP(CP23,CF13:CK32, 2, FALSE), \"\")","v":""},{"$f":"IFERROR(VLOOKUP(CP23, CF13:CK32, 5, FALSE), \"\")","v":""},{"$f":"IFERROR(VLOOKUP(CP23, CF13:CK32, 6, FALSE), \"\")","v":""},null,null,null,10,"","","",""]
[null,"選手　12",0,{"$f":"IFERROR(INDEX($D$42:$D$91, SMALL(IF($D$42:$D$91<>\"\", ROW($D$42:$D$91)-ROW($D$42)+1), ROW(A12))), \"\")","v":""},null,null,{"$f":"IFERROR(INDEX($E$42:$E$91, SMALL(IF($E$42:$E$91<>\"\", ROW($E$42:$E$91)-ROW($E$42)+1), ROW(A12))), \"\")","v":""},{"$f":"IFERROR(INDEX($F$42:$F$91, SMALL(IF($F$42:$F$91<>\"\", ROW($F$42:$F$91)-ROW($F$42)+1), ROW(B12))), \"\")","v":""},null,null,null,null,11,null,{"$f":"IFERROR(VLOOKUP(M24, C13:H32, 2, FALSE), \"\")","v":""},{"$f":"IFERROR(VLOOKUP(M24, C13:H32, 5, FALSE), \"\")","v":""},{"$f":"IFERROR(VLOOKUP(M24, C13:H32, 6, FALSE), \"\")","v":""},null,null,null,11,"","","","",null,null,null,"選手　12",0,{"$f":"IFERROR(INDEX($AE$42:$AE$91, SMALL(IF($AE$42:$AE$91<>\"\", ROW($AE$42:$AE$91)-ROW($AE$42)+1), ROW(A12))), \"\")","v":""},null,null,{"$f":"IFERROR(INDEX($AF$42:$AF$91, SMALL(IF($AF$42:$AF$91<>\"\", ROW($AF$42:$AF$91)-ROW($AF$42)+1), ROW(A12))), \"\")","v":""},{"$f":"IFERROR(INDEX($AG$42:$AG$91, SMALL(IF($AG$42:$AG$91<>\"\", ROW($AG$42:$AG$91)-ROW($AG$42)+1), ROW(B12))), \"\")","v":""},null,null,null,null,11,null,{"$f":"IFERROR(VLOOKUP(AN24, AD13:AI32, 2, FALSE), \"\")","v":""},{"$f":"IFERROR(VLOOKUP(AN24, AD13:AI32, 5, FALSE), \"\")","v":""},{"$f":"IFERROR(VLOOKUP(AN24, AD13:AI32, 6, FALSE), \"\")","v":""},null,null,null,11,"","","","",null,null,null,"選手　12",0,{"$f":"IFERROR(INDEX($BF$42:$BF$91, SMALL(IF($BF$42:$BF$91<>\"\", ROW($BF$42:$BF$91)-ROW($BF$42)+1), ROW(BC12))), \"\")","v":""},null,null,{"$f":"IFERROR(INDEX($BG$42:$BG$91, SMALL(IF($BG$42:$BG$91<>\"\", ROW($BG$42:$BG$91)-ROW($BG$42)+1), ROW(AB12))), \"\")","v":""},{"$f":"IFERROR(INDEX($BH$42:$BH$91, SMALL(IF($BH$42:$BH$91<>\"\", ROW($BH$42:$BH$91)-ROW($BH$42)+1), ROW(AC12))), \"\")","v":""},null,null,null,null,11,null,{"$f":"IFERROR(VLOOKUP(BO24, BE13:BJ32, 2, FALSE), \"\")","v":""},{"$f":"IFERROR(VLOOKUP(BO24, BE13:BJ32, 5, FALSE), \"\")","v":""},{"$f":"IFERROR(VLOOKUP(BO24, BE13:BJ32, 6, FALSE), \"\")","v":""},null,null,null,11,"","","","",null,null,null,"選手　12",0,{"$f":"IFERROR(INDEX($CG$42:$CG$91, SMALL(IF($CG$42:$CG$91<>\"\", ROW($CG$42:$CG$91)-ROW($CG$42)+1), ROW(CD12))), \"\")","v":""},null,null,{"$f":"IFERROR(INDEX($CH$42:$CH$91, SMALL(IF($CH$42:$CH$91<>\"\", ROW($CH$42:$CH$91)-ROW($CH$42)+1), ROW(BC12))), \"\")","v":""},{"$f":"IFERROR(INDEX($CI$42:$CI$91, SMALL(IF($CI$42:$CI$91<>\"\", ROW($CI$42:$CI$91)-ROW($CI$42)+1), ROW(BD12))), \"\")","v":""},null,null,null,null,11,null,{"$f":"IFERROR(VLOOKUP(CP24, CF13:CK32, 2, FALSE), \"\")","v":""},{"$f":"IFERROR(VLOOKUP(CP24, CF13:CK32, 5, FALSE), \"\")","v":""},{"$f":"IFERROR(VLOOKUP(CP24, CF13:CK32, 6, FALSE), \"\")","v":""},null,null,null,11,"","","",""]
[null,"選手　13",0,{"$f":"IFERROR(INDEX($D$42:$D$91, SMALL(IF($D$42:$D$91<>\"\", ROW($D$42:$D$91)-ROW($D$42)+1), ROW(A13))), \"\")","v":""},null,null,{"$f":"IFERROR(INDEX($E$42:$E$91, SMALL(IF($E$42:$E$91<>\"\", ROW($E$42:$E$91)-ROW($E$42)+1), ROW(A13))), \"\")","v":""},{"$f":"IFERROR(INDEX($F$42:$F$91, SMALL(IF($F$42:$F$91<>\"\", ROW($F$42:$F$91)-ROW($F$42)+1), ROW(B13))), \"\")","v":""},null,null,null,null,12,null,{"$f":"IFERROR(VLOOKUP(M25, C13:H32, 2, FALSE), \"\")","v":""},{"$f":"IFERROR(VLOOKUP(M25, C13:H32, 5, FALSE), \"\")","v":""},{"$f":"IFERROR(VLOOKUP(M25, C13:H32, 6, FALSE), \"\")","v":""},null,null,null,12,"","","","",null,null,null,"選手　13",0,{"$f":"IFERROR(INDEX($AE$42:$AE$91, SMALL(IF($AE$42:$AE$91<>\"\", ROW($AE$42:$AE$91)-ROW($AE$42)+1), ROW(A13))), \"\")","v":""},null,null,{"$f":"IFERROR(INDEX($AF$42:$AF$91, SMALL(IF($AF$42:$AF$91<>\"\", ROW($AF$42:$AF$91)-ROW($AF$42)+1), ROW(A13))), \"\")","v":""},{"$f":"IFERROR(INDEX($AG$42:$AG$91, SMALL(IF($AG$42:$AG$91<>\"\", ROW($AG$42:$AG$91)-ROW($AG$42)+1), ROW(B13))), \"\")","v":""},null,null,null,null,12,null,{"$f":"IFERROR(VLOOKUP(AN25, AD13:AI32, 2, FALSE), \"\")","v":""},{"$f":"IFERROR(VLOOKUP(AN25, AD13:AI32, 5, FALSE), \"\")","v":""},{"$f":"IFERROR(VLOOKUP(AN25, AD13:AI32, 6, FALSE), \"\")","v":""},null,null,null,12,"","","","",null,null,null,"選手　13",0,{"$f":"IFERROR(INDEX($BF$42:$BF$91, SMALL(IF($BF$42:$BF$91<>\"\", ROW($BF$42:$BF$91)-ROW($BF$42)+1), ROW(BC13))), \"\")","v":""},null,null,{"$f":"IFERROR(INDEX($BG$42:$BG$91, SMALL(IF($BG$42:$BG$91<>\"\", ROW($BG$42:$BG$91)-ROW($BG$42)+1), ROW(AB13))), \"\")","v":""},{"$f":"IFERROR(INDEX($BH$42:$BH$91, SMALL(IF($BH$42:$BH$91<>\"\", ROW($BH$42:$BH$91)-ROW($BH$42)+1), ROW(AC13))), \"\")","v":""},null,null,null,null,12,null,{"$f":"IFERROR(VLOOKUP(BO25, BE13:BJ32, 2, FALSE), \"\")","v":""},{"$f":"IFERROR(VLOOKUP(BO25, BE13:BJ32, 5, FALSE), \"\")","v":""},{"$f":"IFERROR(VLOOKUP(BO25, BE13:BJ32, 6, FALSE), \"\")","v":""},null,null,null,12,"","","","",null,null,null,"選手　13",0,{"$f":"IFERROR(INDEX($CG$42:$CG$91, SMALL(IF($CG$42:$CG$91<>\"\", ROW($CG$42:$CG$91)-ROW($CG$42)+1), ROW(CD13))), \"\")","v":""},null,null,{"$f":"IFERROR(INDEX($CH$42:$CH$91, SMALL(IF($CH$42:$CH$91<>\"\", ROW($CH$42:$CH$91)-ROW($CH$42)+1), ROW(BC13))), \"\")","v":""},{"$f":"IFERROR(INDEX($CI$42:$CI$91, SMALL(IF($CI$42:$CI$91<>\"\", ROW($CI$42:$CI$91)-ROW($CI$42)+1), ROW(BD13))), \"\")","v":""},null,null,null,null,12,null,{"$f":"IFERROR(VLOOKUP(CP25, CF13:CK32, 2, FALSE), \"\")","v":""},{"$f":"IFERROR(VLOOKUP(CP25, CF13:CK32, 5, FALSE), \"\")","v":""},{"$f":"IFERROR(VLOOKUP(CP25, CF13:CK32, 6, FALSE), \"\")","v":""},null,null,null,12,"","","",""]
[null,"選手　14",0,{"$f":"IFERROR(INDEX($D$42:$D$91, SMALL(IF($D$42:$D$91<>\"\", ROW($D$42:$D$91)-ROW($D$42)+1), ROW(A14))), \"\")","v":""},null,null,{"$f":"IFERROR(INDEX($E$42:$E$91, SMALL(IF($E$42:$E$91<>\"\", ROW($E$42:$E$91)-ROW($E$42)+1), ROW(A14))), \"\")","v":""},{"$f":"IFERROR(INDEX($F$42:$F$91, SMALL(IF($F$42:$F$91<>\"\", ROW($F$42:$F$91)-ROW($F$42)+1), ROW(B14))), \"\")","v":""},null,null,null,null,13,null,{"$f":"IFERROR(VLOOKUP(M26, C13:H32, 2, FALSE), \"\")","v":""},{"$f":"IFERROR(VLOOKUP(M26, C13:H32, 5, FALSE), \"\")","v":""},{"$f":"IFERROR(VLOOKUP(M26, C13:H32, 6, FALSE), \"\")","v":""},null,null,null,13,"","","","",null,null,null,"選手　14",0,{"$f":"IFERROR(INDEX($AE$42:$AE$91, SMALL(IF($AE$42:$AE$91<>\"\", ROW($AE$42:$AE$91)-ROW($AE$42)+1), ROW(A14))), \"\")","v":""},null,null,{"$f":"IFERROR(INDEX($AF$42:$AF$91, SMALL(IF($AF$42:$AF$91<>\"\", ROW($AF$42:$AF$91)-ROW($AF$42)+1), ROW(A14))), \"\")","v":""},{"$f":"IFERROR(INDEX($AG$42:$AG$91, SMALL(IF($AG$42:$AG$91<>\"\", ROW($AG$42:$AG$91)-ROW($AG$42)+1), ROW(B14))), \"\")","v":""},null,null,null,null,13,null,{"$f":"IFERROR(VLOOKUP(AN26, AD13:AI32, 2, FALSE), \"\")","v":""},{"$f":"IFERROR(VLOOKUP(AN26, AD13:AI32, 5, FALSE), \"\")","v":""},{"$f":"IFERROR(VLOOKUP(AN26, AD13:AI32, 6, FALSE), \"\")","v":""},null,null,null,13,"","","","",null,null,null,"選手　14",0,{"$f":"IFERROR(INDEX($BF$42:$BF$91, SMALL(IF($BF$42:$BF$91<>\"\", ROW($BF$42:$BF$91)-ROW($BF$42)+1), ROW(BC14))), \"\")","v":""},null,null,{"$f":"IFERROR(INDEX($BG$42:$BG$91, SMALL(IF($BG$42:$BG$91<>\"\", ROW($BG$42:$BG$91)-ROW($BG$42)+1), ROW(AB14))), \"\")","v":""},{"$f":"IFERROR(INDEX($BH$42:$BH$91, SMALL(IF($BH$42:$BH$91<>\"\", ROW($BH$42:$BH$91)-ROW($BH$42)+1), ROW(AC14))), \"\")","v":""},null,null,null,null,13,null,{"$f":"IFERROR(VLOOKUP(BO26, BE13:BJ32, 2, FALSE), \"\")","v":""},{"$f":"IFERROR(VLOOKUP(BO26, BE13:BJ32, 5, FALSE), \"\")","v":""},{"$f":"IFERROR(VLOOKUP(BO26, BE13:BJ32, 6, FALSE), \"\")","v":""},null,null,null,13,"","","","",null,null,null,"選手　14",0,{"$f":"IFERROR(INDEX($CG$42:$CG$91, SMALL(IF($CG$42:$CG$91<>\"\", ROW($CG$42:$CG$91)-ROW($CG$42)+1), ROW(CD14))), \"\")","v":""},null,null,{"$f":"IFERROR(INDEX($CH$42:$CH$91, SMALL(IF($CH$42:$CH$91<>\"\", ROW($CH$42:$CH$91)-ROW($CH$42)+1), ROW(BC14))), \"\")","v":""},{"$f":"IFERROR(INDEX($CI$42:$CI$91, SMALL(IF($CI$42:$CI$91<>\"\", ROW($CI$42:$CI$91)-ROW($CI$42)+1), ROW(BD14))), \"\")","v":""},null,null,null,null,13,null,{"$f":"IFERROR(VLOOKUP(CP26, CF13:CK32, 2, FALSE), \"\")","v":""},{"$f":"IFERROR(VLOOKUP(CP26, CF13:CK32, 5, FALSE), \"\")","v":""},{"$f":"IFERROR(VLOOKUP(CP26, CF13:CK32, 6, FALSE), \"\")","v":""},null,null,null,13,"","","",""]
[null,"選手　15",0,{"$f":"IFERROR(INDEX($D$42:$D$91, SMALL(IF($D$42:$D$91<>\"\", ROW($D$42:$D$91)-ROW($D$42)+1), ROW(A15))), \"\")","v":""},null,null,{"$f":"IFERROR(INDEX($E$42:$E$91, SMALL(IF($E$42:$E$91<>\"\", ROW($E$42:$E$91)-ROW($E$42)+1), ROW(A15))), \"\")","v":""},{"$f":"IFERROR(INDEX($F$42:$F$91, SMALL(IF($F$42:$F$91<>\"\", ROW($F$42:$F$91)-ROW($F$42)+1), ROW(B15))), \"\")","v":""},null,null,null,null,14,null,{"$f":"IFERROR(VLOOKUP(M27,C13:H32, 2, FALSE), \"\")","v":""},{"$f":"IFERROR(VLOOKUP(M27, C13:H32, 5, FALSE), \"\")","v":""},{"$f":"IFERROR(VLOOKUP(M27, C13:H32, 6, FALSE), \"\")","v":""},null,null,null,14,"","","","",null,null,null,"選手　15",0,{"$f":"IFERROR(INDEX($AE$42:$AE$91, SMALL(IF($AE$42:$AE$91<>\"\", ROW($AE$42:$AE$91)-ROW($AE$42)+1), ROW(A15))), \"\")","v":""},null,null,{"$f":"IFERROR(INDEX($AF$42:$AF$91, SMALL(IF($AF$42:$AF$91<>\"\", ROW($AF$42:$AF$91)-ROW($AF$42)+1), ROW(A15))), \"\")","v":""},{"$f":"IFERROR(INDEX($AG$42:$AG$91, SMALL(IF($AG$42:$AG$91<>\"\", ROW($AG$42:$AG$91)-ROW($AG$42)+1), ROW(B15))), \"\")","v":""},null,null,null,null,14,null,{"$f":"IFERROR(VLOOKUP(AN27,AD13:AI32, 2, FALSE), \"\")","v":""},{"$f":"IFERROR(VLOOKUP(AN27, AD13:AI32, 5, FALSE), \"\")","v":""},{"$f":"IFERROR(VLOOKUP(AN27, AD13:AI32, 6, FALSE), \"\")","v":""},null,null,null,14,"","","","",null,null,null,"選手　15",0,{"$f":"IFERROR(INDEX($BF$42:$BF$91, SMALL(IF($BF$42:$BF$91<>\"\", ROW($BF$42:$BF$91)-ROW($BF$42)+1), ROW(BC15))), \"\")","v":""},null,null,{"$f":"IFERROR(INDEX($BG$42:$BG$91, SMALL(IF($BG$42:$BG$91<>\"\", ROW($BG$42:$BG$91)-ROW($BG$42)+1), ROW(AB15))), \"\")","v":""},{"$f":"IFERROR(INDEX($BH$42:$BH$91, SMALL(IF($BH$42:$BH$91<>\"\", ROW($BH$42:$BH$91)-ROW($BH$42)+1), ROW(AC15))), \"\")","v":""},null,null,null,null,14,null,{"$f":"IFERROR(VLOOKUP(BO27,BE13:BJ32, 2, FALSE), \"\")","v":""},{"$f":"IFERROR(VLOOKUP(BO27, BE13:BJ32, 5, FALSE), \"\")","v":""},{"$f":"IFERROR(VLOOKUP(BO27, BE13:BJ32, 6, FALSE), \"\")","v":""},null,null,null,14,"","","","",null,null,null,"選手　15",0,{"$f":"IFERROR(INDEX($CG$42:$CG$91, SMALL(IF($CG$42:$CG$91<>\"\", ROW($CG$42:$CG$91)-ROW($CG$42)+1), ROW(CD15))), \"\")","v":""},null,null,{"$f":"IFERROR(INDEX($CH$42:$CH$91, SMALL(IF($CH$42:$CH$91<>\"\", ROW($CH$42:$CH$91)-ROW($CH$42)+1), ROW(BC15))), \"\")","v":""},{"$f":"IFERROR(INDEX($CI$42:$CI$91, SMALL(IF($CI$42:$CI$91<>\"\", ROW($CI$42:$CI$91)-ROW($CI$42)+1), ROW(BD15))), \"\")","v":""},null,null,null,null,14,null,{"$f":"IFERROR(VLOOKUP(CP27,CF13:CK32, 2, FALSE), \"\")","v":""},{"$f":"IFERROR(VLOOKUP(CP27, CF13:CK32, 5, FALSE), \"\")","v":""},{"$f":"IFERROR(VLOOKUP(CP27, CF13:CK32, 6, FALSE), \"\")","v":""},null,null,null,14,"","","",""]
[null,"選手　16",0,{"$f":"IFERROR(INDEX($D$42:$D$91, SMALL(IF($D$42:$D$91<>\"\", ROW($D$42:$D$91)-ROW($D$42)+1), ROW(A16))), \"\")","v":""},null,null,{"$f":"IFERROR(INDEX($E$42:$E$91, SMALL(IF($E$42:$E$91<>\"\", ROW($E$42:$E$91)-ROW($E$42)+1), ROW(A16))), \"\")","v":""},{"$f":"IFERROR(INDEX($F$42:$F$91, SMALL(IF($F$42:$F$91<>\"\", ROW($F$42:$F$91)-ROW($F$42)+1), ROW(B16))), \"\")","v":""},null,null,null,null,15,null,{"$f":"IFERROR(VLOOKUP(M28, C13:H32, 2, FALSE), \"\")","v":""},{"$f":"IFERROR(VLOOKUP(M28, C13:H32, 5, FALSE), \"\")","v":""},{"$f":"IFERROR(VLOOKUP(M28, C13:H32, 6, FALSE), \"\")","v":""},null,null,null,15,"","","","",null,null,null,"選手　16",0,{"$f":"IFERROR(INDEX($AE$42:$AE$91, SMALL(IF($AE$42:$AE$91<>\"\", ROW($AE$42:$AE$91)-ROW($AE$42)+1), ROW(A16))), \"\")","v":""},null,null,{"$f":"IFERROR(INDEX($AF$42:$AF$91, SMALL(IF($AF$42:$AF$91<>\"\", ROW($AF$42:$AF$91)-ROW($AF$42)+1), ROW(A16))), \"\")","v":""},{"$f":"IFERROR(INDEX($AG$42:$AG$91, SMALL(IF($AG$42:$AG$91<>\"\", ROW($AG$42:$AG$91)-ROW($AG$42)+1), ROW(B16))), \"\")","v":""},null,null,null,null,15,null,{"$f":"IFERROR(VLOOKUP(AN28, AD13:AI32, 2, FALSE), \"\")","v":""},{"$f":"IFERROR(VLOOKUP(AN28, AD13:AI32, 5, FALSE), \"\")","v":""},{"$f":"IFERROR(VLOOKUP(AN28, AD13:AI32, 6, FALSE), \"\")","v":""},null,null,null,15,"","","","",null,null,null,"選手　16",0,{"$f":"IFERROR(INDEX($BF$42:$BF$91, SMALL(IF($BF$42:$BF$91<>\"\", ROW($BF$42:$BF$91)-ROW($BF$42)+1), ROW(BC16))), \"\")","v":""},null,null,{"$f":"IFERROR(INDEX($BG$42:$BG$91, SMALL(IF($BG$42:$BG$91<>\"\", ROW($BG$42:$BG$91)-ROW($BG$42)+1), ROW(AB16))), \"\")","v":""},{"$f":"IFERROR(INDEX($BH$42:$BH$91, SMALL(IF($BH$42:$BH$91<>\"\", ROW($BH$42:$BH$91)-ROW($BH$42)+1), ROW(AC16))), \"\")","v":""},null,null,null,null,15,null,{"$f":"IFERROR(VLOOKUP(BO28, BE13:BJ32, 2, FALSE), \"\")","v":""},{"$f":"IFERROR(VLOOKUP(BO28, BE13:BJ32, 5, FALSE), \"\")","v":""},{"$f":"IFERROR(VLOOKUP(BO28, BE13:BJ32, 6, FALSE), \"\")","v":""},null,null,null,15,"","","","",null,null,null,"選手　16",0,{"$f":"IFERROR(INDEX($CG$42:$CG$91, SMALL(IF($CG$42:$CG$91<>\"\", ROW($CG$42:$CG$91)-ROW($CG$42)+1), ROW(CD16))), \"\")","v":""},null,null,{"$f":"IFERROR(INDEX($CH$42:$CH$91, SMALL(IF($CH$42:$CH$91<>\"\", ROW($CH$42:$CH$91)-ROW($CH$42)+1), ROW(BC16))), \"\")","v":""},{"$f":"IFERROR(INDEX($CI$42:$CI$91, SMALL(IF($CI$42:$CI$91<>\"\", ROW($CI$42:$CI$91)-ROW($CI$42)+1), ROW(BD16))), \"\")","v":""},null,null,null,null,15,null,{"$f":"IFERROR(VLOOKUP(CP28, CF13:CK32, 2, FALSE), \"\")","v":""},{"$f":"IFERROR(VLOOKUP(CP28, CF13:CK32, 5, FALSE), \"\")","v":""},{"$f":"IFERROR(VLOOKUP(CP28, CF13:CK32, 6, FALSE), \"\")","v":""},null,null,null,15,"","","",""]
[null,"選手　17",0,{"$f":"IFERROR(INDEX($D$42:$D$91, SMALL(IF($D$42:$D$91<>\"\", ROW($D$42:$D$91)-ROW($D$42)+1), ROW(A17))), \"\")","v":""},null,null,{"$f":"IFERROR(INDEX($E$42:$E$91, SMALL(IF($E$42:$E$91<>\"\", ROW($E$42:$E$91)-ROW($E$42)+1), ROW(A17))), \"\")","v":""},{"$f":"IFERROR(INDEX($F$42:$F$91, SMALL(IF($F$42:$F$91<>\"\", ROW($F$42:$F$91)-ROW($F$42)+1), ROW(B17))), \"\")","v":""},null,null,null,null,16,null,{"$f":"IFERROR(VLOOKUP(M29, C13:H32, 2, FALSE), \"\")","v":""},{"$f":"IFERROR(VLOOKUP(M29, C13:H32, 5, FALSE), \"\")","v":""},{"$f":"IFERROR(VLOOKUP(M29, C13:H32, 6, FALSE), \"\")","v":""},null,null,null,16,"","","","",null,null,null,"選手　17",0,{"$f":"IFERROR(INDEX($AE$42:$AE$91, SMALL(IF($AE$42:$AE$91<>\"\", ROW($AE$42:$AE$91)-ROW($AE$42)+1), ROW(A17))), \"\")","v":""},null,null,{"$f":"IFERROR(INDEX($AF$42:$AF$91, SMALL(IF($AF$42:$AF$91<>\"\", ROW($AF$42:$AF$91)-ROW($AF$42)+1), ROW(A17))), \"\")","v":""},{"$f":"IFERROR(INDEX($AG$42:$AG$91, SMALL(IF($AG$42:$AG$91<>\"\", ROW($AG$42:$AG$91)-ROW($AG$42)+1), ROW(B17))), \"\")","v":""},null,null,null,null,16,null,{"$f":"IFERROR(VLOOKUP(AN29, AD13:AI32, 2, FALSE), \"\")","v":""},{"$f":"IFERROR(VLOOKUP(AN29, AD13:AI32, 5, FALSE), \"\")","v":""},{"$f":"IFERROR(VLOOKUP(AN29, AD13:AI32, 6, FALSE), \"\")","v":""},null,null,null,16,"","","","",null,null,null,"選手　17",0,{"$f":"IFERROR(INDEX($BF$42:$BF$91, SMALL(IF($BF$42:$BF$91<>\"\", ROW($BF$42:$BF$91)-ROW($BF$42)+1), ROW(BC17))), \"\")","v":""},null,null,{"$f":"IFERROR(INDEX($BG$42:$BG$91, SMALL(IF($BG$42:$BG$91<>\"\", ROW($BG$42:$BG$91)-ROW($BG$42)+1), ROW(AB17))), \"\")","v":""},{"$f":"IFERROR(INDEX($BH$42:$BH$91, SMALL(IF($BH$42:$BH$91<>\"\", ROW($BH$42:$BH$91)-ROW($BH$42)+1), ROW(AC17))), \"\")","v":""},null,null,null,null,16,null,{"$f":"IFERROR(VLOOKUP(BO29, BE13:BJ32, 2, FALSE), \"\")","v":""},{"$f":"IFERROR(VLOOKUP(BO29, BE13:BJ32, 5, FALSE), \"\")","v":""},{"$f":"IFERROR(VLOOKUP(BO29, BE13:BJ32, 6, FALSE), \"\")","v":""},null,null,null,16,"","","","",null,null,null,"選手　17",0,{"$f":"IFERROR(INDEX($CG$42:$CG$91, SMALL(IF($CG$42:$CG$91<>\"\", ROW($CG$42:$CG$91)-ROW($CG$42)+1), ROW(CD17))), \"\")","v":""},null,null,{"$f":"IFERROR(INDEX($CH$42:$CH$91, SMALL(IF($CH$42:$CH$91<>\"\", ROW($CH$42:$CH$91)-ROW($CH$42)+1), ROW(BC17))), \"\")","v":""},{"$f":"IFERROR(INDEX($CI$42:$CI$91, SMALL(IF($CI$42:$CI$91<>\"\", ROW($CI$42:$CI$91)-ROW($CI$42)+1), ROW(BD17))), \"\")","v":""},null,null,null,null,16,null,{"$f":"IFERROR(VLOOKUP(CP29, CF13:CK32, 2, FALSE), \"\")","v":""},{"$f":"IFERROR(VLOOKUP(CP29, CF13:CK32, 5, FALSE), \"\")","v":""},{"$f":"IFERROR(VLOOKUP(CP29, CF13:CK32, 6, FALSE), \"\")","v":""},null,null,null,16,"","","",""]
[null,"選手　18",0,{"$f":"IFERROR(INDEX($D$42:$D$91, SMALL(IF($D$42:$D$91<>\"\", ROW($D$42:$D$91)-ROW($D$42)+1), ROW(A18))), \"\")","v":""},null,null,{"$f":"IFERROR(INDEX($E$42:$E$91, SMALL(IF($E$42:$E$91<>\"\", ROW($E$42:$E$91)-ROW($E$42)+1), ROW(A18))), \"\")","v":""},{"$f":"IFERROR(INDEX($F$42:$F$91, SMALL(IF($F$42:$F$91<>\"\", ROW($F$42:$F$91)-ROW($F$42)+1), ROW(B18))), \"\")","v":""},null,null,null,null,17,null,{"$f":"IFERROR(VLOOKUP(M30, C13:H32, 2, FALSE), \"\")","v":""},{"$f":"IFERROR(VLOOKUP(M30, C13:H32, 5, FALSE), \"\")","v":""},{"$f":"IFERROR(VLOOKUP(M30, C13:H32, 6, FALSE), \"\")","v":""},null,null,null,17,"","","","",null,null,null,"選手　18",0,{"$f":"IFERROR(INDEX($AE$42:$AE$91, SMALL(IF($AE$42:$AE$91<>\"\", ROW($AE$42:$AE$91)-ROW($AE$42)+1), ROW(A18))), \"\")","v":""},null,null,{"$f":"IFERROR(INDEX($AF$42:$AF$91, SMALL(IF($AF$42:$AF$91<>\"\", ROW($AF$42:$AF$91)-ROW($AF$42)+1), ROW(A18))), \"\")","v":""},{"$f":"IFERROR(INDEX($AG$42:$AG$91, SMALL(IF($AG$42:$AG$91<>\"\", ROW($AG$42:$AG$91)-ROW($AG$42)+1), ROW(B18))), \"\")","v":""},null,null,null,null,17,null,{"$f":"IFERROR(VLOOKUP(AN30, AD13:AI32, 2, FALSE), \"\")","v":""},{"$f":"IFERROR(VLOOKUP(AN30, AD13:AI32, 5, FALSE), \"\")","v":""},{"$f":"IFERROR(VLOOKUP(AN30, AD13:AI32, 6, FALSE), \"\")","v":""},null,null,null,17,"","","","",null,null,null,"選手　18",0,{"$f":"IFERROR(INDEX($BF$42:$BF$91, SMALL(IF($BF$42:$BF$91<>\"\", ROW($BF$42:$BF$91)-ROW($BF$42)+1), ROW(BC18))), \"\")","v":""},null,null,{"$f":"IFERROR(INDEX($BG$42:$BG$91, SMALL(IF($BG$42:$BG$91<>\"\", ROW($BG$42:$BG$91)-ROW($BG$42)+1), ROW(AB18))), \"\")","v":""},{"$f":"IFERROR(INDEX($BH$42:$BH$91, SMALL(IF($BH$42:$BH$91<>\"\", ROW($BH$42:$BH$91)-ROW($BH$42)+1), ROW(AC18))), \"\")","v":""},null,null,null,null,17,null,{"$f":"IFERROR(VLOOKUP(BO30, BE13:BJ32, 2, FALSE), \"\")","v":""},{"$f":"IFERROR(VLOOKUP(BO30, BE13:BJ32, 5, FALSE), \"\")","v":""},{"$f":"IFERROR(VLOOKUP(BO30, BE13:BJ32, 6, FALSE), \"\")","v":""},null,null,null,17,"","","","",null,null,null,"選手　18",0,{"$f":"IFERROR(INDEX($CG$42:$CG$91, SMALL(IF($CG$42:$CG$91<>\"\", ROW($CG$42:$CG$91)-ROW($CG$42)+1), ROW(CD18))), \"\")","v":""},null,null,{"$f":"IFERROR(INDEX($CH$42:$CH$91, SMALL(IF($CH$42:$CH$91<>\"\", ROW($CH$42:$CH$91)-ROW($CH$42)+1), ROW(BC18))), \"\")","v":""},{"$f":"IFERROR(INDEX($CI$42:$CI$91, SMALL(IF($CI$42:$CI$91<>\"\", ROW($CI$42:$CI$91)-ROW($CI$42)+1), ROW(BD18))), \"\")","v":""},null,null,null,null,17,null,{"$f":"IFERROR(VLOOKUP(CP30, CF13:CK32, 2, FALSE), \"\")","v":""},{"$f":"IFERROR(VLOOKUP(CP30, CF13:CK32, 5, FALSE), \"\")","v":""},{"$f":"IFERROR(VLOOKUP(CP30, CF13:CK32, 6, FALSE), \"\")","v":""},null,null,null,17,"","","",""]
[null,"選手　19",0,{"$f":"IFERROR(INDEX($D$42:$D$91, SMALL(IF($D$42:$D$91<>\"\", ROW($D$42:$D$91)-ROW($D$42)+1), ROW(A19))), \"\")","v":""},null,null,{"$f":"IFERROR(INDEX($E$42:$E$91, SMALL(IF($E$42:$E$91<>\"\", ROW($E$42:$E$91)-ROW($E$42)+1), ROW(A19))), \"\")","v":""},{"$f":"IFERROR(INDEX($F$42:$F$91, SMALL(IF($F$42:$F$91<>\"\", ROW($F$42:$F$91)-ROW($F$42)+1), ROW(B19))), \"\")","v":""},null,null,null,null,18,null,{"$f":"IFERROR(VLOOKUP(M31, C13:H32, 2, FALSE), \"\")","v":""},{"$f":"IFERROR(VLOOKUP(M31, C13:H32, 5, FALSE), \"\")","v":""},{"$f":"IFERROR(VLOOKUP(M31, C13:H32, 6, FALSE), \"\")","v":""},null,null,null,18,"","","","",null,null,null,"選手　19",0,{"$f":"IFERROR(INDEX($AE$42:$AE$91, SMALL(IF($AE$42:$AE$91<>\"\", ROW($AE$42:$AE$91)-ROW($AE$42)+1), ROW(A19))), \"\")","v":""},null,null,{"$f":"IFERROR(INDEX($AF$42:$AF$91, SMALL(IF($AF$42:$AF$91<>\"\", ROW($AF$42:$AF$91)-ROW($AF$42)+1), ROW(A19))), \"\")","v":""},{"$f":"IFERROR(INDEX($AG$42:$AG$91, SMALL(IF($AG$42:$AG$91<>\"\", ROW($AG$42:$AG$91)-ROW($AG$42)+1), ROW(B19))), \"\")","v":""},null,null,null,null,18,null,{"$f":"IFERROR(VLOOKUP(AN31, AD13:AI32, 2, FALSE), \"\")","v":""},{"$f":"IFERROR(VLOOKUP(AN31, AD13:AI32, 5, FALSE), \"\")","v":""},{"$f":"IFERROR(VLOOKUP(AN31, AD13:AI32, 6, FALSE), \"\")","v":""},null,null,null,18,"","","","",null,null,null,"選手　19",0,{"$f":"IFERROR(INDEX($BF$42:$BF$91, SMALL(IF($BF$42:$BF$91<>\"\", ROW($BF$42:$BF$91)-ROW($BF$42)+1), ROW(BC19))), \"\")","v":""},null,null,{"$f":"IFERROR(INDEX($BG$42:$BG$91, SMALL(IF($BG$42:$BG$91<>\"\", ROW($BG$42:$BG$91)-ROW($BG$42)+1), ROW(AB19))), \"\")","v":""},{"$f":"IFERROR(INDEX($BH$42:$BH$91, SMALL(IF($BH$42:$BH$91<>\"\", ROW($BH$42:$BH$91)-ROW($BH$42)+1), ROW(AC19))), \"\")","v":""},null,null,null,null,18,null,{"$f":"IFERROR(VLOOKUP(BO31, BE13:BJ32, 2, FALSE), \"\")","v":""},{"$f":"IFERROR(VLOOKUP(BO31, BE13:BJ32, 5, FALSE), \"\")","v":""},{"$f":"IFERROR(VLOOKUP(BO31, BE13:BJ32, 6, FALSE), \"\")","v":""},null,null,null,18,"","","","",null,null,null,"選手　19",0,{"$f":"IFERROR(INDEX($CG$42:$CG$91, SMALL(IF($CG$42:$CG$91<>\"\", ROW($CG$42:$CG$91)-ROW($CG$42)+1), ROW(CD19))), \"\")","v":""},null,null,{"$f":"IFERROR(INDEX($CH$42:$CH$91, SMALL(IF($CH$42:$CH$91<>\"\", ROW($CH$42:$CH$91)-ROW($CH$42)+1), ROW(BC19))), \"\")","v":""},{"$f":"IFERROR(INDEX($CI$42:$CI$91, SMALL(IF($CI$42:$CI$91<>\"\", ROW($CI$42:$CI$91)-ROW($CI$42)+1), ROW(BD19))), \"\")","v":""},null,null,null,null,18,null,{"$f":"IFERROR(VLOOKUP(CP31, CF13:CK32, 2, FALSE), \"\")","v":""},{"$f":"IFERROR(VLOOKUP(CP31, CF13:CK32, 5, FALSE), \"\")","v":""},{"$f":"IFERROR(VLOOKUP(CP31, CF13:CK32, 6, FALSE), \"\")","v":""},null,null,null,18,"","","",""]
[null,"選手　20",0,{"$f":"IFERROR(INDEX($D$42:$D$91, SMALL(IF($D$42:$D$91<>\"\", ROW($D$42:$D$91)-ROW($D$42)+1), ROW(A20))), \"\")","v":""},null,null,{"$f":"IFERROR(INDEX($E$42:$E$91, SMALL(IF($E$42:$E$91<>\"\", ROW($E$42:$E$91)-ROW($E$42)+1), ROW(A20))), \"\")","v":""},{"$f":"IFERROR(INDEX($F$42:$F$91, SMALL(IF($F$42:$F$91<>\"\", ROW($F$42:$F$91)-ROW($F$42)+1), ROW(B20))), \"\")","v":""},null,null,null,null,null,null,null,null,null,null,null,null,null,null,null,null,null,null,null,null,"選手　20",0,{"$f":"IFERROR(INDEX($AE$42:$AE$91, SMALL(IF($AE$42:$AE$91<>\"\", ROW($AE$42:$AE$91)-ROW($AE$42)+1), ROW(A20))), \"\")","v":""},null,null,{"$f":"IFERROR(INDEX($AF$42:$AF$91, SMALL(IF($AF$42:$AF$91<>\"\", ROW($AF$42:$AF$91)-ROW($AF$42)+1), ROW(A20))), \"\")","v":""},{"$f":"IFERROR(INDEX($AG$42:$AG$91, SMALL(IF($AG$42:$AG$91<>\"\", ROW($AG$42:$AG$91)-ROW($AG$42)+1), ROW(B20))), \"\")","v":""},null,null,null,null,null,null,null,null,null,null,null,null,null,null,null,null,null,null,null,null,"選手　20",0,{"$f":"IFERROR(INDEX($BF$42:$BF$91, SMALL(IF($BF$42:$BF$91<>\"\", ROW($BF$42:$BF$91)-ROW($BF$42)+1), ROW(BC20))), \"\")","v":""},null,null,{"$f":"IFERROR(INDEX($BG$42:$BG$91, SMALL(IF($BG$42:$BG$91<>\"\", ROW($BG$42:$BG$91)-ROW($BG$42)+1), ROW(AB20))), \"\")","v":""},{"$f":"IFERROR(INDEX($BH$42:$BH$91, SMALL(IF($BH$42:$BH$91<>\"\", ROW($BH$42:$BH$91)-ROW($BH$42)+1), ROW(AC20))), \"\")","v":""},null,null,null,null,null,null,null,null,null,null,null,null,null,null,null,null,null,null,null,null,"選手　20",0,{"$f":"IFERROR(INDEX($CG$42:$CG$91, SMALL(IF($CG$42:$CG$91<>\"\", ROW($CG$42:$CG$91)-ROW($CG$42)+1), ROW(CD20))), \"\")","v":""},null,null,{"$f":"IFERROR(INDEX($CH$42:$CH$91, SMALL(IF($CH$42:$CH$91<>\"\", ROW($CH$42:$CH$91)-ROW($CH$42)+1), ROW(BC20))), \"\")","v":""},{"$f":"IFERROR(INDEX($CI$42:$CI$91, SMALL(IF($CI$42:$CI$91<>\"\", ROW($CI$42:$CI$91)-ROW($CI$42)+1), ROW(BD20))), \"\")","v":""}]
[]
[null,"主審氏名",null,{"$f":"IFERROR(VLOOKUP(D35, 登録名簿!A11:G60, 3, FALSE), \"\")","v":""},null,"副審氏名",{"$f":"IFERROR(VLOOKUP(G35, 登録名簿!A11:G60, 3, FALSE), \"\")","v":""},null,"記録係",{"$f":"IFERROR(VLOOKUP(J35, 登録名簿!A11:G60, 3, FALSE), \"\")","v":""},null,null,"キャプテンは番号右横に〇を付ける",null,null,null,null,null,null,null,"キャプテンは番号右横に〇を付ける",null,null,null,null,null,null,null,"主審氏名",null,{"$f":"IFERROR(VLOOKUP(AE35, 登録名簿!A11:G60, 3, FALSE), \"\")","v":""},null,"副審氏名",{"$f":"IFERROR(VLOOKUP(AH35, 登録名簿!A11:G60, 3, FALSE), \"\")","v":""},null,"記録係",{"$f":"IFERROR(VLOOKUP(AK35, 登録名簿!A11:G60, 3, FALSE), \"\")","v":""},null,null,"キャプテンは番号右横に〇を付ける",null,null,null,null,null,null,null,"キャプテンは番号右横に〇を付ける",null,null,null,null,null,null,null,"主審氏名",null,{"$f":"IFERROR(VLOOKUP(BF35, 登録名簿!A11:G60, 3, FALSE), \"\")","v":""},null,"副審氏名",{"$f":"IFERROR(VLOOKUP(BI35, 登録名簿!A11:G60, 3, FALSE), \"\")","v":""},null,"記録係",{"$f":"IFERROR(VLOOKUP(BL35, 登録名簿!A11:G60, 3, FALSE), \"\")","v":""},null,null,"キャプテンは番号右横に〇を付ける",null,null,null,null,null,null,null,"キャプテンは番号右横に〇を付ける",null,null,null,null,null,null,null,"主審氏名",null,{"$f":"IFERROR(VLOOKUP(CG35, 登録名簿!A11:G60, 3, FALSE), \"\")","v":""},null,"副審氏名",{"$f":"IFERROR(VLOOKUP(CJ35, 登録名簿!A11:G60, 3, FALSE), \"\")","v":""},null,"記録係",{"$f":"IFERROR(VLOOKUP(CM35, 登録名簿!A11:G60, 3, FALSE), \"\")","v":""},null,null,"キャプテンは番号右横に〇を付ける",null,null,null,null,null,null,null,"キャプテンは番号右横に〇を付ける"]
[null,"※下記に注釈",null,null,null,null,null,null,null,null,null,null,"キャプテンサイン",null,null,null,null,null,null,null,"キャプテンサイン",null,null,null,null,null,null,null,"※下記に注釈",null,null,null,null,null,null,null,null,null,null,"キャプテンサイン",null,null,null,null,null,null,null,"キャプテンサイン",null,null,null,null,null,null,null,"※下記に注釈",null,null,null,null,null,null,null,null,null,null,"キャプテンサイン",null,null,null,null,null,null,null,"キャプテンサイン",null,null,null,null,null,null,null,"※下記に注釈",null,null,null,null,null,null,null,null,null,null,"キャプテンサイン",null,null,null,null,null,null,null,"キャプテンサイン"]
[null,"※注1　種目の該当項目を○で囲み、選手名・大会審判員・記録係を記入して下さい。",null,null,null,null,null,null,null,null,null,null,null,null,null,null,null,null,null,null,null,null,null,null,null,null,null,null,"※注1　種目の該当項目を○で囲み、選手名・大会審判員・記録係を記入して下さい。",null,null,null,null,null,null,null,null,null,null,null,null,null,null,null,null,null,null,null,null,null,null,null,null,null,null,"※注1　種目の該当項目を○で囲み、選手名・大会審判員・記録係を記入して下さい。",null,null,null,null,null,null,null,null,null,null,null,null,null,null,null,null,null,null,null,null,null,null,null,null,null,null,"※注1　種目の該当項目を○で囲み、選手名・大会審判員・記録係を記入して下さい。"]
[null,"※注2　女子のゴールド45歳～49歳、シルバー30歳代の選手は申告欄に○印を記入して下さい。",null,null,null,null,null,null,null,null,null,null,null,null,null,null,null,null,null,null,null,null,null,null,null,null,null,null,"※注2　女子のゴールド45歳～49歳、シルバー30歳代の選手は申告欄に○印を記入して下さい。",null,null,null,null,null,null,null,null,null,null,null,null,null,null,null,null,null,null,null,null,null,null,null,null,null,null,"※注2　女子のゴールド45歳～49歳、シルバー30歳代の選手は申告欄に○印を記入して下さい。",null,null,null,null,null,null,null,null,null,null,null,null,null,null,null,null,null,null,null,null,null,null,null,null,null,null,"※注2　女子のゴールド45歳～49歳、シルバー30歳代の選手は申告欄に○印を記入して下さい。"]
[null,"※注3　キャプテンは申告欄に◎印を記入して下さい。",null,null,null,null,null,null,null,null,null,null,null,null,null,null,null,null,null,null,null,null,null,null,null,null,null,null,"※注3　キャプテンは申告欄に◎印を記入して下さい。",null,null,null,null,null,null,null,null,null,null,null,null,null,null,null,null,null,null,null,null,null,null,null,null,null,null,"※注3　キャプテンは申告欄に◎印を記入して下さい。",null,null,null,null,null,null,null,null,null,null,null,null,null,null,null,null,null,null,null,null,null,null,null,null,null,null,"※注3　キャプテンは申告欄に◎印を記入して下さい。"]
[null,null,null,null,null,null,null,null,"金沢市中高年トリムバレーボール連盟",null,null,null,null,null,null,null,null,null,null,null,null,null,null,null,null,null,null,null,null,null,null,null,null,null,null,"金沢市中高年トリムバレーボール連盟",null,null,null,null,null,null,null,null,null,null,null,null,null,null,null,null,null,null,null,null,null,null,null,null,null,null,"金沢市中高年トリムバレーボール連盟",null,null,null,null,null,null,null,null,null,null,null,null,null,null,null,null,null,null,null,null,null,null,null,null,null,null,"金沢市中高年トリムバレーボール連盟"]
[]
[]
[null,1,null,{"$f":"IF(登録名簿!$AF$11=\"〇\",登録名簿!$C$11,\"\")","v":""},{"$f":"IF(登録名簿!$AF$11=\"〇\",OFFSET(登録名簿!$C$11,0,2,,),\"\")","v":""},{"$f":"IF(登録名簿!$AF$11=\"〇\",OFFSET(登録名簿!$C$11,0,4,,),\"\")","v":""},null,null,null,null,null,null,null,null,null,null,null,null,null,null,null,null,null,null,null,null,null,null,1,null,{"$f":"IF(登録名簿!$AG$11=\"〇\",登録名簿!$C$11,\"\")","v":""},{"$f":"IF(登録名簿!$AG$11=\"〇\",OFFSET(登録名簿!$C$11,0,2,,),\"\")","v":""},{"$f":"IF(登録名簿!$AG$11=\"〇\",OFFSET(登録名簿!$C$11,0,4,,),\"\")","v":""},null,null,null,null,null,null,null,null,null,null,null,null,null,null,null,null,null,null,null,null,null,null,1,null,{"$f":"IF(登録名簿!$AH$11=\"〇\",登録名簿!$C$11,\"\")","v":""},{"$f":"IF(登録名簿!$AH$11=\"〇\",OFFSET(登録名簿!$C$11,0,2,,),\"\")","v":""},{"$f":"IF(登録名簿!$AH$11=\"〇\",OFFSET(登録名簿!$C$11,0,4,,),\"\")","v":""},null,null,null,null,null,null,null,null,null,null,null,null,null,null,null,null,null,null,null,null,null,null,1,null,{"$f":"IF(登録名簿!$AI$11=\"〇\",登録名簿!$C$11,\"\")","v":""},{"$f":"IF(登録名簿!$AI$11=\"〇\",OFFSET(登録名簿!$C$11,0,2,,),\"\")","v":""},{"$f":"IF(登録名簿!$AI$11=\"〇\",OFFSET(登録名簿!$C$11,0,4,,),\"\")","v":""}]
[null,2,null,{"$f":"IF(登録名簿!$AF$12=\"〇\",登録名簿!$C$12,\"\")","v":""},{"$f":"IF(登録名簿!$AF$12=\"〇\",OFFSET(登録名簿!$C$12,0,2,,),\"\")","v":""},{"$f":"IF(登録名簿!$AF$12=\"〇\",OFFSET(登録名簿!$C$12,0,4,,),\"\")","v":""},null,null,null,null,null,null,null,null,null,null,null,null,null,null,null,null,null,null,null,null,null,null,2,null,{"$f":"IF(登録名簿!$AG$12=\"〇\",登録名簿!$C$12,\"\")","v":""},{"$f":"IF(登録名簿!$AG$12=\"〇\",OFFSET(登録名簿!$C$12,0,2,,),\"\")","v":""},{"$f":"IF(登録名簿!$AG$12=\"〇\",OFFSET(登録名簿!$C$12,0,4,,),\"\")","v":""},null,null,null,null,null,null,null,null,null,null,null,null,null,null,null,null,null,null,null,null,null,null,2,null,{"$f":"IF(登録名簿!$AH$12=\"〇\",登録名簿!$C$12,\"\")","v":""},{"$f":"IF(登録名簿!$AH$12=\"〇\",OFFSET(登録名簿!$C$12,0,2,,),\"\")","v":""},{"$f":"IF(登録名簿!$AH$12=\"〇\",OFFSET(登録名簿!$C$12,0,4,,),\"\")","v":""},null,null,null,null,null,null,null,null,null,null,null,null,null,null,null,null,null,null,null,null,null,null,2,null,{"$f":"IF(登録名簿!$AI$12=\"〇\",登録名簿!$C$12,\"\")","v":""},{"$f":"IF(登録名簿!$AI$12=\"〇\",OFFSET(登録名簿!$C$12,0,2,,),\"\")","v":""},{"$f":"IF(登録名簿!$AI$12=\"〇\",OFFSET(登録名簿!$C$12,0,4,,),\"\")","v":""}]
[null,3,null,{"$f":"IF(登録名簿!$AF$13=\"〇\",登録名簿!$C$13,\"\")","v":""},{"$f":"IF(登録名簿!$AF$13=\"〇\",OFFSET(登録名簿!$C$13,0,2,,),\"\")","v":""},{"$f":"IF(登録名簿!$AF$13=\"〇\",OFFSET(登録名簿!$C$13,0,4,,),\"\")","v":""},null,null,null,null,null,null,null,null,null,null,null,null,null,null,null,null,null,null,null,null,null,null,3,null,{"$f":"IF(登録名簿!$AG$13=\"〇\",登録名簿!$C$13,\"\")","v":""},{"$f":"IF(登録名簿!$AG$13=\"〇\",OFFSET(登録名簿!$C$13,0,2,,),\"\")","v":""},{"$f":"IF(登録名簿!$AG$13=\"〇\",OFFSET(登録名簿!$C$13,0,4,,),\"\")","v":""},null,null,null,null,null,null,null,null,null,null,null,null,null,null,null,null,null,null,null,null,null,null,3,null,{"$f":"IF(登録名簿!$AH$13=\"〇\",登録名簿!$C$13,\"\")","v":""},{"$f":"IF(登録名簿!$AH$13=\"〇\",OFFSET(登録名簿!$C$13,0,2,,),\"\")","v":""},{"$f":"IF(登録名簿!$AH$13=\"〇\",OFFSET(登録名簿!$C$13,0,4,,),\"\")","v":""},null,null,null,null,null,null,null,null,null,null,null,null,null,null,null,null,null,null,null,null,null,null,3,null,{"$f":"IF(登録名簿!$AI$13=\"〇\",登録名簿!$C$13,\"\")","v":""},{"$f":"IF(登録名簿!$AI$13=\"〇\",OFFSET(登録名簿!$C$13,0,2,,),\"\")","v":""},{"$f":"IF(登録名簿!$AI$13=\"〇\",OFFSET(登録名簿!$C$13,0,4,,),\"\")","v":""}]
[null,4,null,{"$f":"IF(登録名簿!$AF$14=\"〇\",登録名簿!$C$14,\"\")","v":""},{"$f":"IF(登録名簿!$AF$14=\"〇\",OFFSET(登録名簿!$C$14,0,2,,),\"\")","v":""},{"$f":"IF(登録名簿!$AF$14=\"〇\",OFFSET(登録名簿!$C$14,0,4,,),\"\")","v":""},null,null,null,null,null,null,null,null,null,null,null,null,null,null,null,null,null,null,null,null,null,null,4,null,{"$f":"IF(登録名簿!$AG$14=\"〇\",登録名簿!$C$14,\"\")","v":""},{"$f":"IF(登録名簿!$AG$14=\"〇\",OFFSET(登録名簿!$C$14,0,2,,),\"\")","v":""},{"$f":"IF(登録名簿!$AG$14=\"〇\",OFFSET(登録名簿!$C$14,0,4,,),\"\")","v":""},null,null,null,null,null,null,null,null,null,null,null,null,null,null,null,null,null,null,null,null,null,null,4,null,{"$f":"IF(登録名簿!$AH$14=\"〇\",登録名簿!$C$14,\"\")","v":""},{"$f":"IF(登録名簿!$AH$14=\"〇\",OFFSET(登録名簿!$C$14,0,2,,),\"\")","v":""},{"$f":"IF(登録名簿!$AH$14=\"〇\",OFFSET(登録名簿!$C$14,0,4,,),\"\")","v":""},null,null,null,null,null,null,null,null,null,null,null,null,null,null,null,null,null,null,null,null,null,null,4,null,{"$f":"IF(登録名簿!$AI$14=\"〇\",登録名簿!$C$14,\"\")","v":""},{"$f":"IF(登録名簿!$AI$14=\"〇\",OFFSET(登録名簿!$C$14,0,2,,),\"\")","v":""},{"$f":"IF(登録名簿!$AI$14=\"〇\",OFFSET(登録名簿!$C$14,0,4,,),\"\")","v":""}]
[null,5,null,{"$f":"IF(登録名簿!$AF$15=\"〇\",登録名簿!$C$15,\"\")","v":""},{"$f":"IF(登録名簿!$AF$15=\"〇\",OFFSET(登録名簿!$C$15,0,2,,),\"\")","v":""},{"$f":"IF(登録名簿!$AF$15=\"〇\",OFFSET(登録名簿!$C$15,0,4,,),\"\")","v":""},null,null,null,null,null,null,null,null,null,null,null,null,null,null,null,null,null,null,null,null,null,null,5,null,{"$f":"IF(登録名簿!$AG$15=\"〇\",登録名簿!$C$15,\"\")","v":""},{"$f":"IF(登録名簿!$AG$15=\"〇\",OFFSET(登録名簿!$C$15,0,2,,),\"\")","v":""},{"$f":"IF(登録名簿!$AG$15=\"〇\",OFFSET(登録名簿!$C$15,0,4,,),\"\")","v":""},null,null,null,null,null,null,null,null,null,null,null,null,null,null,null,null,null,null,null,null,null,null,5,null,{"$f":"IF(登録名簿!$AH$15=\"〇\",登録名簿!$C$15,\"\")","v":""},{"$f":"IF(登録名簿!$AH$15=\"〇\",OFFSET(登録名簿!$C$15,0,2,,),\"\")","v":""},{"$f":"IF(登録名簿!$AH$15=\"〇\",OFFSET(登録名簿!$C$15,0,4,,),\"\")","v":""},null,null,null,null,null,null,null,null,null,null,null,null,null,null,null,null,null,null,null,null,null,null,5,null,{"$f":"IF(登録名簿!$AI$15=\"〇\",登録名簿!$C$15,\"\")","v":""},{"$f":"IF(登録名簿!$AI$15=\"〇\",OFFSET(登録名簿!$C$15,0,2,,),\"\")","v":""},{"$f":"IF(登録名簿!$AI$15=\"〇\",OFFSET(登録名簿!$C$15,0,4,,),\"\")","v":""}]
[null,6,null,{"$f":"IF(登録名簿!$AF$16=\"〇\",登録名簿!$C$16,\"\")","v":""},{"$f":"IF(登録名簿!$AF$16=\"〇\",OFFSET(登録名簿!$C$16,0,2,,),\"\")","v":""},{"$f":"IF(登録名簿!$AF$16=\"〇\",OFFSET(登録名簿!$C$16,0,4,,),\"\")","v":""},null,null,null,null,null,null,null,null,null,null,null,null,null,null,null,null,null,null,null,null,null,null,6,null,{"$f":"IF(登録名簿!$AG$16=\"〇\",登録名簿!$C$16,\"\")","v":""},{"$f":"IF(登録名簿!$AG$16=\"〇\",OFFSET(登録名簿!$C$16,0,2,,),\"\")","v":""},{"$f":"IF(登録名簿!$AG$16=\"〇\",OFFSET(登録名簿!$C$16,0,4,,),\"\")","v":""},null,null,null,null,null,null,null,null,null,null,null,null,null,null,null,null,null,null,null,null,null,null,6,null,{"$f":"IF(登録名簿!$AH$16=\"〇\",登録名簿!$C$16,\"\")","v":""},{"$f":"IF(登録名簿!$AH$16=\"〇\",OFFSET(登録名簿!$C$16,0,2,,),\"\")","v":""},{"$f":"IF(登録名簿!$AH$16=\"〇\",OFFSET(登録名簿!$C$16,0,4,,),\"\")","v":""},null,null,null,null,null,null,null,null,null,null,null,null,null,null,null,null,null,null,null,null,null,null,6,null,{"$f":"IF(登録名簿!$AI$16=\"〇\",登録名簿!$C$16,\"\")","v":""},{"$f":"IF(登録名簿!$AI$16=\"〇\",OFFSET(登録名簿!$C$16,0,2,,),\"\")","v":""},{"$f":"IF(登録名簿!$AI$16=\"〇\",OFFSET(登録名簿!$C$16,0,4,,),\"\")","v":""}]
[null,7,null,{"$f":"IF(登録名簿!$AF$17=\"〇\",登録名簿!$C$17,\"\")","v":""},{"$f":"IF(登録名簿!$AF$17=\"〇\",OFFSET(登録名簿!$C$17,0,2,,),\"\")","v":""},{"$f":"IF(登録名簿!$AF$17=\"〇\",OFFSET(登録名簿!$C$17,0,4,,),\"\")","v":""},null,null,null,null,null,null,null,null,null,null,null,null,null,null,null,null,null,null,null,null,null,null,7,null,{"$f":"IF(登録名簿!$AG$17=\"〇\",登録名簿!$C$17,\"\")","v":""},{"$f":"IF(登録名簿!$AG$17=\"〇\",OFFSET(登録名簿!$C$17,0,2,,),\"\")","v":""},{"$f":"IF(登録名簿!$AG$17=\"〇\",OFFSET(登録名簿!$C$17,0,4,,),\"\")","v":""},null,null,null,null,null,null,null,null,null,null,null,null,null,null,null,null,null,null,null,null,null,null,7,null,{"$f":"IF(登録名簿!$AH$17=\"〇\",登録名簿!$C$17,\"\")","v":""},{"$f":"IF(登録名簿!$AH$17=\"〇\",OFFSET(登録名簿!$C$17,0,2,,),\"\")","v":""},{"$f":"IF(登録名簿!$AH$17=\"〇\",OFFSET(登録名簿!$C$17,0,4,,),\"\")","v":""},null,null,null,null,null,null,null,null,null,null,null,null,null,null,null,null,null,null,null,null,null,null,7,null,{"$f":"IF(登録名簿!$AI$17=\"〇\",登録名簿!$C$17,\"\")","v":""},{"$f":"IF(登録名簿!$AI$17=\"〇\",OFFSET(登録名簿!$C$17,0,2,,),\"\")","v":""},{"$f":"IF(登録名簿!$AI$17=\"〇\",OFFSET(登録名簿!$C$17,0,4,,),\"\")","v":""}]
[null,8,null,{"$f":"IF(登録名簿!$AF$18=\"〇\",登録名簿!$C$18,\"\")","v":""},{"$f":"IF(登録名簿!$AF$18=\"〇\",OFFSET(登録名簿!$C$18,0,2,,),\"\")","v":""},{"$f":"IF(登録名簿!$AF$18=\"〇\",OFFSET(登録名簿!$C$18,0,4,,),\"\")","v":""},null,null,null,null,null,null,null,null,null,null,null,null,null,null,null,null,null,null,null,null,null,null,8,null,{"$f":"IF(登録名簿!$AG$18=\"〇\",登録名簿!$C$18,\"\")","v":""},{"$f":"IF(登録名簿!$AG$18=\"〇\",OFFSET(登録名簿!$C$18,0,2,,),\"\")","v":""},{"$f":"IF(登録名簿!$AG$18=\"〇\",OFFSET(登録名簿!$C$18,0,4,,),\"\")","v":""},null,null,null,null,null,null,null,null,null,null,null,null,null,null,null,null,null,null,null,null,null,null,8,null,{"$f":"IF(登録名簿!$AH$18=\"〇\",登録名簿!$C$18,\"\")","v":""},{"$f":"IF(登録名簿!$AH$18=\"〇\",OFFSET(登録名簿!$C$18,0,2,,),\"\")","v":""},{"$f":"IF(登録名簿!$AH$18=\"〇\",OFFSET(登録名簿!$C$18,0,4,,),\"\")","v":""},null,null,null,null,null,null,null,null,null,null,null,null,null,null,null,null,null,null,null,null,null,null,8,null,{"$f":"IF(登録名簿!$AI$18=\"〇\",登録名簿!$C$18,\"\")","v":""},{"$f":"IF(登録名簿!$AI$18=\"〇\",OFFSET(登録名簿!$C$18,0,2,,),\"\")","v":""},{"$f":"IF(登録名簿!$AI$18=\"〇\",OFFSET(登録名簿!$C$18,0,4,,),\"\")","v":""}]
[null,9,null,{"$f":"IF(登録名簿!$AF$19=\"〇\",登録名簿!$C$19,\"\")","v":""},{"$f":"IF(登録名簿!$AF$19=\"〇\",OFFSET(登録名簿!$C$19,0,2,,),\"\")","v":""},{"$f":"IF(登録名簿!$AF$19=\"〇\",OFFSET(登録名簿!$C$19,0,4,,),\"\")","v":""},null,null,null,null,null,null,null,null,null,null,null,null,null,null,null,null,null,null,null,null,null,null,9,null,{"$f":"IF(登録名簿!$AG$19=\"〇\",登録名簿!$C$19,\"\")","v":""},{"$f":"IF(登録名簿!$AG$19=\"〇\",OFFSET(登録名簿!$C$19,0,2,,),\"\")","v":""},{"$f":"IF(登録名簿!$AG$19=\"〇\",OFFSET(登録名簿!$C$19,0,4,,),\"\")","v":""},null,null,null,null,null,null,null,null,null,null,null,null,null,null,null,null,null,null,null,null,null,null,9,null,{"$f":"IF(登録名簿!$AH$19=\"〇\",登録名簿!$C$19,\"\")","v":""},{"$f":"IF(登録名簿!$AH$19=\"〇\",OFFSET(登録名簿!$C$19,0,2,,),\"\")","v":""},{"$f":"IF(登録名簿!$AH$19=\"〇\",OFFSET(登録名簿!$C$19,0,4,,),\"\")","v":""},null,null,null,null,null,null,null,null,null,null,null,null,null,null,null,null,null,null,null,null,null,null,9,null,{"$f":"IF(登録名簿!$AI$19=\"〇\",登録名簿!$C$19,\"\")","v":""},{"$f":"IF(登録名簿!$AI$19=\"〇\",OFFSET(登録名簿!$C$19,0,2,,),\"\")","v":""},{"$f":"IF(登録名簿!$AI$19=\"〇\",OFFSET(登録名簿!$C$19,0,4,,),\"\")","v":""}]
[null,10,null,{"$f":"IF(登録名簿!$AF$20=\"〇\",登録名簿!$C$20,\"\")","v":""},{"$f":"IF(登録名簿!$AF$20=\"〇\",OFFSET(登録名簿!$C$20,0,2,,),\"\")","v":""},{"$f":"IF(登録名簿!$AF$20=\"〇\",OFFSET(登録名簿!$C$20,0,4,,),\"\")","v":""},null,null,null,null,null,null,null,null,null,null,null,null,null,null,null,null,null,null,null,null,null,null,10,null,{"$f":"IF(登録名簿!$AG$20=\"〇\",登録名簿!$C$20,\"\")","v":""},{"$f":"IF(登録名簿!$AG$20=\"〇\",OFFSET(登録名簿!$C$20,0,2,,),\"\")","v":""},{"$f":"IF(登録名簿!$AG$20=\"〇\",OFFSET(登録名簿!$C$20,0,4,,),\"\")","v":""},null,null,null,null,null,null,null,null,null,null,null,null,null,null,null,null,null,null,null,null,null,null,10,null,{"$f":"IF(登録名簿!$AH$20=\"〇\",登録名簿!$C$20,\"\")","v":""},{"$f":"IF(登録名簿!$AH$20=\"〇\",OFFSET(登録名簿!$C$20,0,2,,),\"\")","v":""},{"$f":"IF(登録名簿!$AH$20=\"〇\",OFFSET(登録名簿!$C$20,0,4,,),\"\")","v":""},null,null,null,null,null,null,null,null,null,null,null,null,null,null,null,null,null,null,null,null,null,null,10,null,{"$f":"IF(登録名簿!$AI$20=\"〇\",登録名簿!$C$20,\"\")","v":""},{"$f":"IF(登録名簿!$AI$20=\"〇\",OFFSET(登録名簿!$C$20,0,2,,),\"\")","v":""},{"$f":"IF(登録名簿!$AI$20=\"〇\",OFFSET(登録名簿!$C$20,0,4,,),\"\")","v":""}]
[null,11,null,{"$f":"IF(登録名簿!$AF$21=\"〇\",登録名簿!$C$21,\"\")","v":""},{"$f":"IF(登録名簿!$AF$21=\"〇\",OFFSET(登録名簿!$C$21,0,2,,),\"\")","v":""},{"$f":"IF(登録名簿!$AF$21=\"〇\",OFFSET(登録名簿!$C$21,0,4,,),\"\")","v":""},null,null,null,null,null,null,null,null,null,null,null,null,null,null,null,null,null,null,null,null,null,null,11,null,{"$f":"IF(登録名簿!$AG$21=\"〇\",登録名簿!$C$21,\"\")","v":""},{"$f":"IF(登録名簿!$AG$21=\"〇\",OFFSET(登録名簿!$C$21,0,2,,),\"\")","v":""},{"$f":"IF(登録名簿!$AG$21=\"〇\",OFFSET(登録名簿!$C$21,0,4,,),\"\")","v":""},null,null,null,null,null,null,null,null,null,null,null,null,null,null,null,null,null,null,null,null,null,null,11,null,{"$f":"IF(登録名簿!$AH$21=\"〇\",登録名簿!$C$21,\"\")","v":""},{"$f":"IF(登録名簿!$AH$21=\"〇\",OFFSET(登録名簿!$C$21,0,2,,),\"\")","v":""},{"$f":"IF(登録名簿!$AH$21=\"〇\",OFFSET(登録名簿!$C$21,0,4,,),\"\")","v":""},null,null,null,null,null,null,null,null,null,null,null,null,null,null,null,null,null,null,null,null,null,null,11,null,{"$f":"IF(登録名簿!$AI$21=\"〇\",登録名簿!$C$21,\"\")","v":""},{"$f":"IF(登録名簿!$AI$21=\"〇\",OFFSET(登録名簿!$C$21,0,2,,),\"\")","v":""},{"$f":"IF(登録名簿!$AI$21=\"〇\",OFFSET(登録名簿!$C$21,0,4,,),\"\")","v":""}]
[null,12,null,{"$f":"IF(登録名簿!$AF$22=\"〇\",登録名簿!$C$22,\"\")","v":""},{"$f":"IF(登録名簿!$AF$22=\"〇\",OFFSET(登録名簿!$C$22,0,2,,),\"\")","v":""},{"$f":"IF(登録名簿!$AF$22=\"〇\",OFFSET(登録名簿!$C$22,0,4,,),\"\")","v":""},null,null,null,null,null,null,null,null,null,null,null,null,null,null,null,null,null,null,null,null,null,null,12,null,{"$f":"IF(登録名簿!$AG$22=\"〇\",登録名簿!$C$22,\"\")","v":""},{"$f":"IF(登録名簿!$AG$22=\"〇\",OFFSET(登録名簿!$C$22,0,2,,),\"\")","v":""},{"$f":"IF(登録名簿!$AG$22=\"〇\",OFFSET(登録名簿!$C$22,0,4,,),\"\")","v":""},null,null,null,null,null,null,null,null,null,null,null,null,null,null,null,null,null,null,null,null,null,null,12,null,{"$f":"IF(登録名簿!$AH$22=\"〇\",登録名簿!$C$22,\"\")","v":""},{"$f":"IF(登録名簿!$AH$22=\"〇\",OFFSET(登録名簿!$C$22,0,2,,),\"\")","v":""},{"$f":"IF(登録名簿!$AH$22=\"〇\",OFFSET(登録名簿!$C$22,0,4,,),\"\")","v":""},null,null,null,null,null,null,null,null,null,null,null,null,null,null,null,null,null,null,null,null,null,null,12,null,{"$f":"IF(登録名簿!$AI$22=\"〇\",登録名簿!$C$22,\"\")","v":""},{"$f":"IF(登録名簿!$AI$22=\"〇\",OFFSET(登録名簿!$C$22,0,2,,),\"\")","v":""},{"$f":"IF(登録名簿!$AI$22=\"〇\",OFFSET(登録名簿!$C$22,0,4,,),\"\")","v":""}]
[null,13,null,{"$f":"IF(登録名簿!$AF$23=\"〇\",登録名簿!$C$23,\"\")","v":""},{"$f":"IF(登録名簿!$AF$23=\"〇\",OFFSET(登録名簿!$C$23,0,2,,),\"\")","v":""},{"$f":"IF(登録名簿!$AF$23=\"〇\",OFFSET(登録名簿!$C$23,0,4,,),\"\")","v":""},null,null,null,null,null,null,null,null,null,null,null,null,null,null,null,null,null,null,null,null,null,null,13,null,{"$f":"IF(登録名簿!$AG$23=\"〇\",登録名簿!$C$23,\"\")","v":""},{"$f":"IF(登録名簿!$AG$23=\"〇\",OFFSET(登録名簿!$C$23,0,2,,),\"\")","v":""},{"$f":"IF(登録名簿!$AG$23=\"〇\",OFFSET(登録名簿!$C$23,0,4,,),\"\")","v":""},null,null,null,null,null,null,null,null,null,null,null,null,null,null,null,null,null,null,null,null,null,null,13,null,{"$f":"IF(登録名簿!$AH$23=\"〇\",登録名簿!$C$23,\"\")","v":""},{"$f":"IF(登録名簿!$AH$23=\"〇\",OFFSET(登録名簿!$C$23,0,2,,),\"\")","v":""},{"$f":"IF(登録名簿!$AH$23=\"〇\",OFFSET(登録名簿!$C$23,0,4,,),\"\")","v":""},null,null,null,null,null,null,null,null,null,null,null,null,null,null,null,null,null,null,null,null,null,null,13,null,{"$f":"IF(登録名簿!$AI$23=\"〇\",登録名簿!$C$23,\"\")","v":""},{"$f":"IF(登録名簿!$AI$23=\"〇\",OFFSET(登録名簿!$C$23,0,2,,),\"\")","v":""},{"$f":"IF(登録名簿!$AI$23=\"〇\",OFFSET(登録名簿!$C$23,0,4,,),\"\")","v":""}]
[null,14,null,{"$f":"IF(登録名簿!$AF$24=\"〇\",登録名簿!$C$24,\"\")","v":""},{"$f":"IF(登録名簿!$AF$24=\"〇\",OFFSET(登録名簿!$C$24,0,2,,),\"\")","v":""},{"$f":"IF(登録名簿!$AF$24=\"〇\",OFFSET(登録名簿!$C$24,0,4,,),\"\")","v":""},null,null,null,null,null,null,null,null,null,null,null,null,null,null,null,null,null,null,null,null,null,null,14,null,{"$f":"IF(登録名簿!$AG$24=\"〇\",登録名簿!$C$24,\"\")","v":""},{"$f":"IF(登録名簿!$AG$24=\"〇\",OFFSET(登録名簿!$C$24,0,2,,),\"\")","v":""},{"$f":"IF(登録名簿!$AG$24=\"〇\",OFFSET(登録名簿!$C$24,0,4,,),\"\")","v":""},null,null,null,null,null,null,null,null,null,null,null,null,null,null,null,null,null,null,null,null,null,null,14,null,{"$f":"IF(登録名簿!$AH$24=\"〇\",登録名簿!$C$24,\"\")","v":""},{"$f":"IF(登録名簿!$AH$24=\"〇\",OFFSET(登録名簿!$C$24,0,2,,),\"\")","v":""},{"$f":"IF(登録名簿!$AH$24=\"〇\",OFFSET(登録名簿!$C$24,0,4,,),\"\")","v":""},null,null,null,null,null,null,null,null,null,null,null,null,null,null,null,null,null,null,null,null,null,null,14,null,{"$f":"IF(登録名簿!$AI$24=\"〇\",登録名簿!$C$24,\"\")","v":""},{"$f":"IF(登録名簿!$AI$24=\"〇\",OFFSET(登録名簿!$C$24,0,2,,),\"\")","v":""},{"$f":"IF(登録名簿!$AI$24=\"〇\",OFFSET(登録名簿!$C$24,0,4,,),\"\")","v":""}]
[null,15,null,{"$f":"IF(登録名簿!$AF$25=\"〇\",登録名簿!$C$25,\"\")","v":""},{"$f":"IF(登録名簿!$AF$25=\"〇\",OFFSET(登録名簿!$C$25,0,2,,),\"\")","v":""},{"$f":"IF(登録名簿!$AF$25=\"〇\",OFFSET(登録名簿!$C$25,0,4,,),\"\")","v":""},null,null,null,null,null,null,null,null,null,null,null,null,null,null,null,null,null,null,null,null,null,null,15,null,{"$f":"IF(登録名簿!$AG$25=\"〇\",登録名簿!$C$25,\"\")","v":""},{"$f":"IF(登録名簿!$AG$25=\"〇\",OFFSET(登録名簿!$C$25,0,2,,),\"\")","v":""},{"$f":"IF(登録名簿!$AG$25=\"〇\",OFFSET(登録名簿!$C$25,0,4,,),\"\")","v":""},null,null,null,null,null,null,null,null,null,null,null,null,null,null,null,null,null,null,null,null,null,null,15,null,{"$f":"IF(登録名簿!$AH$25=\"〇\",登録名簿!$C$25,\"\")","v":""},{"$f":"IF(登録名簿!$AH$25=\"〇\",OFFSET(登録名簿!$C$25,0,2,,),\"\")","v":""},{"$f":"IF(登録名簿!$AH$25=\"〇\",OFFSET(登録名簿!$C$25,0,4,,),\"\")","v":""},null,null,null,null,null,null,null,null,null,null,null,null,null,null,null,null,null,null,null,null,null,null,15,null,{"$f":"IF(登録名簿!$AI$25=\"〇\",登録名簿!$C$25,\"\")","v":""},{"$f":"IF(登録名簿!$AI$25=\"〇\",OFFSET(登録名簿!$C$25,0,2,,),\"\")","v":""},{"$f":"IF(登録名簿!$AI$25=\"〇\",OFFSET(登録名簿!$C$25,0,4,,),\"\")","v":""}]
[null,16,null,{"$f":"IF(登録名簿!$AF$26=\"〇\",登録名簿!$C$26,\"\")","v":""},{"$f":"IF(登録名簿!$AF$26=\"〇\",OFFSET(登録名簿!$C$26,0,2,,),\"\")","v":""},{"$f":"IF(登録名簿!$AF$26=\"〇\",OFFSET(登録名簿!$C$26,0,4,,),\"\")","v":""},null,null,null,null,null,null,null,null,null,null,null,null,null,null,null,null,null,null,null,null,null,null,16,null,{"$f":"IF(登録名簿!$AG$26=\"〇\",登録名簿!$C$26,\"\")","v":""},{"$f":"IF(登録名簿!$AG$26=\"〇\",OFFSET(登録名簿!$C$26,0,2,,),\"\")","v":""},{"$f":"IF(登録名簿!$AG$26=\"〇\",OFFSET(登録名簿!$C$26,0,4,,),\"\")","v":""},null,null,null,null,null,null,null,null,null,null,null,null,null,null,null,null,null,null,null,null,null,null,16,null,{"$f":"IF(登録名簿!$AH$26=\"〇\",登録名簿!$C$26,\"\")","v":""},{"$f":"IF(登録名簿!$AH$26=\"〇\",OFFSET(登録名簿!$C$26,0,2,,),\"\")","v":""},{"$f":"IF(登録名簿!$AH$26=\"〇\",OFFSET(登録名簿!$C$26,0,4,,),\"\")","v":""},null,null,null,null,null,null,null,null,null,null,null,null,null,null,null,null,null,null,null,null,null,null,16,null,{"$f":"IF(登録名簿!$AI$26=\"〇\",登録名簿!$C$26,\"\")","v":""},{"$f":"IF(登録名簿!$AI$26=\"〇\",OFFSET(登録名簿!$C$26,0,2,,),\"\")","v":""},{"$f":"IF(登録名簿!$AI$26=\"〇\",OFFSET(登録名簿!$C$26,0,4,,),\"\")","v":""}]
[null,17,null,{"$f":"IF(登録名簿!$AF$27=\"〇\",登録名簿!$C$27,\"\")","v":""},{"$f":"IF(登録名簿!$AF$27=\"〇\",OFFSET(登録名簿!$C$27,0,2,,),\"\")","v":""},{"$f":"IF(登録名簿!$AF$27=\"〇\",OFFSET(登録名簿!$C$27,0,4,,),\"\")","v":""},null,null,null,null,null,null,null,null,null,null,null,null,null,null,null,null,null,null,null,null,null,null,17,null,{"$f":"IF(登録名簿!$AG$27=\"〇\",登録名簿!$C$27,\"\")","v":""},{"$f":"IF(登録名簿!$AG$27=\"〇\",OFFSET(登録名簿!$C$27,0,2,,),\"\")","v":""},{"$f":"IF(登録名簿!$AG$27=\"〇\",OFFSET(登録名簿!$C$27,0,4,,),\"\")","v":""},null,null,null,null,null,null,null,null,null,null,null,null,null,null,null,null,null,null,null,null,null,null,17,null,{"$f":"IF(登録名簿!$AH$27=\"〇\",登録名簿!$C$27,\"\")","v":""},{"$f":"IF(登録名簿!$AH$27=\"〇\",OFFSET(登録名簿!$C$27,0,2,,),\"\")","v":""},{"$f":"IF(登録名簿!$AH$27=\"〇\",OFFSET(登録名簿!$C$27,0,4,,),\"\")","v":""},null,null,null,null,null,null,null,null,null,null,null,null,null,null,null,null,null,null,null,null,null,null,17,null,{"$f":"IF(登録名簿!$AI$27=\"〇\",登録名簿!$C$27,\"\")","v":""},{"$f":"IF(登録名簿!$AI$27=\"〇\",OFFSET(登録名簿!$C$27,0,2,,),\"\")","v":""},{"$f":"IF(登録名簿!$AI$27=\"〇\",OFFSET(登録名簿!$C$27,0,4,,),\"\")","v":""}]
[null,18,null,{"$f":"IF(登録名簿!$AF$28=\"〇\",登録名簿!$C$28,\"\")","v":""},{"$f":"IF(登録名簿!$AF$28=\"〇\",OFFSET(登録名簿!$C$28,0,2,,),\"\")","v":""},{"$f":"IF(登録名簿!$AF$28=\"〇\",OFFSET(登録名簿!$C$28,0,4,,),\"\")","v":""},null,null,null,null,null,null,null,null,null,null,null,null,null,null,null,null,null,null,null,null,null,null,18,null,{"$f":"IF(登録名簿!$AG$28=\"〇\",登録名簿!$C$28,\"\")","v":""},{"$f":"IF(登録名簿!$AG$28=\"〇\",OFFSET(登録名簿!$C$28,0,2,,),\"\")","v":""},{"$f":"IF(登録名簿!$AG$28=\"〇\",OFFSET(登録名簿!$C$28,0,4,,),\"\")","v":""},null,null,null,null,null,null,null,null,null,null,null,null,null,null,null,null,null,null,null,null,null,null,18,null,{"$f":"IF(登録名簿!$AH$28=\"〇\",登録名簿!$C$28,\"\")","v":""},{"$f":"IF(登録名簿!$AH$28=\"〇\",OFFSET(登録名簿!$C$28,0,2,,),\"\")","v":""},{"$f":"IF(登録名簿!$AH$28=\"〇\",OFFSET(登録名簿!$C$28,0,4,,),\"\")","v":""},null,null,null,null,null,null,null,null,null,null,null,null,null,null,null,null,null,null,null,null,null,null,18,null,{"$f":"IF(登録名簿!$AI$28=\"〇\",登録名簿!$C$28,\"\")","v":""},{"$f":"IF(登録名簿!$AI$28=\"〇\",OFFSET(登録名簿!$C$28,0,2,,),\"\")","v":""},{"$f":"IF(登録名簿!$AI$28=\"〇\",OFFSET(登録名簿!$C$28,0,4,,),\"\")","v":""}]
[null,19,null,{"$f":"IF(登録名簿!$AF$29=\"〇\",登録名簿!$C$29,\"\")","v":""},{"$f":"IF(登録名簿!$AF$29=\"〇\",OFFSET(登録名簿!$C$29,0,2,,),\"\")","v":""},{"$f":"IF(登録名簿!$AF$29=\"〇\",OFFSET(登録名簿!$C$29,0,4,,),\"\")","v":""},null,null,null,null,null,null,null,null,null,null,null,null,null,null,null,null,null,null,null,null,null,null,19,null,{"$f":"IF(登録名簿!$AG$29=\"〇\",登録名簿!$C$29,\"\")","v":""},{"$f":"IF(登録名簿!$AG$29=\"〇\",OFFSET(登録名簿!$C$29,0,2,,),\"\")","v":""},{"$f":"IF(登録名簿!$AG$29=\"〇\",OFFSET(登録名簿!$C$29,0,4,,),\"\")","v":""},null,null,null,null,null,null,null,null,null,null,null,null,null,null,null,null,null,null,null,null,null,null,19,null,{"$f":"IF(登録名簿!$AH$29=\"〇\",登録名簿!$C$29,\"\")","v":""},{"$f":"IF(登録名簿!$AH$29=\"〇\",OFFSET(登録名簿!$C$29,0,2,,),\"\")","v":""},{"$f":"IF(登録名簿!$AH$29=\"〇\",OFFSET(登録名簿!$C$29,0,4,,),\"\")","v":""},null,null,null,null,null,null,null,null,null,null,null,null,null,null,null,null,null,null,null,null,null,null,19,null,{"$f":"IF(登録名簿!$AI$29=\"〇\",登録名簿!$C$29,\"\")","v":""},{"$f":"IF(登録名簿!$AI$29=\"〇\",OFFSET(登録名簿!$C$29,0,2,,),\"\")","v":""},{"$f":"IF(登録名簿!$AI$29=\"〇\",OFFSET(登録名簿!$C$29,0,4,,),\"\")","v":""}]
[null,20,null,{"$f":"IF(登録名簿!$AF$30=\"〇\",登録名簿!$C$30,\"\")","v":""},{"$f":"IF(登録名簿!$AF$30=\"〇\",OFFSET(登録名簿!$C$30,0,2,,),\"\")","v":""},{"$f":"IF(登録名簿!$AF$30=\"〇\",OFFSET(登録名簿!$C$30,0,4,,),\"\")","v":""},null,null,null,null,null,null,null,null,null,null,null,null,null,null,null,null,null,null,null,null,null,null,20,null,{"$f":"IF(登録名簿!$AG$30=\"〇\",登録名簿!$C$30,\"\")","v":""},{"$f":"IF(登録名簿!$AG$30=\"〇\",OFFSET(登録名簿!$C$30,0,2,,),\"\")","v":""},{"$f":"IF(登録名簿!$AG$30=\"〇\",OFFSET(登録名簿!$C$30,0,4,,),\"\")","v":""},null,null,null,null,null,null,null,null,null,null,null,null,null,null,null,null,null,null,null,null,null,null,20,null,{"$f":"IF(登録名簿!$AH$30=\"〇\",登録名簿!$C$30,\"\")","v":""},{"$f":"IF(登録名簿!$AH$30=\"〇\",OFFSET(登録名簿!$C$30,0,2,,),\"\")","v":""},{"$f":"IF(登録名簿!$AH$30=\"〇\",OFFSET(登録名簿!$C$30,0,4,,),\"\")","v":""},null,null,null,null,null,null,null,null,null,null,null,null,null,null,null,null,null,null,null,null,null,null,20,null,{"$f":"IF(登録名簿!$AI$30=\"〇\",登録名簿!$C$30,\"\")","v":""},{"$f":"IF(登録名簿!$AI$30=\"〇\",OFFSET(登録名簿!$C$30,0,2,,),\"\")","v":""},{"$f":"IF(登録名簿!$AI$30=\"〇\",OFFSET(登録名簿!$C$30,0,4,,),\"\")","v":""}]
[null,21,null,{"$f":"IF(登録名簿!$AF$31=\"〇\",登録名簿!$C$31,\"\")","v":""},{"$f":"IF(登録名簿!$AF$31=\"〇\",OFFSET(登録名簿!$C$31,0,2,,),\"\")","v":""},{"$f":"IF(登録名簿!$AF$31=\"〇\",OFFSET(登録名簿!$C$31,0,4,,),\"\")","v":""},null,null,null,null,null,null,null,null,null,null,null,null,null,null,null,null,null,null,null,null,null,null,21,null,{"$f":"IF(登録名簿!$AG$31=\"〇\",登録名簿!$C$31,\"\")","v":""},{"$f":"IF(登録名簿!$AG$31=\"〇\",OFFSET(登録名簿!$C$31,0,2,,),\"\")","v":""},{"$f":"IF(登録名簿!$AG$31=\"〇\",OFFSET(登録名簿!$C$31,0,4,,),\"\")","v":""},null,null,null,null,null,null,null,null,null,null,null,null,null,null,null,null,null,null,null,null,null,null,21,null,{"$f":"IF(登録名簿!$AH$31=\"〇\",登録名簿!$C$31,\"\")","v":""},{"$f":"IF(登録名簿!$AH$31=\"〇\",OFFSET(登録名簿!$C$31,0,2,,),\"\")","v":""},{"$f":"IF(登録名簿!$AH$31=\"〇\",OFFSET(登録名簿!$C$31,0,4,,),\"\")","v":""},null,null,null,null,null,null,null,null,null,null,null,null,null,null,null,null,null,null,null,null,null,null,21,null,{"$f":"IF(登録名簿!$AI$31=\"〇\",登録名簿!$C$31,\"\")","v":""},{"$f":"IF(登録名簿!$AI$31=\"〇\",OFFSET(登録名簿!$C$31,0,2,,),\"\")","v":""},{"$f":"IF(登録名簿!$AI$31=\"〇\",OFFSET(登録名簿!$C$31,0,4,,),\"\")","v":""}]
[null,22,null,{"$f":"IF(登録名簿!$AF$32=\"〇\",登録名簿!$C$32,\"\")","v":""},{"$f":"IF(登録名簿!$AF$32=\"〇\",OFFSET(登録名簿!$C$32,0,2,,),\"\")","v":""},{"$f":"IF(登録名簿!$AF$32=\"〇\",OFFSET(登録名簿!$C$32,0,4,,),\"\")","v":""},null,null,null,null,null,null,null,null,null,null,null,null,null,null,null,null,null,null,null,null,null,null,22,null,{"$f":"IF(登録名簿!$AG$32=\"〇\",登録名簿!$C$32,\"\")","v":""},{"$f":"IF(登録名簿!$AG$32=\"〇\",OFFSET(登録名簿!$C$32,0,2,,),\"\")","v":""},{"$f":"IF(登録名簿!$AG$32=\"〇\",OFFSET(登録名簿!$C$32,0,4,,),\"\")","v":""},null,null,null,null,null,null,null,null,null,null,null,null,null,null,null,null,null,null,null,null,null,null,22,null,{"$f":"IF(登録名簿!$AH$32=\"〇\",登録名簿!$C$32,\"\")","v":""},{"$f":"IF(登録名簿!$AH$32=\"〇\",OFFSET(登録名簿!$C$32,0,2,,),\"\")","v":""},{"$f":"IF(登録名簿!$AH$32=\"〇\",OFFSET(登録名簿!$C$32,0,4,,),\"\")","v":""},null,null,null,null,null,null,null,null,null,null,null,null,null,null,null,null,null,null,null,null,null,null,22,null,{"$f":"IF(登録名簿!$AI$32=\"〇\",登録名簿!$C$32,\"\")","v":""},{"$f":"IF(登録名簿!$AI$32=\"〇\",OFFSET(登録名簿!$C$32,0,2,,),\"\")","v":""},{"$f":"IF(登録名簿!$AI$32=\"〇\",OFFSET(登録名簿!$C$32,0,4,,),\"\")","v":""}]
[null,23,null,{"$f":"IF(登録名簿!$AF$33=\"〇\",登録名簿!$C$33,\"\")","v":""},{"$f":"IF(登録名簿!$AF$33=\"〇\",OFFSET(登録名簿!$C$33,0,2,,),\"\")","v":""},{"$f":"IF(登録名簿!$AF$33=\"〇\",OFFSET(登録名簿!$C$33,0,4,,),\"\")","v":""},null,null,null,null,null,null,null,null,null,null,null,null,null,null,null,null,null,null,null,null,null,null,23,null,{"$f":"IF(登録名簿!$AG$33=\"〇\",登録名簿!$C$33,\"\")","v":""},{"$f":"IF(登録名簿!$AG$33=\"〇\",OFFSET(登録名簿!$C$33,0,2,,),\"\")","v":""},{"$f":"IF(登録名簿!$AG$33=\"〇\",OFFSET(登録名簿!$C$33,0,4,,),\"\")","v":""},null,null,null,null,null,null,null,null,null,null,null,null,null,null,null,null,null,null,null,null,null,null,23,null,{"$f":"IF(登録名簿!$AH$33=\"〇\",登録名簿!$C$33,\"\")","v":""},{"$f":"IF(登録名簿!$AH$33=\"〇\",OFFSET(登録名簿!$C$33,0,2,,),\"\")","v":""},{"$f":"IF(登録名簿!$AH$33=\"〇\",OFFSET(登録名簿!$C$33,0,4,,),\"\")","v":""},null,null,null,null,null,null,null,null,null,null,null,null,null,null,null,null,null,null,null,null,null,null,23,null,{"$f":"IF(登録名簿!$AI$33=\"〇\",登録名簿!$C$33,\"\")","v":""},{"$f":"IF(登録名簿!$AI$33=\"〇\",OFFSET(登録名簿!$C$33,0,2,,),\"\")","v":""},{"$f":"IF(登録名簿!$AI$33=\"〇\",OFFSET(登録名簿!$C$33,0,4,,),\"\")","v":""}]
[null,24,null,{"$f":"IF(登録名簿!$AF$34=\"〇\",登録名簿!$C$34,\"\")","v":""},{"$f":"IF(登録名簿!$AF$34=\"〇\",OFFSET(登録名簿!$C$34,0,2,,),\"\")","v":""},{"$f":"IF(登録名簿!$AF$34=\"〇\",OFFSET(登録名簿!$C$34,0,4,,),\"\")","v":""},null,null,null,null,null,null,null,null,null,null,null,null,null,null,null,null,null,null,null,null,null,null,24,null,{"$f":"IF(登録名簿!$AG$34=\"〇\",登録名簿!$C$34,\"\")","v":""},{"$f":"IF(登録名簿!$AG$34=\"〇\",OFFSET(登録名簿!$C$34,0,2,,),\"\")","v":""},{"$f":"IF(登録名簿!$AG$34=\"〇\",OFFSET(登録名簿!$C$34,0,4,,),\"\")","v":""},null,null,null,null,null,null,null,null,null,null,null,null,null,null,null,null,null,null,null,null,null,null,24,null,{"$f":"IF(登録名簿!$AH$34=\"〇\",登録名簿!$C$34,\"\")","v":""},{"$f":"IF(登録名簿!$AH$34=\"〇\",OFFSET(登録名簿!$C$34,0,2,,),\"\")","v":""},{"$f":"IF(登録名簿!$AH$34=\"〇\",OFFSET(登録名簿!$C$34,0,4,,),\"\")","v":""},null,null,null,null,null,null,null,null,null,null,null,null,null,null,null,null,null,null,null,null,null,null,24,null,{"$f":"IF(登録名簿!$AI$34=\"〇\",登録名簿!$C$34,\"\")","v":""},{"$f":"IF(登録名簿!$AI$34=\"〇\",OFFSET(登録名簿!$C$34,0,2,,),\"\")","v":""},{"$f":"IF(登録名簿!$AI$34=\"〇\",OFFSET(登録名簿!$C$34,0,4,,),\"\")","v":""}]
[null,25,null,{"$f":"IF(登録名簿!$AF$35=\"〇\",登録名簿!$C$35,\"\")","v":""},{"$f":"IF(登録名簿!$AF$35=\"〇\",OFFSET(登録名簿!$C$35,0,2,,),\"\")","v":""},{"$f":"IF(登録名簿!$AF$35=\"〇\",OFFSET(登録名簿!$C$35,0,4,,),\"\")","v":""},null,null,null,null,null,null,null,null,null,null,null,null,null,null,null,null,null,null,null,null,null,null,25,null,{"$f":"IF(登録名簿!$AG$35=\"〇\",登録名簿!$C$35,\"\")","v":""},{"$f":"IF(登録名簿!$AG$35=\"〇\",OFFSET(登録名簿!$C$35,0,2,,),\"\")","v":""},{"$f":"IF(登録名簿!$AG$35=\"〇\",OFFSET(登録名簿!$C$35,0,4,,),\"\")","v":""},null,null,null,null,null,null,null,null,null,null,null,null,null,null,null,null,null,null,null,null,null,null,25,null,{"$f":"IF(登録名簿!$AH$35=\"〇\",登録名簿!$C$35,\"\")","v":""},{"$f":"IF(登録名簿!$AH$35=\"〇\",OFFSET(登録名簿!$C$35,0,2,,),\"\")","v":""},{"$f":"IF(登録名簿!$AH$35=\"〇\",OFFSET(登録名簿!$C$35,0,4,,),\"\")","v":""},null,null,null,null,null,null,null,null,null,null,null,null,null,null,null,null,null,null,null,null,null,null,25,null,{"$f":"IF(登録名簿!$AI$35=\"〇\",登録名簿!$C$35,\"\")","v":""},{"$f":"IF(登録名簿!$AI$35=\"〇\",OFFSET(登録名簿!$C$35,0,2,,),\"\")","v":""},{"$f":"IF(登録名簿!$AI$35=\"〇\",OFFSET(登録名簿!$C$35,0,4,,),\"\")","v":""}]
[null,26,null,{"$f":"IF(登録名簿!$AF$36=\"〇\",登録名簿!$C$36,\"\")","v":""},{"$f":"IF(登録名簿!$AF$36=\"〇\",OFFSET(登録名簿!$C$36,0,2,,),\"\")","v":""},{"$f":"IF(登録名簿!$AF$36=\"〇\",OFFSET(登録名簿!$C$36,0,4,,),\"\")","v":""},null,null,null,null,null,null,null,null,null,null,null,null,null,null,null,null,null,null,null,null,null,null,null,null,{"$f":"IF(登録名簿!$AG$36=\"〇\",登録名簿!$C$36,\"\")","v":""},{"$f":"IF(登録名簿!$AG$36=\"〇\",OFFSET(登録名簿!$C$36,0,2,,),\"\")","v":""},{"$f":"IF(登録名簿!$AG$36=\"〇\",OFFSET(登録名簿!$C$36,0,4,,),\"\")","v":""},null,null,null,null,null,null,null,null,null,null,null,null,null,null,null,null,null,null,null,null,null,null,26,null,{"$f":"IF(登録名簿!$AH$36=\"〇\",登録名簿!$C$36,\"\")","v":""},{"$f":"IF(登録名簿!$AH$36=\"〇\",OFFSET(登録名簿!$C$36,0,2,,),\"\")","v":""},{"$f":"IF(登録名簿!$AH$36=\"〇\",OFFSET(登録名簿!$C$36,0,4,,),\"\")","v":""},null,null,null,null,null,null,null,null,null,null,null,null,null,null,null,null,null,null,null,null,null,null,26,null,{"$f":"IF(登録名簿!$AI$36=\"〇\",登録名簿!$C$36,\"\")","v":""},{"$f":"IF(登録名簿!$AI$36=\"〇\",OFFSET(登録名簿!$C$36,0,2,,),\"\")","v":""},{"$f":"IF(登録名簿!$AI$36=\"〇\",OFFSET(登録名簿!$C$36,0,4,,),\"\")","v":""}]
[null,27,null,{"$f":"IF(登録名簿!$AF$37=\"〇\",登録名簿!$C$37,\"\")","v":""},{"$f":"IF(登録名簿!$AF$37=\"〇\",OFFSET(登録名簿!$C$37,0,2,,),\"\")","v":""},{"$f":"IF(登録名簿!$AF$37=\"〇\",OFFSET(登録名簿!$C$37,0,4,,),\"\")","v":""},null,null,null,null,null,null,null,null,null,null,null,null,null,null,null,null,null,null,null,null,null,null,null,null,{"$f":"IF(登録名簿!$AG$37=\"〇\",登録名簿!$C$37,\"\")","v":""},{"$f":"IF(登録名簿!$AG$37=\"〇\",OFFSET(登録名簿!$C$37,0,2,,),\"\")","v":""},{"$f":"IF(登録名簿!$AG$37=\"〇\",OFFSET(登録名簿!$C$37,0,4,,),\"\")","v":""},null,null,null,null,null,null,null,null,null,null,null,null,null,null,null,null,null,null,null,null,null,null,27,null,{"$f":"IF(登録名簿!$AH$37=\"〇\",登録名簿!$C$37,\"\")","v":""},{"$f":"IF(登録名簿!$AH$37=\"〇\",OFFSET(登録名簿!$C$37,0,2,,),\"\")","v":""},{"$f":"IF(登録名簿!$AH$37=\"〇\",OFFSET(登録名簿!$C$37,0,4,,),\"\")","v":""},null,null,null,null,null,null,null,null,null,null,null,null,null,null,null,null,null,null,null,null,null,null,27,null,{"$f":"IF(登録名簿!$AI$37=\"〇\",登録名簿!$C$37,\"\")","v":""},{"$f":"IF(登録名簿!$AI$37=\"〇\",OFFSET(登録名簿!$C$37,0,2,,),\"\")","v":""},{"$f":"IF(登録名簿!$AI$37=\"〇\",OFFSET(登録名簿!$C$37,0,4,,),\"\")","v":""}]
[null,28,null,{"$f":"IF(登録名簿!$AF$38=\"〇\",登録名簿!$C$38,\"\")","v":""},{"$f":"IF(登録名簿!$AF$38=\"〇\",OFFSET(登録名簿!$C$38,0,2,,),\"\")","v":""},{"$f":"IF(登録名簿!$AF$38=\"〇\",OFFSET(登録名簿!$C$38,0,4,,),\"\")","v":""},null,null,null,null,null,null,null,null,null,null,null,null,null,null,null,null,null,null,null,null,null,null,null,null,{"$f":"IF(登録名簿!$AG$38=\"〇\",登録名簿!$C$38,\"\")","v":""},{"$f":"IF(登録名簿!$AG$38=\"〇\",OFFSET(登録名簿!$C$38,0,2,,),\"\")","v":""},{"$f":"IF(登録名簿!$AG$38=\"〇\",OFFSET(登録名簿!$C$38,0,4,,),\"\")","v":""},null,null,null,null,null,null,null,null,null,null,null,null,null,null,null,null,null,null,null,null,null,null,28,null,{"$f":"IF(登録名簿!$AH$38=\"〇\",登録名簿!$C$38,\"\")","v":""},{"$f":"IF(登録名簿!$AH$38=\"〇\",OFFSET(登録名簿!$C$38,0,2,,),\"\")","v":""},{"$f":"IF(登録名簿!$AH$38=\"〇\",OFFSET(登録名簿!$C$38,0,4,,),\"\")","v":""},null,null,null,null,null,null,null,null,null,null,null,null,null,null,null,null,null,null,null,null,null,null,28,null,{"$f":"IF(登録名簿!$AI$38=\"〇\",登録名簿!$C$38,\"\")","v":""},{"$f":"IF(登録名簿!$AI$38=\"〇\",OFFSET(登録名簿!$C$38,0,2,,),\"\")","v":""},{"$f":"IF(登録名簿!$AI$38=\"〇\",OFFSET(登録名簿!$C$38,0,4,,),\"\")","v":""}]
[null,29,null,{"$f":"IF(登録名簿!$AF$39=\"〇\",登録名簿!$C$39,\"\")","v":""},{"$f":"IF(登録名簿!$AF$39=\"〇\",OFFSET(登録名簿!$C$39,0,2,,),\"\")","v":""},{"$f":"IF(登録名簿!$AF$39=\"〇\",OFFSET(登録名簿!$C$39,0,4,,),\"\")","v":""},null,null,null,null,null,null,null,null,null,null,null,null,null,null,null,null,null,null,null,null,null,null,null,null,{"$f":"IF(登録名簿!$AG$39=\"〇\",登録名簿!$C$39,\"\")","v":""},{"$f":"IF(登録名簿!$AG$39=\"〇\",OFFSET(登録名簿!$C$39,0,2,,),\"\")","v":""},{"$f":"IF(登録名簿!$AG$39=\"〇\",OFFSET(登録名簿!$C$39,0,4,,),\"\")","v":""},null,null,null,null,null,null,null,null,null,null,null,null,null,null,null,null,null,null,null,null,null,null,29,null,{"$f":"IF(登録名簿!$AH$39=\"〇\",登録名簿!$C$39,\"\")","v":""},{"$f":"IF(登録名簿!$AH$39=\"〇\",OFFSET(登録名簿!$C$39,0,2,,),\"\")","v":""},{"$f":"IF(登録名簿!$AH$39=\"〇\",OFFSET(登録名簿!$C$39,0,4,,),\"\")","v":""},null,null,null,null,null,null,null,null,null,null,null,null,null,null,null,null,null,null,null,null,null,null,29,null,{"$f":"IF(登録名簿!$AI$39=\"〇\",登録名簿!$C$39,\"\")","v":""},{"$f":"IF(登録名簿!$AI$39=\"〇\",OFFSET(登録名簿!$C$39,0,2,,),\"\")","v":""},{"$f":"IF(登録名簿!$AI$39=\"〇\",OFFSET(登録名簿!$C$39,0,4,,),\"\")","v":""}]
[null,30,null,{"$f":"IF(登録名簿!$AF$40=\"〇\",登録名簿!$C$40,\"\")","v":""},{"$f":"IF(登録名簿!$AF$40=\"〇\",OFFSET(登録名簿!$C$40,0,2,,),\"\")","v":""},{"$f":"IF(登録名簿!$AF$40=\"〇\",OFFSET(登録名簿!$C$40,0,4,,),\"\")","v":""},null,null,null,null,null,null,null,null,null,null,null,null,null,null,null,null,null,null,null,null,null,null,null,null,{"$f":"IF(登録名簿!$AG$40=\"〇\",登録名簿!$C$40,\"\")","v":""},{"$f":"IF(登録名簿!$AG$40=\"〇\",OFFSET(登録名簿!$C$40,0,2,,),\"\")","v":""},{"$f":"IF(登録名簿!$AG$40=\"〇\",OFFSET(登録名簿!$C$40,0,4,,),\"\")","v":""},null,null,null,null,null,null,null,null,null,null,null,null,null,null,null,null,null,null,null,null,null,null,30,null,{"$f":"IF(登録名簿!$AH$40=\"〇\",登録名簿!$C$40,\"\")","v":""},{"$f":"IF(登録名簿!$AH$40=\"〇\",OFFSET(登録名簿!$C$40,0,2,,),\"\")","v":""},{"$f":"IF(登録名簿!$AH$40=\"〇\",OFFSET(登録名簿!$C$40,0,4,,),\"\")","v":""},null,null,null,null,null,null,null,null,null,null,null,null,null,null,null,null,null,null,null,null,null,null,30,null,{"$f":"IF(登録名簿!$AI$40=\"〇\",登録名簿!$C$40,\"\")","v":""},{"$f":"IF(登録名簿!$AI$40=\"〇\",OFFSET(登録名簿!$C$40,0,2,,),\"\")","v":""},{"$f":"IF(登録名簿!$AI$40=\"〇\",OFFSET(登録名簿!$C$40,0,4,,),\"\")","v":""}]
[null,31,null,{"$f":"IF(登録名簿!$AF$41=\"〇\",登録名簿!$C$41,\"\")","v":""},{"$f":"IF(登録名簿!$AF$41=\"〇\",OFFSET(登録名簿!$C$41,0,2,,),\"\")","v":""},{"$f":"IF(登録名簿!$AF$41=\"〇\",OFFSET(登録名簿!$C$41,0,4,,),\"\")","v":""},null,null,null,null,null,null,null,null,null,null,null,null,null,null,null,null,null,null,null,null,null,null,null,null,{"$f":"IF(登録名簿!$AG$41=\"〇\",登録名簿!$C$41,\"\")","v":""},{"$f":"IF(登録名簿!$AG$41=\"〇\",OFFSET(登録名簿!$C$41,0,2,,),\"\")","v":""},{"$f":"IF(登録名簿!$AG$41=\"〇\",OFFSET(登録名簿!$C$41,0,4,,),\"\")","v":""},null,null,null,null,null,null,null,null,null,null,null,null,null,null,null,null,null,null,null,null,null,null,31,null,{"$f":"IF(登録名簿!$AH$41=\"〇\",登録名簿!$C$41,\"\")","v":""},{"$f":"IF(登録名簿!$AH$41=\"〇\",OFFSET(登録名簿!$C$41,0,2,,),\"\")","v":""},{"$f":"IF(登録名簿!$AH$41=\"〇\",OFFSET(登録名簿!$C$41,0,4,,),\"\")","v":""},null,null,null,null,null,null,null,null,null,null,null,null,null,null,null,null,null,null,null,null,null,null,31,null,{"$f":"IF(登録名簿!$AI$41=\"〇\",登録名簿!$C$41,\"\")","v":""},{"$f":"IF(登録名簿!$AI$41=\"〇\",OFFSET(登録名簿!$C$41,0,2,,),\"\")","v":""},{"$f":"IF(登録名簿!$AI$41=\"〇\",OFFSET(登録名簿!$C$41,0,4,,),\"\")","v":""}]
[null,32,null,{"$f":"IF(登録名簿!$AF$42=\"〇\",登録名簿!$C$42,\"\")","v":""},{"$f":"IF(登録名簿!$AF$42=\"〇\",OFFSET(登録名簿!$C$42,0,2,,),\"\")","v":""},{"$f":"IF(登録名簿!$AF$42=\"〇\",OFFSET(登録名簿!$C$42,0,4,,),\"\")","v":""},null,null,null,null,null,null,null,null,null,null,null,null,null,null,null,null,null,null,null,null,null,null,null,null,{"$f":"IF(登録名簿!$AG$42=\"〇\",登録名簿!$C$42,\"\")","v":""},{"$f":"IF(登録名簿!$AG$42=\"〇\",OFFSET(登録名簿!$C$42,0,2,,),\"\")","v":""},{"$f":"IF(登録名簿!$AG$42=\"〇\",OFFSET(登録名簿!$C$42,0,4,,),\"\")","v":""},null,null,null,null,null,null,null,null,null,null,null,null,null,null,null,null,null,null,null,null,null,null,32,null,{"$f":"IF(登録名簿!$AH$42=\"〇\",登録名簿!$C$42,\"\")","v":""},{"$f":"IF(登録名簿!$AH$42=\"〇\",OFFSET(登録名簿!$C$42,0,2,,),\"\")","v":""},{"$f":"IF(登録名簿!$AH$42=\"〇\",OFFSET(登録名簿!$C$42,0,4,,),\"\")","v":""},null,null,null,null,null,null,null,null,null,null,null,null,null,null,null,null,null,null,null,null,null,null,32,null,{"$f":"IF(登録名簿!$AI$42=\"〇\",登録名簿!$C$42,\"\")","v":""},{"$f":"IF(登録名簿!$AI$42=\"〇\",OFFSET(登録名簿!$C$42,0,2,,),\"\")","v":""},{"$f":"IF(登録名簿!$AI$42=\"〇\",OFFSET(登録名簿!$C$42,0,4,,),\"\")","v":""}]
[null,33,null,{"$f":"IF(登録名簿!$AF$43=\"〇\",登録名簿!$C$43,\"\")","v":""},{"$f":"IF(登録名簿!$AF$43=\"〇\",OFFSET(登録名簿!$C$43,0,2,,),\"\")","v":""},{"$f":"IF(登録名簿!$AF$43=\"〇\",OFFSET(登録名簿!$C$43,0,4,,),\"\")","v":""},null,null,null,null,null,null,null,null,null,null,null,null,null,null,null,null,null,null,null,null,null,null,null,null,{"$f":"IF(登録名簿!$AG$43=\"〇\",登録名簿!$C$43,\"\")","v":""},{"$f":"IF(登録名簿!$AG$43=\"〇\",OFFSET(登録名簿!$C$43,0,2,,),\"\")","v":""},{"$f":"IF(登録名簿!$AG$43=\"〇\",OFFSET(登録名簿!$C$43,0,4,,),\"\")","v":""},null,null,null,null,null,null,null,null,null,null,null,null,null,null,null,null,null,null,null,null,null,null,33,null,{"$f":"IF(登録名簿!$AH$43=\"〇\",登録名簿!$C$43,\"\")","v":""},{"$f":"IF(登録名簿!$AH$43=\"〇\",OFFSET(登録名簿!$C$43,0,2,,),\"\")","v":""},{"$f":"IF(登録名簿!$AH$43=\"〇\",OFFSET(登録名簿!$C$43,0,4,,),\"\")","v":""},null,null,null,null,null,null,null,null,null,null,null,null,null,null,null,null,null,null,null,null,null,null,33,null,{"$f":"IF(登録名簿!$AI$43=\"〇\",登録名簿!$C$43,\"\")","v":""},{"$f":"IF(登録名簿!$AI$43=\"〇\",OFFSET(登録名簿!$C$43,0,2,,),\"\")","v":""},{"$f":"IF(登録名簿!$AI$43=\"〇\",OFFSET(登録名簿!$C$43,0,4,,),\"\")","v":""}]
[null,34,null,{"$f":"IF(登録名簿!$AF$44=\"〇\",登録名簿!$C$44,\"\")","v":""},{"$f":"IF(登録名簿!$AF$44=\"〇\",OFFSET(登録名簿!$C$44,0,2,,),\"\")","v":""},{"$f":"IF(登録名簿!$AF$44=\"〇\",OFFSET(登録名簿!$C$44,0,4,,),\"\")","v":""},null,null,null,null,null,null,null,null,null,null,null,null,null,null,null,null,null,null,null,null,null,null,null,null,{"$f":"IF(登録名簿!$AG$44=\"〇\",登録名簿!$C$44,\"\")","v":""},{"$f":"IF(登録名簿!$AG$44=\"〇\",OFFSET(登録名簿!$C$44,0,2,,),\"\")","v":""},{"$f":"IF(登録名簿!$AG$44=\"〇\",OFFSET(登録名簿!$C$44,0,4,,),\"\")","v":""},null,null,null,null,null,null,null,null,null,null,null,null,null,null,null,null,null,null,null,null,null,null,34,null,{"$f":"IF(登録名簿!$AH$44=\"〇\",登録名簿!$C$44,\"\")","v":""},{"$f":"IF(登録名簿!$AH$44=\"〇\",OFFSET(登録名簿!$C$44,0,2,,),\"\")","v":""},{"$f":"IF(登録名簿!$AH$44=\"〇\",OFFSET(登録名簿!$C$44,0,4,,),\"\")","v":""},null,null,null,null,null,null,null,null,null,null,null,null,null,null,null,null,null,null,null,null,null,null,34,null,{"$f":"IF(登録名簿!$AI$44=\"〇\",登録名簿!$C$44,\"\")","v":""},{"$f":"IF(登録名簿!$AI$44=\"〇\",OFFSET(登録名簿!$C$44,0,2,,),\"\")","v":""},{"$f":"IF(登録名簿!$AI$44=\"〇\",OFFSET(登録名簿!$C$44,0,4,,),\"\")","v":""}]
[null,35,null,{"$f":"IF(登録名簿!$AF$45=\"〇\",登録名簿!$C$45,\"\")","v":""},{"$f":"IF(登録名簿!$AF$45=\"〇\",OFFSET(登録名簿!$C$45,0,2,,),\"\")","v":""},{"$f":"IF(登録名簿!$AF$45=\"〇\",OFFSET(登録名簿!$C$45,0,4,,),\"\")","v":""},null,null,null,null,null,null,null,null,null,null,null,null,null,null,null,null,null,null,null,null,null,null,null,null,{"$f":"IF(登録名簿!$AG$45=\"〇\",登録名簿!$C$45,\"\")","v":""},{"$f":"IF(登録名簿!$AG$45=\"〇\",OFFSET(登録名簿!$C$45,0,2,,),\"\")","v":""},{"$f":"IF(登録名簿!$AG$45=\"〇\",OFFSET(登録名簿!$C$45,0,4,,),\"\")","v":""},null,null,null,null,null,null,null,null,null,null,null,null,null,null,null,null,null,null,null,null,null,null,35,null,{"$f":"IF(登録名簿!$AH$45=\"〇\",登録名簿!$C$45,\"\")","v":""},{"$f":"IF(登録名簿!$AH$45=\"〇\",OFFSET(登録名簿!$C$45,0,2,,),\"\")","v":""},{"$f":"IF(登録名簿!$AH$45=\"〇\",OFFSET(登録名簿!$C$45,0,4,,),\"\")","v":""},null,null,null,null,null,null,null,null,null,null,null,null,null,null,null,null,null,null,null,null,null,null,35,null,{"$f":"IF(登録名簿!$AI$45=\"〇\",登録名簿!$C$45,\"\")","v":""},{"$f":"IF(登録名簿!$AI$45=\"〇\",OFFSET(登録名簿!$C$45,0,2,,),\"\")","v":""},{"$f":"IF(登録名簿!$AI$45=\"〇\",OFFSET(登録名簿!$C$45,0,4,,),\"\")","v":""}]
[null,36,null,{"$f":"IF(登録名簿!$AF$46=\"〇\",登録名簿!$C$46,\"\")","v":""},{"$f":"IF(登録名簿!$AF$46=\"〇\",OFFSET(登録名簿!$C$46,0,2,,),\"\")","v":""},{"$f":"IF(登録名簿!$AF$46=\"〇\",OFFSET(登録名簿!$C$46,0,4,,),\"\")","v":""},null,null,null,null,null,null,null,null,null,null,null,null,null,null,null,null,null,null,null,null,null,null,null,null,{"$f":"IF(登録名簿!$AG$46=\"〇\",登録名簿!$C$46,\"\")","v":""},{"$f":"IF(登録名簿!$AG$46=\"〇\",OFFSET(登録名簿!$C$46,0,2,,),\"\")","v":""},{"$f":"IF(登録名簿!$AG$46=\"〇\",OFFSET(登録名簿!$C$46,0,4,,),\"\")","v":""},null,null,null,null,null,null,null,null,null,null,null,null,null,null,null,null,null,null,null,null,null,null,36,null,{"$f":"IF(登録名簿!$AH$46=\"〇\",登録名簿!$C$46,\"\")","v":""},{"$f":"IF(登録名簿!$AH$46=\"〇\",OFFSET(登録名簿!$C$46,0,2,,),\"\")","v":""},{"$f":"IF(登録名簿!$AH$46=\"〇\",OFFSET(登録名簿!$C$46,0,4,,),\"\")","v":""},null,null,null,null,null,null,null,null,null,null,null,null,null,null,null,null,null,null,null,null,null,null,36,null,{"$f":"IF(登録名簿!$AI$46=\"〇\",登録名簿!$C$46,\"\")","v":""},{"$f":"IF(登録名簿!$AI$46=\"〇\",OFFSET(登録名簿!$C$46,0,2,,),\"\")","v":""},{"$f":"IF(登録名簿!$AI$46=\"〇\",OFFSET(登録名簿!$C$46,0,4,,),\"\")","v":""}]
[null,37,null,{"$f":"IF(登録名簿!$AF$47=\"〇\",登録名簿!$C$47,\"\")","v":""},{"$f":"IF(登録名簿!$AF$47=\"〇\",OFFSET(登録名簿!$C$47,0,2,,),\"\")","v":""},{"$f":"IF(登録名簿!$AF$47=\"〇\",OFFSET(登録名簿!$C$47,0,4,,),\"\")","v":""},null,null,null,null,null,null,null,null,null,null,null,null,null,null,null,null,null,null,null,null,null,null,null,null,{"$f":"IF(登録名簿!$AG$47=\"〇\",登録名簿!$C$47,\"\")","v":""},{"$f":"IF(登録名簿!$AG$47=\"〇\",OFFSET(登録名簿!$C$47,0,2,,),\"\")","v":""},{"$f":"IF(登録名簿!$AG$47=\"〇\",OFFSET(登録名簿!$C$47,0,4,,),\"\")","v":""},null,null,null,null,null,null,null,null,null,null,null,null,null,null,null,null,null,null,null,null,null,null,37,null,{"$f":"IF(登録名簿!$AH$47=\"〇\",登録名簿!$C$47,\"\")","v":""},{"$f":"IF(登録名簿!$AH$47=\"〇\",OFFSET(登録名簿!$C$47,0,2,,),\"\")","v":""},{"$f":"IF(登録名簿!$AH$47=\"〇\",OFFSET(登録名簿!$C$47,0,4,,),\"\")","v":""},null,null,null,null,null,null,null,null,null,null,null,null,null,null,null,null,null,null,null,null,null,null,37,null,{"$f":"IF(登録名簿!$AI$47=\"〇\",登録名簿!$C$47,\"\")","v":""},{"$f":"IF(登録名簿!$AI$47=\"〇\",OFFSET(登録名簿!$C$47,0,2,,),\"\")","v":""},{"$f":"IF(登録名簿!$AI$47=\"〇\",OFFSET(登録名簿!$C$47,0,4,,),\"\")","v":""}]
[null,38,null,{"$f":"IF(登録名簿!$AF$48=\"〇\",登録名簿!$C$48,\"\")","v":""},{"$f":"IF(登録名簿!$AF$48=\"〇\",OFFSET(登録名簿!$C$48,0,2,,),\"\")","v":""},{"$f":"IF(登録名簿!$AF$48=\"〇\",OFFSET(登録名簿!$C$48,0,4,,),\"\")","v":""},null,null,null,null,null,null,null,null,null,null,null,null,null,null,null,null,null,null,null,null,null,null,null,null,{"$f":"IF(登録名簿!$AG$48=\"〇\",登録名簿!$C$48,\"\")","v":""},{"$f":"IF(登録名簿!$AG$48=\"〇\",OFFSET(登録名簿!$C$48,0,2,,),\"\")","v":""},{"$f":"IF(登録名簿!$AG$48=\"〇\",OFFSET(登録名簿!$C$48,0,4,,),\"\")","v":""},null,null,null,null,null,null,null,null,null,null,null,null,null,null,null,null,null,null,null,null,null,null,38,null,{"$f":"IF(登録名簿!$AH$48=\"〇\",登録名簿!$C$48,\"\")","v":""},{"$f":"IF(登録名簿!$AH$48=\"〇\",OFFSET(登録名簿!$C$48,0,2,,),\"\")","v":""},{"$f":"IF(登録名簿!$AH$48=\"〇\",OFFSET(登録名簿!$C$48,0,4,,),\"\")","v":""},null,null,null,null,null,null,null,null,null,null,null,null,null,null,null,null,null,null,null,null,null,null,38,null,{"$f":"IF(登録名簿!$AI$48=\"〇\",登録名簿!$C$48,\"\")","v":""},{"$f":"IF(登録名簿!$AI$48=\"〇\",OFFSET(登録名簿!$C$48,0,2,,),\"\")","v":""},{"$f":"IF(登録名簿!$AI$48=\"〇\",OFFSET(登録名簿!$C$48,0,4,,),\"\")","v":""}]
[null,39,null,{"$f":"IF(登録名簿!$AF$49=\"〇\",登録名簿!$C$49,\"\")","v":""},{"$f":"IF(登録名簿!$AF$49=\"〇\",OFFSET(登録名簿!$C$49,0,2,,),\"\")","v":""},{"$f":"IF(登録名簿!$AF$49=\"〇\",OFFSET(登録名簿!$C$49,0,4,,),\"\")","v":""},null,null,null,null,null,null,null,null,null,null,null,null,null,null,null,null,null,null,null,null,null,null,null,null,{"$f":"IF(登録名簿!$AG$49=\"〇\",登録名簿!$C$49,\"\")","v":""},{"$f":"IF(登録名簿!$AG$49=\"〇\",OFFSET(登録名簿!$C$49,0,2,,),\"\")","v":""},{"$f":"IF(登録名簿!$AG$49=\"〇\",OFFSET(登録名簿!$C$49,0,4,,),\"\")","v":""},null,null,null,null,null,null,null,null,null,null,null,null,null,null,null,null,null,null,null,null,null,null,39,null,{"$f":"IF(登録名簿!$AH$49=\"〇\",登録名簿!$C$49,\"\")","v":""},{"$f":"IF(登録名簿!$AH$49=\"〇\",OFFSET(登録名簿!$C$49,0,2,,),\"\")","v":""},{"$f":"IF(登録名簿!$AH$49=\"〇\",OFFSET(登録名簿!$C$49,0,4,,),\"\")","v":""},null,null,null,null,null,null,null,null,null,null,null,null,null,null,null,null,null,null,null,null,null,null,39,null,{"$f":"IF(登録名簿!$AI$49=\"〇\",登録名簿!$C$49,\"\")","v":""},{"$f":"IF(登録名簿!$AI$49=\"〇\",OFFSET(登録名簿!$C$49,0,2,,),\"\")","v":""},{"$f":"IF(登録名簿!$AI$49=\"〇\",OFFSET(登録名簿!$C$49,0,4,,),\"\")","v":""}]
[null,40,null,{"$f":"IF(登録名簿!$AF$50=\"〇\",登録名簿!$C$50,\"\")","v":""},{"$f":"IF(登録名簿!$AF$50=\"〇\",OFFSET(登録名簿!$C$50,0,2,,),\"\")","v":""},{"$f":"IF(登録名簿!$AF$50=\"〇\",OFFSET(登録名簿!$C$50,0,4,,),\"\")","v":""},null,null,null,null,null,null,null,null,null,null,null,null,null,null,null,null,null,null,null,null,null,null,null,null,{"$f":"IF(登録名簿!$AG$50=\"〇\",登録名簿!$C$50,\"\")","v":""},{"$f":"IF(登録名簿!$AG$50=\"〇\",OFFSET(登録名簿!$C$50,0,2,,),\"\")","v":""},{"$f":"IF(登録名簿!$AG$50=\"〇\",OFFSET(登録名簿!$C$50,0,4,,),\"\")","v":""},null,null,null,null,null,null,null,null,null,null,null,null,null,null,null,null,null,null,null,null,null,null,40,null,{"$f":"IF(登録名簿!$AH$50=\"〇\",登録名簿!$C$50,\"\")","v":""},{"$f":"IF(登録名簿!$AH$50=\"〇\",OFFSET(登録名簿!$C$50,0,2,,),\"\")","v":""},{"$f":"IF(登録名簿!$AH$50=\"〇\",OFFSET(登録名簿!$C$50,0,4,,),\"\")","v":""},null,null,null,null,null,null,null,null,null,null,null,null,null,null,null,null,null,null,null,null,null,null,40,null,{"$f":"IF(登録名簿!$AI$50=\"〇\",登録名簿!$C$50,\"\")","v":""},{"$f":"IF(登録名簿!$AI$50=\"〇\",OFFSET(登録名簿!$C$50,0,2,,),\"\")","v":""},{"$f":"IF(登録名簿!$AI$50=\"〇\",OFFSET(登録名簿!$C$50,0,4,,),\"\")","v":""}]
[null,41,null,{"$f":"IF(登録名簿!$AF$51=\"〇\",登録名簿!$C$51,\"\")","v":""},{"$f":"IF(登録名簿!$AF$51=\"〇\",OFFSET(登録名簿!$C$51,0,2,,),\"\")","v":""},{"$f":"IF(登録名簿!$AF$51=\"〇\",OFFSET(登録名簿!$C$51,0,4,,),\"\")","v":""},null,null,null,null,null,null,null,null,null,null,null,null,null,null,null,null,null,null,null,null,null,null,null,null,{"$f":"IF(登録名簿!$AG$51=\"〇\",登録名簿!$C$51,\"\")","v":""},{"$f":"IF(登録名簿!$AG$51=\"〇\",OFFSET(登録名簿!$C$51,0,2,,),\"\")","v":""},{"$f":"IF(登録名簿!$AG$51=\"〇\",OFFSET(登録名簿!$C$51,0,4,,),\"\")","v":""},null,null,null,null,null,null,null,null,null,null,null,null,null,null,null,null,null,null,null,null,null,null,41,null,{"$f":"IF(登録名簿!$AH$51=\"〇\",登録名簿!$C$51,\"\")","v":""},{"$f":"IF(登録名簿!$AH$51=\"〇\",OFFSET(登録名簿!$C$51,0,2,,),\"\")","v":""},{"$f":"IF(登録名簿!$AH$51=\"〇\",OFFSET(登録名簿!$C$51,0,4,,),\"\")","v":""},null,null,null,null,null,null,null,null,null,null,null,null,null,null,null,null,null,null,null,null,null,null,41,null,{"$f":"IF(登録名簿!$AI$51=\"〇\",登録名簿!$C$51,\"\")","v":""},{"$f":"IF(登録名簿!$AI$51=\"〇\",OFFSET(登録名簿!$C$51,0,2,,),\"\")","v":""},{"$f":"IF(登録名簿!$AI$51=\"〇\",OFFSET(登録名簿!$C$51,0,4,,),\"\")","v":""}]
[null,42,null,{"$f":"IF(登録名簿!$AF$52=\"〇\",登録名簿!$C$52,\"\")","v":""},{"$f":"IF(登録名簿!$AF$52=\"〇\",OFFSET(登録名簿!$C$52,0,2,,),\"\")","v":""},{"$f":"IF(登録名簿!$AF$52=\"〇\",OFFSET(登録名簿!$C$52,0,4,,),\"\")","v":""},null,null,null,null,null,null,null,null,null,null,null,null,null,null,null,null,null,null,null,null,null,null,null,null,{"$f":"IF(登録名簿!$AG$52=\"〇\",登録名簿!$C$52,\"\")","v":""},{"$f":"IF(登録名簿!$AG$52=\"〇\",OFFSET(登録名簿!$C$52,0,2,,),\"\")","v":""},{"$f":"IF(登録名簿!$AG$52=\"〇\",OFFSET(登録名簿!$C$52,0,4,,),\"\")","v":""},null,null,null,null,null,null,null,null,null,null,null,null,null,null,null,null,null,null,null,null,null,null,42,null,{"$f":"IF(登録名簿!$AH$52=\"〇\",登録名簿!$C$52,\"\")","v":""},{"$f":"IF(登録名簿!$AH$52=\"〇\",OFFSET(登録名簿!$C$52,0,2,,),\"\")","v":""},{"$f":"IF(登録名簿!$AH$52=\"〇\",OFFSET(登録名簿!$C$52,0,4,,),\"\")","v":""},null,null,null,null,null,null,null,null,null,null,null,null,null,null,null,null,null,null,null,null,null,null,42,null,{"$f":"IF(登録名簿!$AI$52=\"〇\",登録名簿!$C$52,\"\")","v":""},{"$f":"IF(登録名簿!$AI$52=\"〇\",OFFSET(登録名簿!$C$52,0,2,,),\"\")","v":""},{"$f":"IF(登録名簿!$AI$52=\"〇\",OFFSET(登録名簿!$C$52,0,4,,),\"\")","v":""}]
[null,43,null,{"$f":"IF(登録名簿!$AF$53=\"〇\",登録名簿!$C$53,\"\")","v":""},{"$f":"IF(登録名簿!$AF$53=\"〇\",OFFSET(登録名簿!$C$53,0,2,,),\"\")","v":""},{"$f":"IF(登録名簿!$AF$53=\"〇\",OFFSET(登録名簿!$C$53,0,4,,),\"\")","v":""},null,null,null,null,null,null,null,null,null,null,null,null,null,null,null,null,null,null,null,null,null,null,null,null,{"$f":"IF(登録名簿!$AG$53=\"〇\",登録名簿!$C$53,\"\")","v":""},{"$f":"IF(登録名簿!$AG$53=\"〇\",OFFSET(登録名簿!$C$53,0,2,,),\"\")","v":""},{"$f":"IF(登録名簿!$AG$53=\"〇\",OFFSET(登録名簿!$C$53,0,4,,),\"\")","v":""},null,null,null,null,null,null,null,null,null,null,null,null,null,null,null,null,null,null,null,null,null,null,43,null,{"$f":"IF(登録名簿!$AH$53=\"〇\",登録名簿!$C$53,\"\")","v":""},{"$f":"IF(登録名簿!$AH$53=\"〇\",OFFSET(登録名簿!$C$53,0,2,,),\"\")","v":""},{"$f":"IF(登録名簿!$AH$53=\"〇\",OFFSET(登録名簿!$C$53,0,4,,),\"\")","v":""},null,null,null,null,null,null,null,null,null,null,null,null,null,null,null,null,null,null,null,null,null,null,43,null,{"$f":"IF(登録名簿!$AI$53=\"〇\",登録名簿!$C$53,\"\")","v":""},{"$f":"IF(登録名簿!$AI$53=\"〇\",OFFSET(登録名簿!$C$53,0,2,,),\"\")","v":""},{"$f":"IF(登録名簿!$AI$53=\"〇\",OFFSET(登録名簿!$C$53,0,4,,),\"\")","v":""}]
[null,44,null,{"$f":"IF(登録名簿!$AF$54=\"〇\",登録名簿!$C$54,\"\")","v":""},{"$f":"IF(登録名簿!$AF$54=\"〇\",OFFSET(登録名簿!$C$54,0,2,,),\"\")","v":""},{"$f":"IF(登録名簿!$AF$54=\"〇\",OFFSET(登録名簿!$C$54,0,4,,),\"\")","v":""},null,null,null,null,null,null,null,null,null,null,null,null,null,null,null,null,null,null,null,null,null,null,null,null,{"$f":"IF(登録名簿!$AG$54=\"〇\",登録名簿!$C$54,\"\")","v":""},{"$f":"IF(登録名簿!$AG$54=\"〇\",OFFSET(登録名簿!$C$54,0,2,,),\"\")","v":""},{"$f":"IF(登録名簿!$AG$54=\"〇\",OFFSET(登録名簿!$C$54,0,4,,),\"\")","v":""},null,null,null,null,null,null,null,null,null,null,null,null,null,null,null,null,null,null,null,null,null,null,44,null,{"$f":"IF(登録名簿!$AH$54=\"〇\",登録名簿!$C$54,\"\")","v":""},{"$f":"IF(登録名簿!$AH$54=\"〇\",OFFSET(登録名簿!$C$54,0,2,,),\"\")","v":""},{"$f":"IF(登録名簿!$AH$54=\"〇\",OFFSET(登録名簿!$C$54,0,4,,),\"\")","v":""},null,null,null,null,null,null,null,null,null,null,null,null,null,null,null,null,null,null,null,null,null,null,44,null,{"$f":"IF(登録名簿!$AI$54=\"〇\",登録名簿!$C$54,\"\")","v":""},{"$f":"IF(登録名簿!$AI$54=\"〇\",OFFSET(登録名簿!$C$54,0,2,,),\"\")","v":""},{"$f":"IF(登録名簿!$AI$54=\"〇\",OFFSET(登録名簿!$C$54,0,4,,),\"\")","v":""}]
[null,45,null,{"$f":"IF(登録名簿!$AF$55=\"〇\",登録名簿!$C$55,\"\")","v":""},{"$f":"IF(登録名簿!$AF$55=\"〇\",OFFSET(登録名簿!$C$55,0,2,,),\"\")","v":""},{"$f":"IF(登録名簿!$AF$55=\"〇\",OFFSET(登録名簿!$C$55,0,4,,),\"\")","v":""},null,null,null,null,null,null,null,null,null,null,null,null,null,null,null,null,null,null,null,null,null,null,null,null,{"$f":"IF(登録名簿!$AG$55=\"〇\",登録名簿!$C$55,\"\")","v":""},{"$f":"IF(登録名簿!$AG$55=\"〇\",OFFSET(登録名簿!$C$55,0,2,,),\"\")","v":""},{"$f":"IF(登録名簿!$AG$55=\"〇\",OFFSET(登録名簿!$C$55,0,4,,),\"\")","v":""},null,null,null,null,null,null,null,null,null,null,null,null,null,null,null,null,null,null,null,null,null,null,45,null,{"$f":"IF(登録名簿!$AH$55=\"〇\",登録名簿!$C$55,\"\")","v":""},{"$f":"IF(登録名簿!$AH$55=\"〇\",OFFSET(登録名簿!$C$55,0,2,,),\"\")","v":""},{"$f":"IF(登録名簿!$AH$55=\"〇\",OFFSET(登録名簿!$C$55,0,4,,),\"\")","v":""},null,null,null,null,null,null,null,null,null,null,null,null,null,null,null,null,null,null,null,null,null,null,45,null,{"$f":"IF(登録名簿!$AI$55=\"〇\",登録名簿!$C$55,\"\")","v":""},{"$f":"IF(登録名簿!$AI$55=\"〇\",OFFSET(登録名簿!$C$55,0,2,,),\"\")","v":""},{"$f":"IF(登録名簿!$AI$55=\"〇\",OFFSET(登録名簿!$C$55,0,4,,),\"\")","v":""}]
[null,46,null,{"$f":"IF(登録名簿!$AF$56=\"〇\",登録名簿!$C$56,\"\")","v":""},{"$f":"IF(登録名簿!$AF$56=\"〇\",OFFSET(登録名簿!$C$56,0,2,,),\"\")","v":""},{"$f":"IF(登録名簿!$AF$56=\"〇\",OFFSET(登録名簿!$C$56,0,4,,),\"\")","v":""},null,null,null,null,null,null,null,null,null,null,null,null,null,null,null,null,null,null,null,null,null,null,null,null,{"$f":"IF(登録名簿!$AG$56=\"〇\",登録名簿!$C$56,\"\")","v":""},{"$f":"IF(登録名簿!$AG$56=\"〇\",OFFSET(登録名簿!$C$56,0,2,,),\"\")","v":""},{"$f":"IF(登録名簿!$AG$56=\"〇\",OFFSET(登録名簿!$C$56,0,4,,),\"\")","v":""},null,null,null,null,null,null,null,null,null,null,null,null,null,null,null,null,null,null,null,null,null,null,46,null,{"$f":"IF(登録名簿!$AH$56=\"〇\",登録名簿!$C$56,\"\")","v":""},{"$f":"IF(登録名簿!$AH$56=\"〇\",OFFSET(登録名簿!$C$56,0,2,,),\"\")","v":""},{"$f":"IF(登録名簿!$AH$56=\"〇\",OFFSET(登録名簿!$C$56,0,4,,),\"\")","v":""},null,null,null,null,null,null,null,null,null,null,null,null,null,null,null,null,null,null,null,null,null,null,46,null,{"$f":"IF(登録名簿!$AI$56=\"〇\",登録名簿!$C$56,\"\")","v":""},{"$f":"IF(登録名簿!$AI$56=\"〇\",OFFSET(登録名簿!$C$56,0,2,,),\"\")","v":""},{"$f":"IF(登録名簿!$AI$56=\"〇\",OFFSET(登録名簿!$C$56,0,4,,),\"\")","v":""}]
[null,47,null,{"$f":"IF(登録名簿!$AF$57=\"〇\",登録名簿!$C$57,\"\")","v":""},{"$f":"IF(登録名簿!$AF$57=\"〇\",OFFSET(登録名簿!$C$57,0,2,,),\"\")","v":""},{"$f":"IF(登録名簿!$AF$57=\"〇\",OFFSET(登録名簿!$C$57,0,4,,),\"\")","v":""},null,null,null,null,null,null,null,null,null,null,null,null,null,null,null,null,null,null,null,null,null,null,null,null,{"$f":"IF(登録名簿!$AG$57=\"〇\",登録名簿!$C$57,\"\")","v":""},{"$f":"IF(登録名簿!$AG$57=\"〇\",OFFSET(登録名簿!$C$57,0,2,,),\"\")","v":""},{"$f":"IF(登録名簿!$AG$57=\"〇\",OFFSET(登録名簿!$C$57,0,4,,),\"\")","v":""},null,null,null,null,null,null,null,null,null,null,null,null,null,null,null,null,null,null,null,null,null,null,47,null,{"$f":"IF(登録名簿!$AH$57=\"〇\",登録名簿!$C$57,\"\")","v":""},{"$f":"IF(登録名簿!$AH$57=\"〇\",OFFSET(登録名簿!$C$57,0,2,,),\"\")","v":""},{"$f":"IF(登録名簿!$AH$57=\"〇\",OFFSET(登録名簿!$C$57,0,4,,),\"\")","v":""},null,null,null,null,null,null,null,null,null,null,null,null,null,null,null,null,null,null,null,null,null,null,47,null,{"$f":"IF(登録名簿!$AI$57=\"〇\",登録名簿!$C$57,\"\")","v":""},{"$f":"IF(登録名簿!$AI$57=\"〇\",OFFSET(登録名簿!$C$57,0,2,,),\"\")","v":""},{"$f":"IF(登録名簿!$AI$57=\"〇\",OFFSET(登録名簿!$C$57,0,4,,),\"\")","v":""}]
[null,48,null,{"$f":"IF(登録名簿!$AF$58=\"〇\",登録名簿!$C$58,\"\")","v":""},{"$f":"IF(登録名簿!$AF$58=\"〇\",OFFSET(登録名簿!$C$58,0,2,,),\"\")","v":""},{"$f":"IF(登録名簿!$AF$58=\"〇\",OFFSET(登録名簿!$C$58,0,4,,),\"\")","v":""},null,null,null,null,null,null,null,null,null,null,null,null,null,null,null,null,null,null,null,null,null,null,null,null,{"$f":"IF(登録名簿!$AG$58=\"〇\",登録名簿!$C$58,\"\")","v":""},{"$f":"IF(登録名簿!$AG$58=\"〇\",OFFSET(登録名簿!$C$58,0,2,,),\"\")","v":""},{"$f":"IF(登録名簿!$AG$58=\"〇\",OFFSET(登録名簿!$C$58,0,4,,),\"\")","v":""},null,null,null,null,null,null,null,null,null,null,null,null,null,null,null,null,null,null,null,null,null,null,48,null,{"$f":"IF(登録名簿!$AH$58=\"〇\",登録名簿!$C$58,\"\")","v":""},{"$f":"IF(登録名簿!$AH$58=\"〇\",OFFSET(登録名簿!$C$58,0,2,,),\"\")","v":""},{"$f":"IF(登録名簿!$AH$58=\"〇\",OFFSET(登録名簿!$C$58,0,4,,),\"\")","v":""},null,null,null,null,null,null,null,null,null,null,null,null,null,null,null,null,null,null,null,null,null,null,48,null,{"$f":"IF(登録名簿!$AI$58=\"〇\",登録名簿!$C$58,\"\")","v":""},{"$f":"IF(登録名簿!$AI$58=\"〇\",OFFSET(登録名簿!$C$58,0,2,,),\"\")","v":""},{"$f":"IF(登録名簿!$AI$58=\"〇\",OFFSET(登録名簿!$C$58,0,4,,),\"\")","v":""}]
[null,49,null,{"$f":"IF(登録名簿!$AF$59=\"〇\",登録名簿!$C$59,\"\")","v":""},{"$f":"IF(登録名簿!$AF$59=\"〇\",OFFSET(登録名簿!$C$59,0,2,,),\"\")","v":""},{"$f":"IF(登録名簿!$AF$59=\"〇\",OFFSET(登録名簿!$C$59,0,4,,),\"\")","v":""},null,null,null,null,null,null,null,null,null,null,null,null,null,null,null,null,null,null,null,null,null,null,null,null,{"$f":"IF(登録名簿!$AG$59=\"〇\",登録名簿!$C$59,\"\")","v":""},{"$f":"IF(登録名簿!$AG$59=\"〇\",OFFSET(登録名簿!$C$59,0,2,,),\"\")","v":""},{"$f":"IF(登録名簿!$AG$59=\"〇\",OFFSET(登録名簿!$C$59,0,4,,),\"\")","v":""},null,null,null,null,null,null,null,null,null,null,null,null,null,null,null,null,null,null,null,null,null,null,49,null,{"$f":"IF(登録名簿!$AH$59=\"〇\",登録名簿!$C$59,\"\")","v":""},{"$f":"IF(登録名簿!$AH$59=\"〇\",OFFSET(登録名簿!$C$59,0,2,,),\"\")","v":""},{"$f":"IF(登録名簿!$AH$59=\"〇\",OFFSET(登録名簿!$C$59,0,4,,),\"\")","v":""},null,null,null,null,null,null,null,null,null,null,null,null,null,null,null,null,null,null,null,null,null,null,49,null,{"$f":"IF(登録名簿!$AI$59=\"〇\",登録名簿!$C$59,\"\")","v":""},{"$f":"IF(登録名簿!$AI$59=\"〇\",OFFSET(登録名簿!$C$59,0,2,,),\"\")","v":""},{"$f":"IF(登録名簿!$AI$59=\"〇\",OFFSET(登録名簿!$C$59,0,4,,),\"\")","v":""}]
[null,50,null,{"$f":"IF(登録名簿!$AF$60=\"〇\",登録名簿!$C$60,\"\")","v":""},{"$f":"IF(登録名簿!$AF$60=\"〇\",OFFSET(登録名簿!$C$60,0,2,,),\"\")","v":""},{"$f":"IF(登録名簿!$AF$60=\"〇\",OFFSET(登録名簿!$C$60,0,4,,),\"\")","v":""},null,null,null,null,null,null,null,null,null,null,null,null,null,null,null,null,null,null,null,null,null,null,null,null,{"$f":"IF(登録名簿!$AG$60=\"〇\",登録名簿!$C$60,\"\")","v":""},{"$f":"IF(登録名簿!$AG$60=\"〇\",OFFSET(登録名簿!$C$60,0,2,,),\"\")","v":""},{"$f":"IF(登録名簿!$AG$60=\"〇\",OFFSET(登録名簿!$C$60,0,4,,),\"\")","v":""},null,null,null,null,null,null,null,null,null,null,null,null,null,null,null,null,null,null,null,null,null,null,50,null,{"$f":"IF(登録名簿!$AH$60=\"〇\",登録名簿!$C$60,\"\")","v":""},{"$f":"IF(登録名簿!$AH$60=\"〇\",OFFSET(登録名簿!$C$60,0,2,,),\"\")","v":""},{"$f":"IF(登録名簿!$AH$60=\"〇\",OFFSET(登録名簿!$C$60,0,4,,),\"\")","v":""},null,null,null,null,null,null,null,null,null,null,null,null,null,null,null,null,null,null,null,null,null,null,50,null,{"$f":"IF(登録名簿!$AI$60=\"〇\",登録名簿!$C$60,\"\")","v":""},{"$f":"IF(登録名簿!$AI$60=\"〇\",OFFSET(登録名簿!$C$60,0,2,,),\"\")","v":""},{"$f":"IF(登録名簿!$AI$60=\"〇\",OFFSET(登録名簿!$C$60,0,4,,),\"\")","v":""}]
[null,"ＮＯ記入注意",null,"監督・コーチ・マネージャーは黄色いところにクラブ登録名簿の左端ＮＯを入れる",null,null,null,null,null,null,null,null,null,null,null,null,null,null,null,null,null,null,null,null,null,null,null,null,"ＮＯ記入注意",null,"監督・コーチ・マネージャーは黄色いところにクラブ登録名簿の左端ＮＯを入れる",null,null,null,null,null,null,null,null,null,null,null,null,null,null,null,null,null,null,null,null,null,null,null,null,"ＮＯ記入注意",null,"監督・コーチ・マネージャーは黄色いところにクラブ登録名簿の左端ＮＯを入れる",null,null,null,null,null,null,null,null,null,null,null,null,null,null,null,null,null,null,null,null,null,null,null,null,"ＮＯ記入注意",null,"監督・コーチ・マネージャーは黄色いところにクラブ登録名簿の左端ＮＯを入れる"]
[null,"ＮＯ記入注意",null,"主審、副審、記録係は水色のところにクラブ登録名簿の左端NOを入れる。",null,null,null,null,null,null,null,null,null,null,null,null,null,null,null,null,null,null,null,null,null,null,null,null,"ＮＯ記入注意",null,"主審、副審、記録係は水色のところにクラブ登録名簿の左端NOを入れる。",null,null,null,null,null,null,null,null,null,null,null,null,null,null,null,null,null,null,null,null,null,null,null,null,"ＮＯ記入注意",null,"主審、副審、記録係は水色のところにクラブ登録名簿の左端NOを入れる。",null,null,null,null,null,null,null,null,null,null,null,null,null,null,null,null,null,null,null,null,null,null,null,null,"ＮＯ記入注意",null,"主審、副審、記録係は水色のところにクラブ登録名簿の左端NOを入れる。"]